BEGIN:VCALENDAR
VERSION:2.0
PRODID:-//BLOXHUB - ECPv6.15.20//NONSGML v1.0//EN
CALSCALE:GREGORIAN
METHOD:PUBLISH
X-WR-CALNAME:BLOXHUB
X-ORIGINAL-URL:https://bloxhub.org
X-WR-CALDESC:Events for BLOXHUB
REFRESH-INTERVAL;VALUE=DURATION:PT1H
X-Robots-Tag:noindex
X-PUBLISHED-TTL:PT1H
BEGIN:VTIMEZONE
TZID:Europe/Copenhagen
BEGIN:DAYLIGHT
TZOFFSETFROM:+0100
TZOFFSETTO:+0200
TZNAME:CEST
DTSTART:20250330T010000
END:DAYLIGHT
BEGIN:STANDARD
TZOFFSETFROM:+0200
TZOFFSETTO:+0100
TZNAME:CET
DTSTART:20251026T010000
END:STANDARD
BEGIN:DAYLIGHT
TZOFFSETFROM:+0100
TZOFFSETTO:+0200
TZNAME:CEST
DTSTART:20260329T010000
END:DAYLIGHT
BEGIN:STANDARD
TZOFFSETFROM:+0200
TZOFFSETTO:+0100
TZNAME:CET
DTSTART:20261025T010000
END:STANDARD
BEGIN:DAYLIGHT
TZOFFSETFROM:+0100
TZOFFSETTO:+0200
TZNAME:CEST
DTSTART:20270328T010000
END:DAYLIGHT
BEGIN:STANDARD
TZOFFSETFROM:+0200
TZOFFSETTO:+0100
TZNAME:CET
DTSTART:20271031T010000
END:STANDARD
END:VTIMEZONE
BEGIN:VEVENT
DTSTART;TZID=Europe/Copenhagen:20260424T160000
DTEND;TZID=Europe/Copenhagen:20260424T180000
DTSTAMP:20260424T014307
CREATED:20260423T064728Z
LAST-MODIFIED:20260423T065302Z
UID:43753-1777046400-1777053600@bloxhub.org
SUMMARY:Friday Bar
DESCRIPTION:Drop in for a beer\, Noda or wine and a cozy chat with familiar faces in the house.\nNo agenda – just good company 🙌
URL:https://bloxhub.org/event/friday-bar-2/
LOCATION:BLOXHUB\, Bryghuspladsen 8\, 3rd floor\, København K\, 1473
CATEGORIES:Free event
ATTACH;FMTTYPE=image/png:https://bloxhub.org/wp-content/uploads/2026/04/Slide-16_9-94-e1776927173324.png
END:VEVENT
END:VCALENDAR