BEGIN:VCALENDAR
VERSION:2.0
PRODID:-//BLOXHUB - ECPv6.15.18//NONSGML v1.0//EN
CALSCALE:GREGORIAN
METHOD:PUBLISH
X-WR-CALNAME:BLOXHUB
X-ORIGINAL-URL:https://bloxhub.org
X-WR-CALDESC:Events for BLOXHUB
REFRESH-INTERVAL;VALUE=DURATION:PT1H
X-Robots-Tag:noindex
X-PUBLISHED-TTL:PT1H
BEGIN:VTIMEZONE
TZID:Europe/Copenhagen
BEGIN:DAYLIGHT
TZOFFSETFROM:+0100
TZOFFSETTO:+0200
TZNAME:CEST
DTSTART:20220327T010000
END:DAYLIGHT
BEGIN:STANDARD
TZOFFSETFROM:+0200
TZOFFSETTO:+0100
TZNAME:CET
DTSTART:20221030T010000
END:STANDARD
BEGIN:DAYLIGHT
TZOFFSETFROM:+0100
TZOFFSETTO:+0200
TZNAME:CEST
DTSTART:20230326T010000
END:DAYLIGHT
BEGIN:STANDARD
TZOFFSETFROM:+0200
TZOFFSETTO:+0100
TZNAME:CET
DTSTART:20231029T010000
END:STANDARD
BEGIN:DAYLIGHT
TZOFFSETFROM:+0100
TZOFFSETTO:+0200
TZNAME:CEST
DTSTART:20240331T010000
END:DAYLIGHT
BEGIN:STANDARD
TZOFFSETFROM:+0200
TZOFFSETTO:+0100
TZNAME:CET
DTSTART:20241027T010000
END:STANDARD
END:VTIMEZONE
BEGIN:VEVENT
DTSTART;TZID=Europe/Copenhagen:20230303T100000
DTEND;TZID=Europe/Copenhagen:20230303T163000
DTSTAMP:20260422T183539
CREATED:20230220T083630Z
LAST-MODIFIED:20230220T093711Z
UID:29866-1677837600-1677861000@bloxhub.org
SUMMARY:Can Public Tenders contribute to promoting Diversity and Creativity in Construction?
DESCRIPTION:Together with Arkitektforeningen we invite stakeholders from across the construction industry to join us for a discussion about which framework strengthens innovation\, the quality of the built environment\, and the client’s need for risk management. We will take a deep dive into the following questions: \nHow is the process between politicians\, developers\, and architects simplified and expectations aligned? \nHow should competence requirements be set out in the tender material to ensure architectural quality\, diversity\, and innovation? \nWhat assessment criteria can be established to judge architectural quality and creativity? \nHow do we get better at handling risk in practice\, and what could this mean for the tender framework and the conditions? \nHow to promote collaboration\, trust-building\, and a more iterative process between provider and bidder in the tender framework? \n___ \nPlease contact BLOXHUB Program Director Lotte C. Breengaard for further information on how to apply: +45 2268 4643 / lcb@bloxhub.org_____ \nNB: The workshop is in Danish \n 
URL:https://bloxhub.org/event/can-public-tenders-contribute-to-promoting-diversity-and-creativity-in-construction-for-the-good-of-all/
LOCATION:BLOXHUB LA\, Fæstningens Materialgård\, Frederiksholms Kanal 30\, Copenhagen\, 1220\, Danmark
CATEGORIES:Free event,Workshop
ATTACH;FMTTYPE=image/jpeg:https://bloxhub.org/wp-content/uploads/2023/02/Offentlige-udbud_web-header.jpg
END:VEVENT
BEGIN:VEVENT
DTSTART;TZID=Europe/Copenhagen:20230303T120000
DTEND;TZID=Europe/Copenhagen:20230303T160000
DTSTAMP:20260422T183539
CREATED:20230202T131126Z
LAST-MODIFIED:20230302T103745Z
UID:29425-1677844800-1677859200@bloxhub.org
SUMMARY:U.S & the Nordics: Commercial Opportunities within Mass Timber\, Industrialized Construction\, and Tech
DESCRIPTION:Side Event to the AEC Hackathon \nJoin us when we hack future collaborations between the Nordics and the US mass timer construction markets. \nTake part as we delve into the future of wood and industrialized construction with keynotes and panel discussions from industry leaders. \n3 March 2023 at 12 – 4pm  at BLOXHUB. \nThe event schedule is as follows: \n12.00-12.20 Intro and welcome by Greg Howes\, Cut My Timber\, and Peder Fynholm\, Build in Wood \n12.20-13.30 Keynotes and Cases\, featuring presentations from Martin Stenberg Ringnér of Henning Larsen\, Stefan Abrahamsson of Lindner Scandinavia\, Steve Marshall of Mass Timber Strategy\, Fabian Scheurer of Design to Production\, and Enlai Hooi of SHL. \n13:30-13:45 Break \n13:45-14:00 Talk by Helena Lidelöw\, Chief Technology Officer at VBC\, Volumetric Building Companies \n14:00-15:00 Panel discussion on “How can we further link the Mass Timber and industrialized construction ecosystems in the Nordic and the US to create more opportunities for everyone?” The Panel is moderated by Greg Howes\, Cut My Timber\, and consists of; Martin Stenberg Ringnér\, Henning Larsen\, Stefan Abrahamsson\, Lindner Scandinavia\, Steve Marshall\, Mass Timber Strategy\, Enlai Hooi\, SHL\, and Fabian Scheurer\, Design to Production. \n15.00-16.00 Networking and beverages sponsored by Lindner Scandinavia. \n______ \nThis is a unique opportunity to hear from experts in the field and engage in discussions. \nIf you have any questions\, do not hesitate to reach out to Torben Klitgaard (tkl@bloxhub.org). \nThis event will be live streamed and free of charge. \nPlease sign up here:
URL:https://bloxhub.org/event/aec-hackathon-pre-event/
LOCATION:BLOXHUB or ONLINE\, Bryghuspladsen 8\, 3rd floor\, Copenhagen\, 1473\, Denmark
CATEGORIES:Debate,Free event,Open
ATTACH;FMTTYPE=image/png:https://bloxhub.org/wp-content/uploads/2023/02/AEC_Pre-event_Thumbnail_2023_Tegnebraet-1-2.png
END:VEVENT
BEGIN:VEVENT
DTSTART;TZID=Europe/Copenhagen:20230310T090000
DTEND;TZID=Europe/Copenhagen:20230310T163000
DTSTAMP:20260422T183539
CREATED:20230217T122101Z
LAST-MODIFIED:20230217T122101Z
UID:29857-1678438800-1678465800@bloxhub.org
SUMMARY:Biophilic Design - From Research to Practice
DESCRIPTION:Together with NJORD\, BLOXHUB invites you to a workshop on biophilic design – a method\, whose fundamental aim is to create good habitats by promoting connectivity between humans and our natural environment. Biophilic design can thus be an effective intervention to improve our health. \nBut how do we translate the available evidence-based research into urban designs that actually work? The effectiveness of biophilic design depends on interventions that are connected\, complementary\, and integrated into the built environment rather than isolated or transient interventions. \nAt the workshop\, we will work on identifying measures for a more holistic adaptation of the biophilic method in our buildings and cities and discuss what measures are needed to create a symbiosis between it available knowledge/research and our urban design solutions. \nPlease contact BLOXHUB Program Director Lotte C. Breengaard for further information on how to apply: +45 2268 4643 / lcb@bloxhub.org \n_____ \nNB: The workshop is in Danish
URL:https://bloxhub.org/event/biophilic-design-from-research-to-practice/
LOCATION:BLOXHUB LA\, Fæstningens Materialgård\, Frederiksholms Kanal 30\, Copenhagen\, 1220\, Danmark
CATEGORIES:Free event,Workshop
ATTACH;FMTTYPE=image/jpeg:https://bloxhub.org/wp-content/uploads/2023/02/Biophilic_Design_web-header.jpg
END:VEVENT
END:VCALENDAR