BEGIN:VCALENDAR
VERSION:2.0
PRODID:-//BLOXHUB - ECPv6.15.18//NONSGML v1.0//EN
CALSCALE:GREGORIAN
METHOD:PUBLISH
X-ORIGINAL-URL:https://bloxhub.org
X-WR-CALDESC:Events for BLOXHUB
REFRESH-INTERVAL;VALUE=DURATION:PT1H
X-Robots-Tag:noindex
X-PUBLISHED-TTL:PT1H
BEGIN:VTIMEZONE
TZID:Europe/Copenhagen
BEGIN:DAYLIGHT
TZOFFSETFROM:+0100
TZOFFSETTO:+0200
TZNAME:CEST
DTSTART:20220327T010000
END:DAYLIGHT
BEGIN:STANDARD
TZOFFSETFROM:+0200
TZOFFSETTO:+0100
TZNAME:CET
DTSTART:20221030T010000
END:STANDARD
BEGIN:DAYLIGHT
TZOFFSETFROM:+0100
TZOFFSETTO:+0200
TZNAME:CEST
DTSTART:20230326T010000
END:DAYLIGHT
BEGIN:STANDARD
TZOFFSETFROM:+0200
TZOFFSETTO:+0100
TZNAME:CET
DTSTART:20231029T010000
END:STANDARD
BEGIN:DAYLIGHT
TZOFFSETFROM:+0100
TZOFFSETTO:+0200
TZNAME:CEST
DTSTART:20240331T010000
END:DAYLIGHT
BEGIN:STANDARD
TZOFFSETFROM:+0200
TZOFFSETTO:+0100
TZNAME:CET
DTSTART:20241027T010000
END:STANDARD
END:VTIMEZONE
BEGIN:VEVENT
DTSTART;TZID=Europe/Copenhagen:20230615T083000
DTEND;TZID=Europe/Copenhagen:20230615T100000
DTSTAMP:20260422T125713
CREATED:20230523T142011Z
LAST-MODIFIED:20230614T135744Z
UID:30769-1686817800-1686823200@bloxhub.org
SUMMARY:International Day of Yoga – Free Yoga Class w/ Taruna Arora
DESCRIPTION:Canceled\nCome join us as we celebrate International Yoga Day with a rejuvenating morning of yoga. \nThis worldwide event\, observed on the 21st of June as the International Day of Yoga (but celebrated on the 15th at BLOXHUB) aims to raise awareness about yoga’s benefits to our physical\, mental\, and spiritual well-being. \nThis year Taruna Arora – an esteemed Hatha Yoga teacher from India associated with the Indian Embassy\, will lead a free yoga session at BLOXHUB. \nDuring this yoga session\, you will have the opportunity to learn a breathing technique that alleviates anxiety and give you a deep sense of peace throughout the day. The practice can be done on your own afterward. \nTaruna Arora\, with her extensive background in yoga\, having completed our 1\,700 hours of theoretical and practical training\, is dedicated to sharing the ancient wisdom of yoga with the world. Regular yoga practice is said to enhance your flexibility\, strength\, balance\, concentration\, and stress reduction. A perfect antidote for those of us with an office or desk job. \nNo prior yoga experience is required to participate\, but please note that we kindly request that you bring your own yoga mat! \nWater to keep you hydrated throughout the session will be provided. \nNo need to register for this event. \nVenue: Los Angeles.
URL:https://bloxhub.org/event/international-day-of-yoga-free-yoga-class-w-taruna-arora/
CATEGORIES:Free event
END:VEVENT
BEGIN:VEVENT
DTSTART;TZID=Europe/Copenhagen:20230615T121500
DTEND;TZID=Europe/Copenhagen:20230615T130000
DTSTAMP:20260422T125713
CREATED:20230606T110513Z
LAST-MODIFIED:20230609T111838Z
UID:30842-1686831300-1686834000@bloxhub.org
SUMMARY:Move Over! Creating Space for Biodiversity in the City
DESCRIPTION:Join us at The People’s Meeting when our CEO Torben Klitgaard discusses how to reverse the biodiversity crisis with a great panel at Folkemødets Fællesscene. \nHumans are creatures of habit. But In a world where lawns and flowerbeds have become the norm\, it’s time to break free from our habitual ways and embrace the untamed nature right at our doorstep. \nSo – given the current biodiversity crisis\, how do we rethink our urban spaces? And what should nature in the cities look like? \nJoin us for this discussion on how to reverse the biodiversity crises and what it takes to reintroduce nature in the city. \n\n\n \nModerator: Signe Wenneberg \n\nPanel:\n\n\nSisse Norman Canguilhem\, CCO\, Rådet for Bæredygtigt Byggeri\n\nMike Ameko Lippert\, Strategy Director\, SLA\n\nStine Johansen\, CEO\, KL – Kommunernes Landsforening\n\nTorben Klitgaard\, CEO\, BLOXHUB\n\n \n\n\n  \n 
URL:https://bloxhub.org/event/move-over-creating-space-for-biodiversity-in-the-city/
CATEGORIES:Debate,Free event,Open
ATTACH;FMTTYPE=image/jpeg:https://bloxhub.org/wp-content/uploads/2023/06/Folkemoedet_Bio.jpeg
END:VEVENT
BEGIN:VEVENT
DTSTART;TZID=Europe/Copenhagen:20230615T151500
DTEND;TZID=Europe/Copenhagen:20230615T160000
DTSTAMP:20260422T125713
CREATED:20230612T121515Z
LAST-MODIFIED:20230613T083038Z
UID:31004-1686842100-1686844800@bloxhub.org
SUMMARY:Is There Space for Nature?
DESCRIPTION:Join us for a Discussion on Space\, Nature in the Cities\, and Biodiversity at this year’s Folkemøde – The People’s Meeting 2023 at the island of Bornholm. \nThere is strong competition for space between nature and social/health-related domains. When planning our cities and towns\, should we prioritize preserving space for nature over other factors? \n–  Is there enough room to accommodate it all?\n– Are certain aspects more important than others?\n– Can we create synergies among the domain areas? \nThese questions are up for debate when Torben Klitgaard and a panel of strong green minds meet at the Nature Base Stage during The People’s Meeting. \nJesper Malm\, Head of Communication at The Danish Association of Construction Clients\, will moderate the discussion. \nPanel: Morten Dohrmann Hansen \, CEO of idverde DK; Susanne Grunkin \, Creative Director at Arkitema; Stine Lea Jacobi\, Program Director at Realdania; and Line Stybe Vestergaard\, Partner at JUUL FROST ARKITEKTER. \nWhen: Thursday\, June 15th\,  Time: 15:15 to 16:00.\nWhere: Nature Base Stage\, H2 Ydermolen\, Allinge Harbor. \nYou will find the Nature Base Scene onboard the ship Ester Jensen. \nPhoto: Palle Knudsen
URL:https://bloxhub.org/event/is-there-space-for-nature/
CATEGORIES:Debate,Free event,Open
ATTACH;FMTTYPE=image/png:https://bloxhub.org/wp-content/uploads/2023/06/Folkemoede_BLOXHUB_Space-for-nature.png
END:VEVENT
BEGIN:VEVENT
DTSTART;TZID=Europe/Copenhagen:20230616T170000
DTEND;TZID=Europe/Copenhagen:20230616T170000
DTSTAMP:20260422T125713
CREATED:20230612T121200Z
LAST-MODIFIED:20230613T084609Z
UID:30998-1686934800-1686934800@bloxhub.org
SUMMARY:Urban Development Partnerships - the Key to Global Growth?
DESCRIPTION:How can we become even better at cultivating and strengthening more partnerships between start-ups and established companies to increase Danish export success? \nDenmark has a unique position in sustainable urban development\, and businesses and startups of all sizes contribute to its success. \nBut what if we could optimize the interaction and cross-pollination between innovative entrepreneurial projects and more established and experienced companies? \nJoin us as our CEO\, Torben Klitgaard\, and an enthusiastic panel discuss how we can collectively solve global problems while creating economic growth. \nTorben will share his perspective on developing successful interdisciplinary\, international partnerships in a world with complex challenges. \nMeet also panelists: Kasper Eich-Romme from GoBoat & SEANICS\, Gustav Brade from Henning Larsen & Jacob Fjalland from WWF Verdensnaturfonden / WWF Denmark \nThis talk is part of The People’s Meeting (Folkemøde 2023) and will be moderated by Thomas Fokdal\, Copenhagen Windows. \nWhen: 16 June 17:00-17:45\nWhere: Iværksætterskibet\, Inner Harbour\, Allinge\, Bornholm. \nWe are looking very much forward to seeing you! \nCarlsberg Familien
URL:https://bloxhub.org/event/urban-development-partnerships-the-key-to-global-growth/
CATEGORIES:Debate,Free event,Open
ATTACH;FMTTYPE=image/png:https://bloxhub.org/wp-content/uploads/2023/06/Folkemoede_BLOXHUB_Urban-Development.png
END:VEVENT
END:VCALENDAR