BEGIN:VCALENDAR
VERSION:2.0
PRODID:-//BLOXHUB - ECPv6.15.18//NONSGML v1.0//EN
CALSCALE:GREGORIAN
METHOD:PUBLISH
X-ORIGINAL-URL:https://bloxhub.org
X-WR-CALDESC:Events for BLOXHUB
REFRESH-INTERVAL;VALUE=DURATION:PT1H
X-Robots-Tag:noindex
X-PUBLISHED-TTL:PT1H
BEGIN:VTIMEZONE
TZID:Europe/Copenhagen
BEGIN:DAYLIGHT
TZOFFSETFROM:+0100
TZOFFSETTO:+0200
TZNAME:CEST
DTSTART:20230326T010000
END:DAYLIGHT
BEGIN:STANDARD
TZOFFSETFROM:+0200
TZOFFSETTO:+0100
TZNAME:CET
DTSTART:20231029T010000
END:STANDARD
BEGIN:DAYLIGHT
TZOFFSETFROM:+0100
TZOFFSETTO:+0200
TZNAME:CEST
DTSTART:20240331T010000
END:DAYLIGHT
BEGIN:STANDARD
TZOFFSETFROM:+0200
TZOFFSETTO:+0100
TZNAME:CET
DTSTART:20241027T010000
END:STANDARD
BEGIN:DAYLIGHT
TZOFFSETFROM:+0100
TZOFFSETTO:+0200
TZNAME:CEST
DTSTART:20250330T010000
END:DAYLIGHT
BEGIN:STANDARD
TZOFFSETFROM:+0200
TZOFFSETTO:+0100
TZNAME:CET
DTSTART:20251026T010000
END:STANDARD
END:VTIMEZONE
BEGIN:VEVENT
DTSTART;TZID=Europe/Copenhagen:20240313T140000
DTEND;TZID=Europe/Copenhagen:20240313T160000
DTSTAMP:20260419T194859
CREATED:20240223T113712Z
LAST-MODIFIED:20240228T224725Z
UID:34671-1710338400-1710345600@bloxhub.org
SUMMARY:Book Release: BiodiversitetsTaktik by Lotte Nystrup Lund
DESCRIPTION:Join us as we unveil Denmark’s first Biodiversity Tactic guiding urban actors to understand and enhance biodiversity in urban landscapes. \nBased on three years of meticulous PhD research\, Lotte Nystrup Lund’s book “BiodiversitetsTaktik” has been crafted in collaboration with various stakeholders\, ranging from biologists and architects to protesting citizens and international researchers. \nAt this event\, Lotte Nystrup Lund will introduce her work and unveil key insights on the topics of biodiversity and urban development. \nJoining her will be distinguished guests\, Agronomist Hanne Gundersen\, delving into the realm of soil and microorganisms\, and Urban Development Manager Rita Justesen\, reflecting on biodiversity in urban development. \nFilled with illustrative photos from around the world and beautifully illustrated by designer Maria Hagerup\, BiodiversitetsTaktik promises to explore a myriad of topics\, including: \n\nAn exploration of biodiversity and ecosystems\nUnderstanding Danes views on ‘nature’ and ‘biodiversity’\nTen compelling reasons to integrate biodiversity into urban development\nUnlocking the potential of cities as habitats for diverse species and ecosystem contributors\nA comprehensive overview of nine  essential biodiversity themes\n\nAll attendees will receive a complimentary link to an online version of “BiodiversitetsTaktik.” A limited number of printed copies will be available for those desiring a tangible keepsake\, generously provided with support from Realdania. \nNetworking and refreshments follow the dialogue. \nPlease note that the book and the event are in Danish. \nLocation: BLOXHUB\, Los Angeles  in Fæstningen Materialgård (the yellow building)\, Bryghuspladsen\, København K \nSupported by Innovation Fund Denmark\, Realdania\, and By & Havn\, “BiodiversitetsTaktik” is part of Lotte Nystrup Lund’s PhD project named “Biocities of the Future” conducted in collaboration with the Institute of Architecture\, Urbanism and Landscape at the Royal Danish Academy and By & Havn. \nSign up link below:
URL:https://bloxhub.org/event/book-release-biodiversitetstaktik-by-lotte-nystrup-lund/
CATEGORIES:Free event
ATTACH;FMTTYPE=image/jpeg:https://bloxhub.org/wp-content/uploads/2024/02/Tactic-bioguide-for-urban-development85.jpg
END:VEVENT
END:VCALENDAR