BEGIN:VCALENDAR
VERSION:2.0
PRODID:-//BLOXHUB - ECPv6.15.18//NONSGML v1.0//EN
CALSCALE:GREGORIAN
METHOD:PUBLISH
X-WR-CALNAME:BLOXHUB
X-ORIGINAL-URL:https://bloxhub.org
X-WR-CALDESC:Events for BLOXHUB
REFRESH-INTERVAL;VALUE=DURATION:PT1H
X-Robots-Tag:noindex
X-PUBLISHED-TTL:PT1H
BEGIN:VTIMEZONE
TZID:Europe/Copenhagen
BEGIN:DAYLIGHT
TZOFFSETFROM:+0100
TZOFFSETTO:+0200
TZNAME:CEST
DTSTART:20230326T010000
END:DAYLIGHT
BEGIN:STANDARD
TZOFFSETFROM:+0200
TZOFFSETTO:+0100
TZNAME:CET
DTSTART:20231029T010000
END:STANDARD
BEGIN:DAYLIGHT
TZOFFSETFROM:+0100
TZOFFSETTO:+0200
TZNAME:CEST
DTSTART:20240331T010000
END:DAYLIGHT
BEGIN:STANDARD
TZOFFSETFROM:+0200
TZOFFSETTO:+0100
TZNAME:CET
DTSTART:20241027T010000
END:STANDARD
BEGIN:DAYLIGHT
TZOFFSETFROM:+0100
TZOFFSETTO:+0200
TZNAME:CEST
DTSTART:20250330T010000
END:DAYLIGHT
BEGIN:STANDARD
TZOFFSETFROM:+0200
TZOFFSETTO:+0100
TZNAME:CET
DTSTART:20251026T010000
END:STANDARD
END:VTIMEZONE
BEGIN:VEVENT
DTSTART;TZID=Europe/Copenhagen:20240429T133000
DTEND;TZID=Europe/Copenhagen:20240429T150000
DTSTAMP:20260419T175422
CREATED:20240228T131422Z
LAST-MODIFIED:20240425T083726Z
UID:34848-1714397400-1714402800@bloxhub.org
SUMMARY:Annual General Meeting 2024
DESCRIPTION:Please join us for BLOXHUB’s Annual General Meeting.\nAll members are invited and have the right to vote. It is possible to participate and vote in person or online. \nAgenda \n\nElection of Moderator.\n\n\nThe Board’s report on the Association’s activities in 2023.\n\n\nPresentation of the audited Annual Report for approval.\n\n\nProposals submitted by the Board or the Association’s members.\n\n4.1. The Board’s proposal for amendments to the Articles of Association \n5.1 Information regarding the appointment of board members. \n5.2 Election of board members\, c.f. the Articles of the Association 5.01.02 \n5.3 Election of board member\, c.f. the Articles of the Association 5.01.03. \n5.4 Election of board member\, c.f. the Articles of the Association 5.01.04. \n5.5 Election of board members c.f. the Articles of the Association 5.01.05. \n\nElection of auditor.\n\n\nAny other business.\n\nPlease find the Annual Report 2023 HERE \nSign up here:
URL:https://bloxhub.org/event/annual-general-meeting-2024/
CATEGORIES:Free event,Members Only
ATTACH;FMTTYPE=image/jpeg:https://bloxhub.org/wp-content/uploads/2024/02/5JMG9NW4.jpeg
END:VEVENT
BEGIN:VEVENT
DTSTART;TZID=Europe/Copenhagen:20240429T170000
DTEND;TZID=Europe/Copenhagen:20240429T190000
DTSTAMP:20260419T175422
CREATED:20240424T052236Z
LAST-MODIFIED:20240424T052448Z
UID:35483-1714410000-1714417200@bloxhub.org
SUMMARY:Sway to Smooth Jazz
DESCRIPTION:29 April 2024  is reserved for our annual meeting\, which will be followed by a keynote on wicket problems with Sigge Winther Nielsen. To conclude the day\, we invite you to unwind with smooth live jazz and a selection of wines. \n Save the day and join us for an evening with live jazz band\, Swingklubben.  \nAt Member’s Lounge starting at 17:00.
URL:https://bloxhub.org/event/sway-to-smooth-jazz/
CATEGORIES:Free event
ATTACH;FMTTYPE=image/jpeg:https://bloxhub.org/wp-content/uploads/2024/04/event_linkedIn-jazz23.jpg
END:VEVENT
END:VCALENDAR