BEGIN:VCALENDAR
VERSION:2.0
PRODID:-//BLOXHUB - ECPv6.15.20//NONSGML v1.0//EN
CALSCALE:GREGORIAN
METHOD:PUBLISH
X-ORIGINAL-URL:https://bloxhub.org
X-WR-CALDESC:Events for BLOXHUB
REFRESH-INTERVAL;VALUE=DURATION:PT1H
X-Robots-Tag:noindex
X-PUBLISHED-TTL:PT1H
BEGIN:VTIMEZONE
TZID:Europe/Copenhagen
BEGIN:DAYLIGHT
TZOFFSETFROM:+0100
TZOFFSETTO:+0200
TZNAME:CEST
DTSTART:20180325T010000
END:DAYLIGHT
BEGIN:STANDARD
TZOFFSETFROM:+0200
TZOFFSETTO:+0100
TZNAME:CET
DTSTART:20181028T010000
END:STANDARD
BEGIN:DAYLIGHT
TZOFFSETFROM:+0100
TZOFFSETTO:+0200
TZNAME:CEST
DTSTART:20190331T010000
END:DAYLIGHT
BEGIN:STANDARD
TZOFFSETFROM:+0200
TZOFFSETTO:+0100
TZNAME:CET
DTSTART:20191027T010000
END:STANDARD
BEGIN:DAYLIGHT
TZOFFSETFROM:+0100
TZOFFSETTO:+0200
TZNAME:CEST
DTSTART:20200329T010000
END:DAYLIGHT
BEGIN:STANDARD
TZOFFSETFROM:+0200
TZOFFSETTO:+0100
TZNAME:CET
DTSTART:20201025T010000
END:STANDARD
END:VTIMEZONE
BEGIN:VEVENT
DTSTART;TZID=Europe/Copenhagen:20191204T180000
DTEND;TZID=Europe/Copenhagen:20191204T200000
DTSTAMP:20260425T022718
CREATED:20200225T165328Z
LAST-MODIFIED:20200225T165328Z
UID:2526-1575482400-1575489600@bloxhub.org
SUMMARY:PLANNING THE SMART AND LIVEABLE CITY (PUBLIC EVENT)
DESCRIPTION:Panel discussion with Prof. Jan Gehl and Architect Tina Saaby\, moderated by Assistant Prof. Jesper Pagh \nJoin us for an interesting evening to debate what is understood by liveability in an urban context and what consequences it has when the vibrant and liveable city becomes SMART\, with two of Denmark’s leading experts in city planning Professor and Architect Jan Gehl and former City Architect of Copenhagen Tina Saaby\, moderated by Assistant Professor and Architect Jesper Pagh. The event takes place 4th of December 2019 at Fæstningens Materialgaard\, and is hosted by Aalborg University and BLOXHUB\, as a part of the EU Jean Monnet Network project CCAMEU (Cooperative\, Connected and Automated Mobility – EU and Australian Innovations). \nDate & time: Wednesday 4th of December 2019\, 6:00 PM – 8:00 PM. \nLocation: Fæstningens Materialgaard\, Frederiksholms Kanal 30\, Entrance A6\, 1220 Copenhagen. Conference room: Los Angeles. \nREGISTRATION IS CLOSED
URL:https://bloxhub.org/event/planning-the-smart-and-liveable-city-public-event/
LOCATION:BLOXHUB LA\, Fæstningens Materialgård\, Frederiksholms Kanal 30\, Copenhagen\, 1220\, Danmark
CATEGORIES:Free event,Open
END:VEVENT
BEGIN:VEVENT
DTSTART;TZID=Europe/Copenhagen:20191205T150000
DTEND;TZID=Europe/Copenhagen:20191205T170000
DTSTAMP:20260425T022718
CREATED:20200225T165534Z
LAST-MODIFIED:20200225T165534Z
UID:2528-1575558000-1575565200@bloxhub.org
SUMMARY:MATCH MAKING MEETING ON NEW RESEARCH TEAM FOCUSING ON CIRCULAR BUILDINGS
DESCRIPTION:As part of a new collaboration with the joint objectives of enhancing innovation within the construction industry Innovation Fund and Realdania are launching a new call for industrial Ph.Ds. and postdocs. \nThe joint ambition is to develop new circular solutions and new business models for circularity in the built environment.\nIn so doing the Innovation Fund and Realdania will support an applied\, cross-disciplinary research team consisting of 15 industrial researchers and their academy and company supervisors. Both private companies and public organizations can apply. The research team – that is expected to begin end 2020 – will form part of the research activities in BLOXHUB. \nAs part of Science Forum on the 5th of December we would like to invite interested to present their research idea or topic regarding the Special Industrial Researcher Call. \nIf you would like to present your idea\, please write to Science Manager Pernille Berg on pbe@bloxhub.org by Monday 2nd of December 2019. \nBLOXHUB is hosting a series of information and match making events regarding this call. This is the second event. \nSign up for the match making meeting here: http://bit.ly/32AfyzD
URL:https://bloxhub.org/event/match-making-meeting-on-new-research-team-focusing-on-circular-buildings/
LOCATION:BLOXHUB Arena\, Bryghuspladsen 8\, Entrance C\, 3rd floor\, Copenhagen\, 1473
CATEGORIES:Open,Science Forum
ATTACH;FMTTYPE=image/jpeg:https://bloxhub.org/wp-content/uploads/2020/02/1-25.jpg
END:VEVENT
END:VCALENDAR