BEGIN:VCALENDAR
VERSION:2.0
PRODID:-//BLOXHUB - ECPv6.15.20//NONSGML v1.0//EN
CALSCALE:GREGORIAN
METHOD:PUBLISH
X-ORIGINAL-URL:https://bloxhub.org
X-WR-CALDESC:Events for BLOXHUB
REFRESH-INTERVAL;VALUE=DURATION:PT1H
X-Robots-Tag:noindex
X-PUBLISHED-TTL:PT1H
BEGIN:VTIMEZONE
TZID:Europe/Copenhagen
BEGIN:DAYLIGHT
TZOFFSETFROM:+0100
TZOFFSETTO:+0200
TZNAME:CEST
DTSTART:20190331T010000
END:DAYLIGHT
BEGIN:STANDARD
TZOFFSETFROM:+0200
TZOFFSETTO:+0100
TZNAME:CET
DTSTART:20191027T010000
END:STANDARD
BEGIN:DAYLIGHT
TZOFFSETFROM:+0100
TZOFFSETTO:+0200
TZNAME:CEST
DTSTART:20200329T010000
END:DAYLIGHT
BEGIN:STANDARD
TZOFFSETFROM:+0200
TZOFFSETTO:+0100
TZNAME:CET
DTSTART:20201025T010000
END:STANDARD
BEGIN:DAYLIGHT
TZOFFSETFROM:+0100
TZOFFSETTO:+0200
TZNAME:CEST
DTSTART:20210328T010000
END:DAYLIGHT
BEGIN:STANDARD
TZOFFSETFROM:+0200
TZOFFSETTO:+0100
TZNAME:CET
DTSTART:20211031T010000
END:STANDARD
END:VTIMEZONE
BEGIN:VEVENT
DTSTART;TZID=Europe/Copenhagen:20200515T150000
DTEND;TZID=Europe/Copenhagen:20200515T163000
DTSTAMP:20260424T184046
CREATED:20200225T162712Z
LAST-MODIFIED:20200429T154211Z
UID:2501-1589554800-1589560200@bloxhub.org
SUMMARY:SCIENCE TALKS LIVE: Data-driven development in the Global South
DESCRIPTION:Data-driven development in the Global South | the power of maps \nWe are extremely happy to announce\, that ‘SCIENCE TALKS’ is going online! Join us for this first session on: \n“The informal infrastructure and how data can ensure sustainable development in the Global South”\, by Siddharth Hande as the speaker. \nSiddharth Hande is a spatial data analyst by training who lives in Chennai\, India.  He will share his experience working with communities\, mapping core and informal infrastructure and his leadership role at Kabadiwalla Connect; an award-winning social enterprise in the field of waste management. \nThis online Science Talks will be facilitated over youtube\, and you’ll receive a link after sign-up.  \nSign up here:
URL:https://bloxhub.org/event/science-talks-3/
LOCATION:ONLINE
CATEGORIES:Open
ATTACH;FMTTYPE=image/png:https://bloxhub.org/wp-content/uploads/2020/02/Linkendin_-155_7.png
END:VEVENT
END:VCALENDAR