BEGIN:VCALENDAR
VERSION:2.0
PRODID:-//BLOXHUB - ECPv6.15.20//NONSGML v1.0//EN
CALSCALE:GREGORIAN
METHOD:PUBLISH
X-WR-CALNAME:BLOXHUB
X-ORIGINAL-URL:https://bloxhub.org
X-WR-CALDESC:Events for BLOXHUB
REFRESH-INTERVAL;VALUE=DURATION:PT1H
X-Robots-Tag:noindex
X-PUBLISHED-TTL:PT1H
BEGIN:VTIMEZONE
TZID:Europe/Copenhagen
BEGIN:DAYLIGHT
TZOFFSETFROM:+0100
TZOFFSETTO:+0200
TZNAME:CEST
DTSTART:20190331T010000
END:DAYLIGHT
BEGIN:STANDARD
TZOFFSETFROM:+0200
TZOFFSETTO:+0100
TZNAME:CET
DTSTART:20191027T010000
END:STANDARD
BEGIN:DAYLIGHT
TZOFFSETFROM:+0100
TZOFFSETTO:+0200
TZNAME:CEST
DTSTART:20200329T010000
END:DAYLIGHT
BEGIN:STANDARD
TZOFFSETFROM:+0200
TZOFFSETTO:+0100
TZNAME:CET
DTSTART:20201025T010000
END:STANDARD
BEGIN:DAYLIGHT
TZOFFSETFROM:+0100
TZOFFSETTO:+0200
TZNAME:CEST
DTSTART:20210328T010000
END:DAYLIGHT
BEGIN:STANDARD
TZOFFSETFROM:+0200
TZOFFSETTO:+0100
TZNAME:CET
DTSTART:20211031T010000
END:STANDARD
END:VTIMEZONE
BEGIN:VEVENT
DTSTART;TZID=Europe/Copenhagen:20200901T130000
DTEND;TZID=Europe/Copenhagen:20200901T180000
DTSTAMP:20260424T123217
CREATED:20200829T141104Z
LAST-MODIFIED:20200901T110642Z
UID:11178-1598965200-1598983200@bloxhub.org
SUMMARY:Build Back Better - live streamed from BLOX
DESCRIPTION:The BLOX Summit invites to ‘Build Back Better’ in the light of urbanisation challenges\, amplified by the Covid-19 pandemic.  Consequently\, BLOX Global is inviting partnerships to Build Back Better sustainable solutions aligned with the UN’s 17 SDGs. \nJoin the live stream event here: https://getvisualtv.net/stream/?blox-build-back-better\n___________________________________________________________________________________ \n…and experience amazing speakers such as:\n\n\nDr. Hans Kluge\, WHO Europe\n\n\nLord Mayor Frank Jensen\, Copenhagen Municipality\n\n\nDr. Joseph Allen\, Harvard University\, Public Health\n\n\nVice-President\, Margrethe Vestager\, The EU Commission\n\n\nCEO Torben Klitgaard\, BLOXHUB\n\n\nSee the full program here: https://www.linkslabs.com/blox-build-back-better/\n___________________________________________________________________________________ \n\nPlease note: You can also stream on-demand after the live event on the same link. \n  \nWhat is the meaning of Building Back Better?  \nTwo years after the Indian Ocean tsunami and earthquake of December 26\, 2004\, \nBuild Back Better (BBB) was created in an attempt to guide the long road towards \nrecovery. \nBuild Back Better was defined and officially used in the United Nations Sendai \nFramework for Disaster Risk Reduction. It is the implementation of recovery\, \nrehabilitation and reconstruction phases after a disaster to increase the resilience of \nnations and communities. \nLarge scale disasters cause extensive damages required for the full functioning of a \ncommunity. An inclusive and comprehensive disaster recovery framework serves as \nan agreed way forward to simplify the recovery process thereby maintaining or even \nimproving development trajectories while ensuring adherence to Build Back Better \nprinciples. \nA key learning from Build Back Better is to invite decision-makers from other relevant \nplayers outside the industry to facilitate partnership to ‘build better in the future’\, as \nit will ultimately have a more solid effect on tomorrow’s sustainable urban solutions. \n  \nBuildBackBetter post Covid-19 \nThe consequences of Covid-19 have accelerated the need for collaboration between the \nworld’s political leaders\, institutions\, organizations\, academics\, and businesses. As the \ncorona crisis gradually abates in some countries\, attention is turning towards stimulus \nmeasures that facilitate recovery. \nBuild Back Better should be the guiding principle in the aftermath of the pandemic. This \nmeans\, not only ensuring swift recovery but implementing strategies that protect \nprosperity in the long term. \nThe Covid-19 pandemic is already exacerbating negative trends in urban planning. For \nexample\, urban planning has created a reliance on private cars in many cities. The \nCOVID-19 pandemic could exacerbate this trend through an increase in demand for less \ndense neighborhoods. \nTransforming urban areas into livable and sustainable places can help address multiple \nissues outlined by the SDGs while simultaneously working towards a healthier and \nmore sustainable livelihood. \n  \nBuild Back Better and the built environment \nBuild Back Better and the built environment demand that we search for ways to build \nmore sustainably. \nAn example; many resources used in construction such as concrete\, wood\, cement and \nmetal etc.\, are characterized by a long life cycle with low flexibility after construction. \nTherefore\, it is particularly important to think ‘build back better’ through sustainable \nmaterials e.g. wood\, recycled plastics\, ferrock\, bamboo\, rammed earth and straw bales \netc. \nBesides sustainable materials\, Build Back Better is also related to vigilant leadership\, \nrevisions of business models and supply chain management. \nThe essence is to provide a framework for decision-makers\, industry leaders and \npolitical figures to build back better new communities\, because “business as usual” is \nnot an option if we are to reach the UN’s SDGs.
URL:https://bloxhub.org/event/live-stream-event-build-back-better-2/
CATEGORIES:Open
ATTACH;FMTTYPE=image/png:https://bloxhub.org/wp-content/uploads/2020/08/Skærmbillede-2020-08-26-kl.-19.05.02.png
END:VEVENT
BEGIN:VEVENT
DTSTART;TZID=Europe/Copenhagen:20200903T150000
DTEND;TZID=Europe/Copenhagen:20200903T170000
DTSTAMP:20260424T123217
CREATED:20200712T204513Z
LAST-MODIFIED:20200820T075059Z
UID:9159-1599145200-1599152400@bloxhub.org
SUMMARY:Launch of Tech Match // Round 2
DESCRIPTION:Do you have a business challenge that could be solved with new technology and DKK 750.000 in funding? Tech Match is a funded tech transfer program targeted Danish SMEs from the construction industry. \nJoin us when we launch our second call. You’ll meet the winners from round 1 and learn how to apply: \nProgram\n• Welcome\n• What is Tech Match?\n• Meet previous winners of Tech Match\n• How to apply?\n• Questions\n• Drinks & networking \nClick and get more information about the Tech Match Program and see the winners of round 1 \nThe Tech Match program is Funded by Realdania and created in collaboration with FundingBox. \nParticipation is free of charge and everyone is welcome. \nPlease note that photos and videos of you may be taken during the seminar/event for publicity and marketing purposes. \n\nSign up:\nFYI: The event will be recorded and live-streamed for use on our platforms.
URL:https://bloxhub.org/event/launch-of-tech-match-round-2/
LOCATION:BLOXHUB Arena\, Bryghuspladsen 8\, Entrance C\, 3rd floor\, Copenhagen\, 1473
CATEGORIES:Open
ATTACH;FMTTYPE=image/png:https://bloxhub.org/wp-content/uploads/2020/07/Skærmbillede-2020-07-03-kl.-11.03.06.png
END:VEVENT
BEGIN:VEVENT
DTSTART;TZID=Europe/Copenhagen:20200908T153000
DTEND;TZID=Europe/Copenhagen:20200908T173000
DTSTAMP:20260424T123217
CREATED:20200707T145436Z
LAST-MODIFIED:20200820T075213Z
UID:8001-1599579000-1599586200@bloxhub.org
SUMMARY:HVORDAN GØR VI BOLIGMARKEDET MANGFOLDIGT?
DESCRIPTION:HVORDAN GØR VI BOLIGMARKEDET MANGFOLDIGT? \nKom med\, når vi\, sammen med Fonden for Billige Boliger\, sætter fokus på potentialer for downsizing og inddragende fællesskaber i boligbyggeriet. \nFællesskabsboliger og downsizede/kompakte boliger er buzzwords på boligmarkedet lige nu. Alle taler om de nye alternative måder at bo på og om nødvendigheden af at skabe et langt mere mangfoldigt og alsidigt boligmarked end det\, der findes i dag. \nMen på trods af interessen ses der kun få eksempler på opførelse af anderledes boligformer. Sammen med Fonden for Billige Boliger stiller vi skarpt på to af dem; nemlig boliger med fællesskab og inddragelse og kompakte storbyboliger. Samtidig udfordrer vi et kompetent panel til at opstille fem konkrete bud på\, hvordan vejen kan banes for et mere mangfoldigt boligmarked. \nProgram: \n15:15 Ankomst og networking\n15:30 Velkommen\n15:35 Et mere mangfoldigt boligmarked? v/ professor Claus Bech-Danielsen (BUILD – Institut for Byggeri\, By og Miljø\, AAU og bestyrelsesmedlem\, Fonden for Billige Boliger)\n15:45 Diversitet og fællesskab som hjørnesten i udviklingen af fremtidens alternative boformer v/ post.doc. Silje Erøy Sollien (Tegnestuen Vandkunsten og BUILD\, AAU)\n16:05 Compact living i storbyen v/ ph.d.-stipendiat Anne Hedegaard Winther (Fonden for Billige Boliger og BUILD\, AAU)\n16:25 Erfaringer fra Fællesbyg – Danmarks første fællesbyggede karré\, der netop nu er under opførelse på Køge Havn v/ Christian Hansen (formand\, Fællesbyg Køge Kyst)\n16:40 Paneldebat: Hvordan kan vi lykkes med at gøre boligmarkedet mere mangfoldigt? Vi udfordrer panelet til at diskutere  sig frem til fem konkrete handlingspunkter\, som aktører\, der arbejder på at skabe billige boliger og alternative boformer kan tage med sig i deres videre arbejde. \nPaneldeltagere:\nCamilla van Deurs (stadsarkitekt\, Københavns Kommune)\,\nMia Manghezi (projektudviklingsdirektør\, PensionDanmark)\,\nChristian Cold (arkitekt\, CEO\, Entasis)\nLars Lundbye (kreativ direktør\, partner\, Almenr). \nOrdstyrer: Rolf Andersson (byggedirektør\, KAB og næstformand\, Fonden for Billige Boliger) \n17:30 Tak for i dag – men bliv gerne hængende til en snak og et glas \n  \nFørst til mølle – sign up nødvendig:  \nOBS: Vi optager og livestreamer eventet til brug på egne kanaler.
URL:https://bloxhub.org/event/hvordan-gor-vi-boligmarkedet-mere-mangfoldigt/
LOCATION:BLOXHUB Arena\, Bryghuspladsen 8\, Entrance C\, 3rd floor\, Copenhagen\, 1473
CATEGORIES:Open
ATTACH;FMTTYPE=image/jpeg:https://bloxhub.org/wp-content/uploads/2020/02/1-29.jpg
END:VEVENT
BEGIN:VEVENT
DTSTART;TZID=Europe/Copenhagen:20200909T150000
DTEND;TZID=Europe/Copenhagen:20200909T170000
DTSTAMP:20260424T123217
CREATED:20200707T082938Z
LAST-MODIFIED:20200824T084429Z
UID:7844-1599663600-1599670800@bloxhub.org
SUMMARY:Launch: Boring Revolution Lab
DESCRIPTION:Mark your calendar and join us on the 9th of September for the launch of Boring Revolution Lab in BLOXUB – a lab\, where we rethink how we own\, share and build our cities. \nProgram:\n15.00 – 15.15\nUrbanization\, Bloxhub and the Boring Revolution\n// Introduction and welcome by Torben Klitgaard \n15.15 – 15.45\nOur thesis on changing societies and cities and how we cope with them\n// Theoretical background\, international examples and post COVID19 reflections by Indy Johar \n15.45 – 16.00\nWhat are the new emergent themes of the Boring Revolution following from COVID19?\n// The first round of interactions and debate (in English) moderated by Mikkel Thomassen \n16.00 – 16.05\nLaunching the Lab and how we would like to move ahead with prototyping and backward engineering \n16.05 – 16.20\nHow COVID 19 changes our concept of circular construction\, healthy schools\, and climate-resilient cities?\n// Opening up for breakout sessions by Mikkel Thomassen \n16.20 – 16.50\nBreakout sessions: Where to start?  \n16.50\nSumming up\, closing remarks and next steps \nThe background: \nBecause of today’s digital possibilities\, we propose that we can transform how we own\, share and build our cities. This opens a completely new potential to empower citizens and support more cohesive societies. \nThe Boring Revolution Lab in BLOXHUB\, Copenhagen\, wish to explore how we use this enormous potential and how we rethink the practices for urban development in the best possible way. Our goal is to change the built environment and the industries connected to it from design thinking to understanding the combined value and impact these industries can create. \nThe Lab is hosted by BLOXHUB and created in association with Dark Matter Labs and Smith Innovation. \nSIGN UP HERE:
URL:https://bloxhub.org/event/launch-boring-revolution-lab/
LOCATION:BLOXHUB Arena\, Bryghuspladsen 8\, Entrance C\, 3rd floor\, Copenhagen\, 1473
CATEGORIES:Open
ATTACH;FMTTYPE=image/png:https://bloxhub.org/wp-content/uploads/2020/07/Skærmbillede-2020-07-07-kl.-09.20.24.png
END:VEVENT
BEGIN:VEVENT
DTSTART;TZID=Europe/Copenhagen:20200914T090000
DTEND;TZID=Europe/Copenhagen:20200914T113000
DTSTAMP:20260424T123217
CREATED:20200709T081601Z
LAST-MODIFIED:20200820T123511Z
UID:8201-1600074000-1600083000@bloxhub.org
SUMMARY:Smart Cities - Byernes vej til bæredygtighed?
DESCRIPTION:Mere end halvdelen af verdens befolkning er i dag bosat i byområder. Et tal\, der ifølge FN\, vil stige til to tredjedele i 2050. Det vil give et massivt pres på klodens ressourcer og derfor haster det med at finde bæredygtige løsninger. \nMen kan ‘smart cities’ være svaret på fremtidens bæredygtige by?   Måske. Foreløbig er det dog primært blevet til pilotprojekter\, mens udviklingen af digitalt drevne byer i stor skala lader vente på sig. \nKom med ti et kombineret webinar med 50 fysiske pladser og mød tre   forskere fra Københavns Universitet\, der anlægger hver deres perspektiv på fremtidens intelligente by samt et medlem af EU Kommissionens Smart City Mission\, der kan gøre os klogere på\, hvordan der arbejdes med Smart Cities på europæisk plan. \nUndervejs vil forskerne debattere med det erhvervsliv\, der skal bruge forskningsresultaterne ude i virkeligheden. \nWebinaret modereres af Christiane Vejlø\, ekspert i fremtidens teknologi og digitale trends. \nHun er foredragsholder\, bestyrelsesmedlem\, radiovært og direktør i Elektronista Media. \nOplæg\nSmarte’ energifællesskaber – eksperimenter i Nordhavn \nVed adjunkt Simon Lex Institut for Antropologi\, Københavns Universitet \n“Smarte” energifællesskaber skal organiseres lokalt. Simon Lex diskuterer i sit oplæg det ”levende” eksperiment som et rum for etablering af tværfaglige partnerskaber mellem borgere\, kommuner\, forskere og private virksomheder. Det eksperimenterende energifællesskab understøtter ikke bare udvekslingen af vedvarende energi\, men fungerer også som katalysator for nye bæredygtige tiltag. \nVirksomhed til opfølgende spørgsmål:  Peter Bjørn Larsen\, Smart City Insights  \nHvad med mennesker i smarte byer? \nVed seniorforsker Hans Skov Petersen\, Institut for Geovidenskab og Naturforvaltning\, Landskabs arkitektur og planlægning\, Københavns Universitet \nSmarte byer forventes at fungere ved så høj grad af automatisering som muligt\, uden nødvendig menneskelig indblanding. Teknologien vil være i stand til at kommunikere med systemer\, der kan sammenholde og analysere informationerne og tage action i form af instruktioner videre ud i systemet. \nMen er der overhovedet plads til mennesker i fuldautomatiske byer der stort set ikke behøver vores indblanding? Vil den overvældende tilstedeværelse af digital styring det svært at sanse\, le og græde?  Og kan vi stadig føle at vi er del af byernes samfund og kultur? \nOplægget vil – med udgangspunkt i digitale teknologier – fokusere på mennesker og menneskers inddragelse og deltagelse i styringen af fremtidens byer. \nVirksomhed til opfølgende spørgsmål: Ole Abildgaard Mikkelsen\, direktør for WeShelter \nData i den smarte by – meget mere end bare privacy \nVed Hanne Marie Motzfeldt\, lektor ved Center for Informations- og innovationsret\, Københavns Universitet   \nHvem har ansvaret i de smarte byer\, hvis der pludselig opstår problemer med funktionaliteterne og borgerne kommer i klemme? Svaret er både overraskende og komplekst. Hør Hanne Marie forklare\, hvorfor det er helt afgørende at sikre klare rammer for\, samarbejder mellem myndigheder og private\, hvis de intelligente løsninger skal fungere i praksis. \nVirksomhed til opfølgende spørgsmål: Lars Groth\, product owner i DinGeo (Boliga) \nTilmeld dig her: 
URL:https://bloxhub.org/event/smart-cities-byernes-vej-til-baeredygtighed/
LOCATION:BLOXHUB Arena\, Bryghuspladsen 8\, Entrance C\, 3rd floor\, Copenhagen\, 1473
CATEGORIES:Open
ATTACH;FMTTYPE=image/jpeg:https://bloxhub.org/wp-content/uploads/2020/07/Smartcities-ændret2305843009240497302.jpg
END:VEVENT
BEGIN:VEVENT
DTSTART;TZID=Europe/Copenhagen:20200923T080000
DTEND;TZID=Europe/Copenhagen:20201111T170000
DTSTAMP:20260424T123217
CREATED:20200921T131704Z
LAST-MODIFIED:20201109T160345Z
UID:11480-1600848000-1605114000@bloxhub.org
SUMMARY:City Life in Times and After Corona
DESCRIPTION:How will our cities change post-pandemic? What can we do as citizens\, urban planners\, architects\, designers and decision-makers to ensure the right restart for our cities – and protect ourselves against future pandemics? \nThrough a new Nordic partnership between DOGA – Design and Architecture Norway\, Danish Design Centre\, BLOXHUB\, Gehl Architects\, Copenhagen Institute of Futures Studies and Urban Agenda\, we dive into the dilemmas of pandemic-proof cities and help generate the best solutions for restarting the good life in our cities. \nVenue:  \nBLOXHUB + Live Stream \nCalendar: \n#3:          23/9 11.00-12.00 am: BLOXHUB Debates: Democratic Digitalization? More info and registration \n#4:          23/9 15.00 – 16.15 pm: Science Talks: The importance of indoor and outdoor climate in relation to COVID-19 w. Associate Professor Joseph Allen\, Harvard\, and Professor John Macomber\, Harvard: More info and registration \n#5:           28/10: 15.00 – 16.15 am: BLOXHUB Debates: The impact of Covid-19 on health and housing inequalities \n#6:         29/10 15.00 – 16.00 pm: Science Talks: Public Space in European Social Housing w. Associate Professor Anne Tietjen\, University of Copenhagen \n#7:         23/11: 15.00 – 16.15 pm: BLOXHUB Debates: Future scenarios for post-COVID-19 Cities zooming in on work\, mobility\, culture and shopping. \n 
URL:https://bloxhub.org/event/city-life-in-times-and-after-corona/
LOCATION:BLOXHUB Arena\, Bryghuspladsen 8\, Entrance C\, 3rd floor\, Copenhagen\, 1473
CATEGORIES:Debate,Open
ATTACH;FMTTYPE=image/png:https://bloxhub.org/wp-content/uploads/2020/09/Skærmbillede-2020-09-21-kl.-14.41.26.png
END:VEVENT
BEGIN:VEVENT
DTSTART;TZID=Europe/Copenhagen:20200923T100000
DTEND;TZID=Europe/Copenhagen:20200923T120000
DTSTAMP:20260424T123217
CREATED:20200917T143253Z
LAST-MODIFIED:20200918T091634Z
UID:11421-1600855200-1600862400@bloxhub.org
SUMMARY:BLOXHUB Debates: Democratic Digitalization?
DESCRIPTION:This ‘BLOXHUB Debates’ is part of the online Nordic Edge Expo \nAs a BLOXHUB member\, you get free access. Sign up and get your free ticket here \nThe discussion:\nDigitalization has made access to information\, power and influence more democratic than ever. But has a democratic society and the rules\, laws and norms that define the balance between public and private\, citizen and politician responded to this digital advancement? The COVID pandemic has a true test of how democratic our current digital society is. \nFrom contact tracing to supporting local business\, to leveraging massive smart city data sets\, our digital society gives us the tools to fight this pandemic and bounce back stronger than before.   But who’s responsibility is it to ensure these digital tools truly strengthen our democracy rather than undermine it?  What is the role of in-person interaction and actual places where these digital issues collide such as the neighbourhoods where we support our local businesses\, the streets that we use or don’t use to commute to work\, or the location where we come into contact with a person with COVID-19? These are the questions and perspectives the panel will discuss. \nPanelists:\nHeidi Boye\, Too good to go \nMarius Sylvestersen\, Copenhagen Solutions Lab\, City of Copenhagen \nNanna Skovgaard\, Sundhedsministeriet \nKåre Løvgren\, IDA \nModerator:\nJeff Risom\, Chief Innovation Officer\, Gehl
URL:https://bloxhub.org/event/bloxhub-debates-democratic-digitalization/
CATEGORIES:Debate,Open
ATTACH;FMTTYPE=image/png:https://bloxhub.org/wp-content/uploads/2020/07/Banner3006_2.png
END:VEVENT
BEGIN:VEVENT
DTSTART;TZID=Europe/Copenhagen:20200923T150000
DTEND;TZID=Europe/Copenhagen:20200923T163000
DTSTAMP:20260424T123217
CREATED:20200709T093119Z
LAST-MODIFIED:20200820T075624Z
UID:8265-1600873200-1600878600@bloxhub.org
SUMMARY:The importance of Indoor and Outdoor Climate in Relation to COVID-19
DESCRIPTION:Join us for this ‘Science Talks’ with Joseph Allen\, Assistant Professor at Harward and co-author of “Healthy Buildings: How Indoor Spaces Drive Performance and Productivity”. \nThe talk is held as an online free-of-charge webinar. Sign up and more info coming soon! \nFYI: The event will be recorded and live-streamed for use on our platforms.
URL:https://bloxhub.org/event/indoor-and-outdoor-climate-in-relation-to-covid-19/
LOCATION:BLOXHUB Arena\, Bryghuspladsen 8\, Entrance C\, 3rd floor\, Copenhagen\, 1473
CATEGORIES:Open
ATTACH;FMTTYPE=image/jpeg:https://bloxhub.org/wp-content/uploads/2020/07/ST-september-scaled.jpg
END:VEVENT
BEGIN:VEVENT
DTSTART;TZID=Europe/Copenhagen:20200924T090000
DTEND;TZID=Europe/Copenhagen:20200924T160000
DTSTAMP:20260424T123217
CREATED:20200707T193839Z
LAST-MODIFIED:20201013T162853Z
UID:8031-1600938000-1600963200@bloxhub.org
SUMMARY:BLOXHUB SUMMER SCHOOL: TRANSFORMATION OG RENOVERING session 1
DESCRIPTION:Der er åbent for tilmelding på  Det Kongelige Akademi – Arkitektur\, Design\, Konservering og BLOXHUB’s Summer School om transformation og renovering – arkitektur\, håndværk\, bæredygtighed og byggeteknik. \nKurset giver indsigt i transformationsarkitekturens teori og historie\, færdigheder i anvendelsen af transformationsarkitekturens metoder og værktøjer\, håndværksmæssige teknikker\, viden om materialer og kompetencer i projektfremstilling og tværfagligt samarbejde. \nKurset er udviklet i et samarbejde mellem Byggeriets Uddannelser\,  Det Kongelige Akademi – Arkitektur\, Design\, Konservering og EUC Nord. Projektet er støttet af Realdania og Grundejernes investeringsfond og indgår i en BLOXHUB-satsning for at styrke tværfagligt samarbejde i byggeriet. \nMålet er at udvikle en fælles viden\, konkret kunnen og metodisk fremgangsmåde på tværs af byggeriets faggrupper for at øge kvaliteten i og omkring transformation og renovering af den eksisterende bygningsmasse. \nPå kurset arbejdes der med aktuelle problemstillinger fx energirenovering af Vikingeskibsmuseet\, transformation af Brønshøj vandtårn eller addition af taglejligheder på Nørrebro. Samtidig er kurset bygget op omkring en række konkrete cases\, hvor hver case tager udgangspunkt i en konkret bygningsdel. Det kunne eksempelvis være energiforbedring af vinduer\, efterisolering af mur\, pudsning af facade\, reparation af fuger\, reetablering af (udvendig) stuk\, kvaderpuds eller udlusning af bindingsværk. \nDet får du ud af kurset: \n\nindsigt i transformationsarkitekturens teori og historie\nfærdigheder i anvendelsen af transformationsarkitekturens metoder\nværktøjer og håndværksmæssige teknikker\nviden om materialer\nkompetencer i projektfremstilling og tværfagligt samarbejde.\n\nMålgruppe \nDa projektets hovedformål er at arbejde tværfagligt\, sigtes der på at rekruttere fra alle faggrupper\, der arbejder med transformation og renovering dvs. håndværkere\, konstruktører\, ingeniører\, arkitekter og rådgivere fra myndigheder. \nTid\, sted og tilmelding:\nKurset er opdelt i tre sessioner\, hvoraf den første og sidste holdes i København og den midterste i Aalborg/Hjørring. Du skal således påregne tid og udgifter til transport og overnatning. \n1. session: 24.-25. september 2020\nDet Kongelige Akademi – Arkitektur\, Design\, Konservering\, Philip de Langes Allé 10\, 1435 Kbh. K\n2. session: 21.-23. oktober 2020\nAalborg (byvandring) og EUC Nord\, M P Koefoeds Vej 10\, 9800 Hjørring. 2. session starter i Aalborg med en én-dags byvandring. Der er derefter arrangeret transport til Hjørring. Mødested Aalborg Station kl. 10:00.\n3. session: 12. november 2020\nDet Kongelige Akademi – Arkitektur\, Design\, Konservering\, Philip de Langes Allé 10\, 1435 Kbh. K\n\nMeget mere info og tilmelding: https://kglakademi.dk/transformation-og-renovering \n\n\n\n\nHvis du er interesseret i at deltage i kurset eller har spørgsmål\, er du velkommen til at kontakte Philip Sønderberg\, Chef for efter- og videreuddannelse\,  Det Kongelige Akademi – Arkitektur\, Design\, Konservering på pson@kadk.dk eller tlf. 41 70 19 07.
URL:https://bloxhub.org/event/bloxhub-summer-school-transformation-og-renovering/
CATEGORIES:Open
ATTACH;FMTTYPE=image/png:https://bloxhub.org/wp-content/uploads/2020/07/Skærmbillede-2020-07-07-kl.-21.29.40.png
END:VEVENT
BEGIN:VEVENT
DTSTART;TZID=Europe/Copenhagen:20200924T160000
DTEND;TZID=Europe/Copenhagen:20200924T180000
DTSTAMP:20260424T123217
CREATED:20200909T145343Z
LAST-MODIFIED:20200909T145444Z
UID:11300-1600963200-1600970400@bloxhub.org
SUMMARY:Launch of PropTech Lab
DESCRIPTION:Join us when we open the doors to our brand new PropTech LAB. \nThe lab will be the heart of the PropTech Denmark community offering coworking space\, workshops\, Friday bars\, pitch days\, industry talks\, podcast recordings and much more. The LAB and coworking space will be placed in BLOX at the very centre of Copenhagen and as part of BLOXHUB – the Nordic hub for sustainable urban development. \nCome celebrate the grand opening of the lab\, join us for a glass of champagne\, network with startups and leading real estate players. There wil be short opening talks by: \n\nRasmus Nyholm \, Chairman at PropTech Denmark\nJørgen Bardenfleth\, Vice Chairman at BLOXHUB\nAnne Skovbro\, CEO of By & Havn\nTorben Klitgaard\, CEO of BLOXHUB\nNadim Stub\, CEO of PropTech Denmark\n\nSign up here: https://www.eventbrite.dk/e/proptech-lab-official-launch-tickets-118621386761
URL:https://bloxhub.org/event/launch-of-proptech-lab/
CATEGORIES:Open
ATTACH;FMTTYPE=image/png:https://bloxhub.org/wp-content/uploads/2020/09/Skærmbillede-2020-09-09-kl.-15.47.58.png
END:VEVENT
END:VCALENDAR