BEGIN:VCALENDAR
VERSION:2.0
PRODID:-//BLOXHUB - ECPv6.15.20//NONSGML v1.0//EN
CALSCALE:GREGORIAN
METHOD:PUBLISH
X-ORIGINAL-URL:https://bloxhub.org
X-WR-CALDESC:Events for BLOXHUB
REFRESH-INTERVAL;VALUE=DURATION:PT1H
X-Robots-Tag:noindex
X-PUBLISHED-TTL:PT1H
BEGIN:VTIMEZONE
TZID:Europe/Copenhagen
BEGIN:DAYLIGHT
TZOFFSETFROM:+0100
TZOFFSETTO:+0200
TZNAME:CEST
DTSTART:20190331T010000
END:DAYLIGHT
BEGIN:STANDARD
TZOFFSETFROM:+0200
TZOFFSETTO:+0100
TZNAME:CET
DTSTART:20191027T010000
END:STANDARD
BEGIN:DAYLIGHT
TZOFFSETFROM:+0100
TZOFFSETTO:+0200
TZNAME:CEST
DTSTART:20200329T010000
END:DAYLIGHT
BEGIN:STANDARD
TZOFFSETFROM:+0200
TZOFFSETTO:+0100
TZNAME:CET
DTSTART:20201025T010000
END:STANDARD
BEGIN:DAYLIGHT
TZOFFSETFROM:+0100
TZOFFSETTO:+0200
TZNAME:CEST
DTSTART:20210328T010000
END:DAYLIGHT
BEGIN:STANDARD
TZOFFSETFROM:+0200
TZOFFSETTO:+0100
TZNAME:CET
DTSTART:20211031T010000
END:STANDARD
END:VTIMEZONE
BEGIN:VEVENT
DTSTART;TZID=Europe/Copenhagen:20201203T150000
DTEND;TZID=Europe/Copenhagen:20201203T160000
DTSTAMP:20260424T080139
CREATED:20201118T153312Z
LAST-MODIFIED:20201124T145717Z
UID:13094-1607007600-1607011200@bloxhub.org
SUMMARY:Science Talks: Light for health and wellbeing
DESCRIPTION:Light for health and well-being: looking beyond aesthetics and energy efficiency  \nFor thousands of years\, we woke up and went to bed with the sun. However\, the introduction of electric lighting and our 24/7 urban lifestyle has disrupted our natural daily routines. Scientists are now uncovering the side effects on our health and wellbeing.  \nJoin us in this ‘Science Talks’ where Paula Miseikyte\, LYS Technologies\, and Dr. Manuel Spitschan\, Oxford University\, discuss the importance of light for well-being\, health benefits\, regulatory shifts and future outlook.  \nModerator of the day: Pernille Berg\, Science manager\, BLOXHUB. \nSign up for free online talk:
URL:https://bloxhub.org/event/light-for-health-and-well-being-looking-beyond-aesthetics-and-energy-efficiency/
LOCATION:ONLINE
CATEGORIES:Open
ATTACH;FMTTYPE=image/png:https://bloxhub.org/wp-content/uploads/2020/11/Skaermbillede-2020-11-24-kl.-12.45.13.png
END:VEVENT
BEGIN:VEVENT
DTSTART;TZID=Europe/Copenhagen:20201209T150000
DTEND;TZID=Europe/Copenhagen:20201209T161500
DTSTAMP:20260424T080139
CREATED:20201119T114313Z
LAST-MODIFIED:20201207T162551Z
UID:13118-1607526000-1607530500@bloxhub.org
SUMMARY:BLOXHUB Debates: How indoor lighting is affecting your health
DESCRIPTION:How indoor lighting is affecting your health: a look beyond aesthetics and energy efficiency.  \nJust as air\, food\, and water – light is a natural and vital source to our health. To most people\, the absorption of light is an unconscious choice in life. It’s everywhere\, always. But often not in a healthy way.  \nToday\, we spend more than 90% of our time indoors. But most indoor lighting is unhealthy and not tailored to the occupants of the space. What are the main challenges to improve this? And how does the future of lighting look? \nJoin us for a vibrant panel discussion where various industry members will share different perspectives on the topic.  \nThe scene will be set by: \nProf. Marilyne Andersen\, Swiss Federal Institute of Technology\nAnne Gade Iversen\, Indoor Climate Expert and Project Lead\, Realdania \n  \nPanelists:\nChristina Friis Blach Petersen (LYS Technologies)\nPeter Fangel Poulsen (Bauherr)\nEllen Kathrine Hansen (Aalborg University\, Copenhagen)\nMerete Madsen (MOE) \n Moderated by: \nLone Feifer\, VELUX\n \nSign up for this free online debate:
URL:https://bloxhub.org/event/bloxhub-debates-how-indoor-lighting-is-affecting-your-health/
LOCATION:ONLINE
CATEGORIES:Open
ATTACH;FMTTYPE=image/png:https://bloxhub.org/wp-content/uploads/2020/11/Skaermbillede-2020-11-25-kl.-16.19.22.png
END:VEVENT
END:VCALENDAR