BEGIN:VCALENDAR
VERSION:2.0
PRODID:-//BLOXHUB - ECPv6.15.20//NONSGML v1.0//EN
CALSCALE:GREGORIAN
METHOD:PUBLISH
X-ORIGINAL-URL:https://bloxhub.org
X-WR-CALDESC:Events for BLOXHUB
REFRESH-INTERVAL;VALUE=DURATION:PT1H
X-Robots-Tag:noindex
X-PUBLISHED-TTL:PT1H
BEGIN:VTIMEZONE
TZID:Europe/Copenhagen
BEGIN:DAYLIGHT
TZOFFSETFROM:+0100
TZOFFSETTO:+0200
TZNAME:CEST
DTSTART:20200329T010000
END:DAYLIGHT
BEGIN:STANDARD
TZOFFSETFROM:+0200
TZOFFSETTO:+0100
TZNAME:CET
DTSTART:20201025T010000
END:STANDARD
BEGIN:DAYLIGHT
TZOFFSETFROM:+0100
TZOFFSETTO:+0200
TZNAME:CEST
DTSTART:20210328T010000
END:DAYLIGHT
BEGIN:STANDARD
TZOFFSETFROM:+0200
TZOFFSETTO:+0100
TZNAME:CET
DTSTART:20211031T010000
END:STANDARD
BEGIN:DAYLIGHT
TZOFFSETFROM:+0100
TZOFFSETTO:+0200
TZNAME:CEST
DTSTART:20220327T010000
END:DAYLIGHT
BEGIN:STANDARD
TZOFFSETFROM:+0200
TZOFFSETTO:+0100
TZNAME:CET
DTSTART:20221030T010000
END:STANDARD
END:VTIMEZONE
BEGIN:VEVENT
DTSTART;TZID=Europe/Copenhagen:20210507T130000
DTEND;TZID=Europe/Copenhagen:20210507T150000
DTSTAMP:20260423T200800
CREATED:20210427T073020Z
LAST-MODIFIED:20210427T073020Z
UID:17727-1620392400-1620399600@bloxhub.org
SUMMARY:Webinar: Hvordan bruger byggebranchen bedst forskningen i omstillingen til cirkulær økonomi?
DESCRIPTION:DTU\, BUILD\, Teknologisk Institut\, Responsible Assets og BLOXHUB inviterer til dialogbaseret webinar\, hvor vi stiller skarpt på\, hvad der skal til for\, at danske virksomheder i højere grad bruger forskningen til at omstille sig til cirkulær økonomi. \nPå webinaret kan du høre\, hvordan branchen oplever\, at forskningen bedst kommunikeres og omsættes. Og du kan hjælpe os med at skærpe pointerne. \nDTU\, Teknologisk Institut\, BUILD\, BLOXHUB og Responsible Assets \nProgram:  \n13.00: VELKOMMEN TIL \nPernille Berg\, fil.dr.\, Science Manager Bloxhub \n13.10: ANALYSE – barrierer for og muligheder i samarbejde mellem forskning og erhverv \nTine Lange\, grundlægger og partner\, Responsible Assets \n13.30: BEST PRACTICE  \n\nSamarbejde om erhvervsph.d.\nLeonora Malabi Eberhardt\, forsker\, BUILD og Ninette Alto\, teknisk direktør\, MT Højgaard\n\n\nSamarbejdsprojektet Circle Bank\nKathrine Hauge\, seniorkonsulent\, TI og Thomas Sinding\, udviklingschef\, J. Jensen\,\n\n\nDen personlige relation\nChristine Collin\, Teamleder for Bæredygtighed\, energi og indeklima\, Sweco\n\n\nSynlighed på LinkedIn\nHarpa Birgisdottir\, forsker\, BUILD\n\n14.45 PERSPEKTIV – forskning og cirkulære forventninger \nLisbeth Ottosen\, professor\, DTU \n15.00: TAK FOR I DAG \nTilmeld dig her
URL:https://bloxhub.org/event/webinar-hvordan-bruger-byggebranchen-bedst-forskningen-i-omstillingen-til-cirkulaer-okonomi/
LOCATION:ONLINE
CATEGORIES:Open,Science Forum
ATTACH;FMTTYPE=image/jpeg:https://bloxhub.org/wp-content/uploads/2021/04/210427_Invitation_Webinar.jpg
END:VEVENT
BEGIN:VEVENT
DTSTART;TZID=Europe/Copenhagen:20210520T150000
DTEND;TZID=Europe/Copenhagen:20210520T163000
DTSTAMP:20260423T200800
CREATED:20200717T091507Z
LAST-MODIFIED:20210520T075122Z
UID:10119-1621522800-1621528200@bloxhub.org
SUMMARY:Universal Design for more usable\, livable and healthy buildings
DESCRIPTION:We spend our lives within public and private buildings and our daily activities depend more and more on the possibilities that these environments offer us. \nThe environment influences our experiences and has an impact on our physical and mental health. One of the major challenges of architects today is to offer spaces that respond to all people’s needs\, regardless of differences in physical\, sensory\, mental and social abilities. This will bring to more usable\, livable and healthy buildings for everyone. \nSpeakers: \n\nRoberta Cassi\, Industrial Ph.D. Fellow\, Royal Danish Academy – Architecture\, Design\, Conservation.\nErica Isa Mosca\, Postdoctoral Researcher\,  Ph.D. arch\, Politecnico di Milano – Architecture\, Built Environment and Construction Engineering\, Design & Health LAB.\nTurid Borgestrand Øien\, Researcher\, PhD. cand.arch\, Department of the Built Environment\, Aalborg University – Construction Management and Innovation.\n\nSign up below
URL:https://bloxhub.org/event/universal-design-usable-livable-healthy-buildings/
LOCATION:BLOXHUB\, Bryghuspladsen 8\, 3rd floor\, København K\, 1473
CATEGORIES:Open,Science Forum
ATTACH;FMTTYPE=image/jpeg:https://bloxhub.org/wp-content/uploads/2020/07/Slide4.jpg
END:VEVENT
BEGIN:VEVENT
DTSTART;TZID=Europe/Copenhagen:20210526T150000
DTEND;TZID=Europe/Copenhagen:20210526T161500
DTSTAMP:20260423T200800
CREATED:20201214T132546Z
LAST-MODIFIED:20210518T115223Z
UID:13646-1622041200-1622045700@bloxhub.org
SUMMARY:BLOXHUB Debates: Leading the way to maximum standards for healthy buildings
DESCRIPTION:As part of our Healthy Buildings event series our next BLOXHUB Debates on Wednesday 26 May is focusing on the holistic and ‘how to’ approach. \nWe have a lot of knowledge about healthy buildings\, what is a healthy building and why should we all live\, work\, and spend time in healthy buildings. From light\, indoor air quality\, temperature\, acoustics to space – we know a lot. \nBut why do we not build healthy buildings as the most natural thing? \nWhy do we build from minimum standards rather than from maximum standards? In this debate we will address the how-tos. We will share all the latest methods and tools in designing and creating healthy buildings and lead the way to maximum standards. \nPanel \n\nSven Buch\, Development manager\, Himmerland Boligforening (Social housing)\nJohanne Mose Entwistle\, Head of value documentation\, AART\nJørn Toftum\, Professor\, Technical University of Denmark (DTU)\nLau Markussen Raffnsøe\, Technical Director\, Green Building Council Denmark\nTine Steen Larsen\, Head of Division\, BUILD and Aalborg University\, Division of Sustainability\, Energy and Indoor Environment.\n\nThe debate will be moderated by Pernille Berg\, fil.dr.\, Science Manager\, BLOXHUB. \nSign up now here: \n \n__________\nThe debate is part of an event series of 10 on the topic: “Healthy buildings – high performance – happy hearts and minds” created in partnership with PropTech Denmark\, BUILD – Department of the Built Environment\, LYS Technologies\, Danish Sound Cluster\, CLIMAID\, Realdania\, VELUX & BLOXHUB.
URL:https://bloxhub.org/event/bloxhub-debates-leading-the-way-to-maximum-standards-for-healthy-buildings/
LOCATION:ONLINE
CATEGORIES:Open
ATTACH;FMTTYPE=image/jpeg:https://bloxhub.org/wp-content/uploads/2020/07/Slide8.jpg
END:VEVENT
END:VCALENDAR