BEGIN:VCALENDAR
VERSION:2.0
PRODID:-//BLOXHUB - ECPv6.15.20//NONSGML v1.0//EN
CALSCALE:GREGORIAN
METHOD:PUBLISH
X-ORIGINAL-URL:https://bloxhub.org
X-WR-CALDESC:Events for BLOXHUB
REFRESH-INTERVAL;VALUE=DURATION:PT1H
X-Robots-Tag:noindex
X-PUBLISHED-TTL:PT1H
BEGIN:VTIMEZONE
TZID:Europe/Copenhagen
BEGIN:DAYLIGHT
TZOFFSETFROM:+0100
TZOFFSETTO:+0200
TZNAME:CEST
DTSTART:20200329T010000
END:DAYLIGHT
BEGIN:STANDARD
TZOFFSETFROM:+0200
TZOFFSETTO:+0100
TZNAME:CET
DTSTART:20201025T010000
END:STANDARD
BEGIN:DAYLIGHT
TZOFFSETFROM:+0100
TZOFFSETTO:+0200
TZNAME:CEST
DTSTART:20210328T010000
END:DAYLIGHT
BEGIN:STANDARD
TZOFFSETFROM:+0200
TZOFFSETTO:+0100
TZNAME:CET
DTSTART:20211031T010000
END:STANDARD
BEGIN:DAYLIGHT
TZOFFSETFROM:+0100
TZOFFSETTO:+0200
TZNAME:CEST
DTSTART:20220327T010000
END:DAYLIGHT
BEGIN:STANDARD
TZOFFSETFROM:+0200
TZOFFSETTO:+0100
TZNAME:CET
DTSTART:20221030T010000
END:STANDARD
END:VTIMEZONE
BEGIN:VEVENT
DTSTART;TZID=Europe/Copenhagen:20210916T150000
DTEND;TZID=Europe/Copenhagen:20210916T160000
DTSTAMP:20260423T142231
CREATED:20210830T154252Z
LAST-MODIFIED:20210916T110135Z
UID:19928-1631804400-1631808000@bloxhub.org
SUMMARY:Science Talks: What does circularity offer to the sustainable development of the built environment?
DESCRIPTION:Save the date for our first Science Talks in our series `Designing the Irresistible Circular Society´ where we will discuss what circularity has to offer to the sustainable development of the built environment with Professor Thomas Lützkendorf\, Karlsruhe Institute of Technology and professor Harpa Birgisdottir\, Build\, Aalborg University. \n___________ \nDesigning the Irresistible Circular Society\nHow do we ensure a sustainable future and how will our buildings and cities be created and by whom? Which values and materials will characterize the society of today and tomorrow? Circular economy and circular built environment are high on the agenda. This series sets the new state of the art and addresses the how to’s. With 8 events of Science Talks and Debates engaging city planners\, policy makers\, decision makers\, clients\, investors\, and users we will present the latest research and experiences and ask the tough question: how do we create the irresistible circular society? \nPartners: Arup\, 3XN/GXN\, Lendager Group\, The Royal Danish Academy\, Danish Design Centre\, Build\, Aalborg University and BLOXHUB. \nSign up here: \n \n 
URL:https://bloxhub.org/event/science-talks-what-does-circularity-offer-to-the-sustainable-development-of-the-built-environment/
LOCATION:BLOXHUB Arena\, Bryghuspladsen 8\, Entrance C\, 3rd floor\, Copenhagen\, 1473
CATEGORIES:Open
ATTACH;FMTTYPE=image/png:https://bloxhub.org/wp-content/uploads/2021/08/Science-Talks_16sept2021.png
END:VEVENT
END:VCALENDAR