BEGIN:VCALENDAR
VERSION:2.0
PRODID:-//BLOXHUB - ECPv6.15.20//NONSGML v1.0//EN
CALSCALE:GREGORIAN
METHOD:PUBLISH
X-WR-CALNAME:BLOXHUB
X-ORIGINAL-URL:https://bloxhub.org
X-WR-CALDESC:Events for BLOXHUB
REFRESH-INTERVAL;VALUE=DURATION:PT1H
X-Robots-Tag:noindex
X-PUBLISHED-TTL:PT1H
BEGIN:VTIMEZONE
TZID:Europe/Copenhagen
BEGIN:DAYLIGHT
TZOFFSETFROM:+0100
TZOFFSETTO:+0200
TZNAME:CEST
DTSTART:20200329T010000
END:DAYLIGHT
BEGIN:STANDARD
TZOFFSETFROM:+0200
TZOFFSETTO:+0100
TZNAME:CET
DTSTART:20201025T010000
END:STANDARD
BEGIN:DAYLIGHT
TZOFFSETFROM:+0100
TZOFFSETTO:+0200
TZNAME:CEST
DTSTART:20210328T010000
END:DAYLIGHT
BEGIN:STANDARD
TZOFFSETFROM:+0200
TZOFFSETTO:+0100
TZNAME:CET
DTSTART:20211031T010000
END:STANDARD
BEGIN:DAYLIGHT
TZOFFSETFROM:+0100
TZOFFSETTO:+0200
TZNAME:CEST
DTSTART:20220327T010000
END:DAYLIGHT
BEGIN:STANDARD
TZOFFSETFROM:+0200
TZOFFSETTO:+0100
TZNAME:CET
DTSTART:20221030T010000
END:STANDARD
END:VTIMEZONE
BEGIN:VEVENT
DTSTART;TZID=Europe/Copenhagen:20211109T100000
DTEND;TZID=Europe/Copenhagen:20211109T113000
DTSTAMP:20260423T113526
CREATED:20211013T142836Z
LAST-MODIFIED:20211105T102619Z
UID:21689-1636452000-1636457400@bloxhub.org
SUMMARY:Nye krav til bæredygtighed i byggeriet
DESCRIPTION:BLOXHUB og Danmarks Ambassade i Sverige indbyder partnere på tværs af sundet til en online session med nogle af de mest innovative danske virksomheder\, der arbejder med at sætte fremtidens standarder for digitalisering i byggeriet. \nEfterhånden har alle dele af byggebranchen fokus på at implementere bæredygtighed i byggeriet\, men med de kommende rapporteringskrav for udledninger er det pludselig blevet alvor. For er vi parate til at imødekomme de nye krav? Hvordan indsamler vi den nødvendige data\, og hvordan håndterer vi denne data\, så den både kan hjælpe med rapportering og skabe værdi for vores byggeprojekter? \nDeltag i denne session\, hvor vi vil tage udgangspunkt i en af de mest oplagte problemstillinger i byggeriet: Hvordan håndterer vi bæredygtighed på byggepladsen med al dens kompleksitet? Hvad er de lavthængende frugter? Og hvordan skaber vi på lang sigt konkret værdi med digitalisering? \nEventet er kun online\, tilmelding sker via dette link. \nProgram for sessionen: \n\nKlimakrav for rapportering og udledninger – hvad er besluttet\, og hvad kan vi forvente? v. Sara Borgström\, senior projektleder – klimaneutrale bygninger\, WSP\nDigitaliseringen af byggeprojekter fra et dansk perspektiv v. Anders Sørensen\, bæredygtighedschef\, Enemærke & Petersen\nDigital platform til projektering\, kvalitetssikring og dokumentation fra design til produktion\, Michael Schwartz\, International Director\, Ajour System A/S\nInnovationscase: Reduktion af udledninger fra betontørring v. Casper Harlev\, Direktør og founder\, Sensohive\nPaneldiskussion og breakout; modereret af sektorekspert\, Stephane Barbou des Places\, Danmarks Ambassade i Sverige og Head of Global Networks\, Jakob Norman-Hansen\, BLOXHUB\n\nPartnere:\nBLOXHUB\, Danmarks Ambassade i Sverige\, Sensohive\, Enemærke & Petersen
URL:https://bloxhub.org/event/nye-krav-til-baeredygtighed-i-byggeriet/
CATEGORIES:Free event,Open
ATTACH;FMTTYPE=image/jpeg:https://bloxhub.org/wp-content/uploads/2021/10/guilherme-cunha-0ZOtNzDVUZg-unsplash-scaled.jpg
END:VEVENT
BEGIN:VEVENT
DTSTART;TZID=Europe/Copenhagen:20211125T100000
DTEND;TZID=Europe/Copenhagen:20211125T113000
DTSTAMP:20260423T113526
CREATED:20211104T141252Z
LAST-MODIFIED:20211104T145927Z
UID:22118-1637834400-1637839800@bloxhub.org
SUMMARY:Global Day #5 – Spain
DESCRIPTION:BLOXHUB invites all members with an interest in international market opportunities to take part in our Global Day #5 – Spain on Thursday\, November 25th from 10:00-11:30 CET. \nIt is increasingly evident that Spain will be one of the most interesting new urban development markets in the coming years. Through the Next Generation EU recovery program alone\, it is estimated that EUR 28 billion will be flowing towards green transition initiatives in Spain. \nBut how do you reach the many potential partners and clients? What are the concrete business opportunities for member companies in Spain? And how can BLOXHUB assist you on this agenda? \nBLOXHUB invites all members to take part in our Global Day #5 – Spain on November 25th from 10:00-11:30 CET to discuss the Next Generation recovery and other opportunities for business and collaboration in Spain. \nPlease register here:
URL:https://bloxhub.org/event/global-day-5-spain/
LOCATION:ONLINE
CATEGORIES:Open
ATTACH;FMTTYPE=image/png:https://bloxhub.org/wp-content/uploads/2021/11/WorldMapGlobalDayWeb.png
END:VEVENT
END:VCALENDAR