BEGIN:VCALENDAR
VERSION:2.0
PRODID:-//BLOXHUB - ECPv6.15.20//NONSGML v1.0//EN
CALSCALE:GREGORIAN
METHOD:PUBLISH
X-WR-CALNAME:BLOXHUB
X-ORIGINAL-URL:https://bloxhub.org
X-WR-CALDESC:Events for BLOXHUB
REFRESH-INTERVAL;VALUE=DURATION:PT1H
X-Robots-Tag:noindex
X-PUBLISHED-TTL:PT1H
BEGIN:VTIMEZONE
TZID:Europe/Copenhagen
BEGIN:DAYLIGHT
TZOFFSETFROM:+0100
TZOFFSETTO:+0200
TZNAME:CEST
DTSTART:20240331T010000
END:DAYLIGHT
BEGIN:STANDARD
TZOFFSETFROM:+0200
TZOFFSETTO:+0100
TZNAME:CET
DTSTART:20241027T010000
END:STANDARD
BEGIN:DAYLIGHT
TZOFFSETFROM:+0100
TZOFFSETTO:+0200
TZNAME:CEST
DTSTART:20250330T010000
END:DAYLIGHT
BEGIN:STANDARD
TZOFFSETFROM:+0200
TZOFFSETTO:+0100
TZNAME:CET
DTSTART:20251026T010000
END:STANDARD
BEGIN:DAYLIGHT
TZOFFSETFROM:+0100
TZOFFSETTO:+0200
TZNAME:CEST
DTSTART:20260329T010000
END:DAYLIGHT
BEGIN:STANDARD
TZOFFSETFROM:+0200
TZOFFSETTO:+0100
TZNAME:CET
DTSTART:20261025T010000
END:STANDARD
BEGIN:DAYLIGHT
TZOFFSETFROM:+0100
TZOFFSETTO:+0200
TZNAME:CEST
DTSTART:20270328T010000
END:DAYLIGHT
BEGIN:STANDARD
TZOFFSETFROM:+0200
TZOFFSETTO:+0100
TZNAME:CET
DTSTART:20271031T010000
END:STANDARD
END:VTIMEZONE
BEGIN:VEVENT
DTSTART;TZID=Europe/Copenhagen:20250613T120000
DTEND;TZID=Europe/Copenhagen:20250613T130000
DTSTAMP:20260424T141231
CREATED:20250605T135054Z
LAST-MODIFIED:20250605T135054Z
UID:39522-1749816000-1749819600@bloxhub.org
SUMMARY:Folkemødet: Municipal Elections 2025: Should We Preserve More and Build Less?
DESCRIPTION:How do we balance sustainability and preservation in urban planning? This panel explores the implementation of the EU building directive\, municipal responsibilities in preventing demolition\, and future housing models – from renovation of older buildings to tiny houses and financing implications. \nWith BLOXHUB’s Chief Science & Innovation Officer\, Ditte Lysgaard Vind
URL:https://bloxhub.org/event/folkemodet-municipal-elections-2025-should-we-preserve-more-and-build-less/
LOCATION:Allinge\, Danmark
CATEGORIES:Debate,Free event,Open
ATTACH;FMTTYPE=image/jpeg:https://bloxhub.org/wp-content/uploads/2025/06/fm3-scaled-e1749131440821.jpg
END:VEVENT
BEGIN:VEVENT
DTSTART;TZID=Europe/Copenhagen:20250829T140000
DTEND;TZID=Europe/Copenhagen:20250829T143000
DTSTAMP:20260424T141231
CREATED:20250820T132037Z
LAST-MODIFIED:20250825T084812Z
UID:40821-1756476000-1756477800@bloxhub.org
SUMMARY:Klimafolkemødet - A Social Perspective On Energy
DESCRIPTION:How can we ensure that the green transition is also socially just?\nIn an EU context\, Denmark has relatively few people living in energy poverty — yet many are at risk\, including tenants\, young people\, and low-income groups. New research reveals that individuals experiencing energy poverty are not a homogeneous group and that distinct challenges necessitate tailored solutions. \nThis conversation salon invites reflection and dialogue: How do we engage those who are often excluded from the climate debate? Who takes responsibility for the social impacts of the energy crisis — and how can energy renovations and local involvement play a greater role? \nDrawing on European experiences and projects\, such as SUPERSHINE\, we will explore how the energy transition and social justice can be aligned. The discussion\, facilitated by European Green Cities\, will be based on open-ended questions\, sharing of experiences\, and joint exploration. \nTake part in the conversation at Klimafolkemødet in Middelfart 29th of August.
URL:https://bloxhub.org/event/klimafolketmodet-a-social-perspective-on-energy/
LOCATION:Folkemødet 2025\, Denmark
CATEGORIES:Free event,Open
ATTACH;FMTTYPE=image/jpeg:https://bloxhub.org/wp-content/uploads/2025/08/Foran-scenen_KFM2024_credit_Frank-Cilius-15.jpg
END:VEVENT
BEGIN:VEVENT
DTSTART;TZID=Europe/Copenhagen:20251002T080000
DTEND;TZID=Europe/Copenhagen:20251002T170000
DTSTAMP:20260424T141231
CREATED:20250903T074020Z
LAST-MODIFIED:20250905T085202Z
UID:41199-1759392000-1759424400@bloxhub.org
SUMMARY:Designing Wellbeing Cities - Nordic Pavilion at Osaka EXPO 2025
DESCRIPTION:On October 2\, Nordic partners invite you to the Nordic Pavilion at the Osaka Expo for a full day of cross-cultural exchange. \nJapan and the Nordics come together to explore how architecture and urban design can restore what algorithms can not: trust\, dignity\, and human connection in our cities. Across six sessions\, we explore how design can foster wellbeing in its many forms: through wellness\, inclusion\, connection\, belonging\, and collaboration. The day concludes with reflections on what we can learn from each other\, not by blending traditions\, but by building new ways of living\, working\, and designing across differences. \nWhy Japan and the Nordics? \nBecause both regions understand that the soul of a city lies not just in its systems\, but in its relationships. In Japan\, the concept of Ibasho — a place where one truly belongs — resonates with the Nordic tradition of community\, characterized by a commitment to social trust\, equality\, and collective welfare. These are not just ideals\, they are spatial principles\, embedded in how we build and live. Join us for a day of insight and inspiration\, where two cultures meet to imagine a more compassionate\, connected future. \nIf you’re planning to attend the EXPO and would like to join us\, please contact Director of Global Networks and Partnership\, Jakob Norman-Hansen via jnh@bloxhub.org
URL:https://bloxhub.org/event/designing-wellbeing-cities/
CATEGORIES:Global Networks,Open,Socializing,Workshop
ATTACH;FMTTYPE=image/jpeg:https://bloxhub.org/wp-content/uploads/2025/04/buddy-photo-eB1SDZanCtQ-unsplash-scaled-e1745496588507.jpg
END:VEVENT
BEGIN:VEVENT
DTSTART;TZID=Europe/Copenhagen:20251027T083000
DTEND;TZID=Europe/Copenhagen:20251027T110000
DTSTAMP:20260424T141231
CREATED:20251009T132816Z
LAST-MODIFIED:20251020T100521Z
UID:41829-1761553800-1761562800@bloxhub.org
SUMMARY:Hvordan samarbejder vi om at skabe fremtidens bynatur?
DESCRIPTION:I 2022 vedtog FN og de 196 medlemslande The Global Biodiversity Framework\, også kendt som Kunming-Montreal Aftalen. Aftalen fokuserer blandt andet på\, hvordan man kan øge den urbane natur for at understøtte biodiversitet\, naturens økosystemer og menneskelig trivsel. I Danmark håndteres Global Biodiversity Framework under Grøn Trepart\, men er ambitionerne heri Dækkende for de krav\, der stilles til fremtidens grønne bymiljøer? Og hvordan kan kommunerne være med til at løfte opgaven? \nDer er allerede meget læring og inspiration at hente i kommunernes arbejde med bynatur rundtomkring i landet. Men for at lykkes med de mange ambitioner og opfylde aftalen\, er der behov for samarbejde på tværs af offentlige\, private og andre aktører. \nFormålet med workshoppen er derfor at samle forskellige stemmer og interesser indenfor arbejdet med bynaturen til en fælles dialog om\, hvad der understøtter eller hæmmer kommunernes mulighed for at fremme den urbane natur\, som der lægges op til i aftalen. Workshoppen er samtidig med til at skabe grundlag for en videre proces\, der skal munde ud i en praktisk handleplan\, som kan hjælpe og inspirere kommunernes i deres arbejde med udvikling af den urbane natur. \nVi vil sammen kigge på spørgsmålene:\n• Hvad er målene for bynatur i Global Biodiversity Framework (mål 12)?\n• Hvilke systemiske og praktiske faktorer spiller ind på vores mulighed for at opnå mere bynatur?\n• Hvordan kan vi på tværs af kommuner\, myndigheder\, erhvervsliv og vidensinstitutioner samarbejde om at realisere aftalen? \nI workshoppen vil vi kigge ind i nogle af de eksisterende initiativer og læring fra samarbejde om bynatur\, på tværs af offentlige\, private og videnskabelige organisationer. Sammen skaber vi grundlaget for et videre forløb med faglig udvikling og inputs til arbejdet med bynatur og opfyldelse af FN-aftalen. \nDATO: 27. oktober 2025\, 08.30 – 11.00 (med ankomst og morgenmad fra kl. 8.00 – 8.30)  \nHVOR: BLOXHUB\, Fæstningens Materialgård\, Bryghuspladsen\, 1220 Kbh. K\, Møderum Los Angeles  \nDELTAGERE: Offentlige\, private\, akademiske og andre aktører indenfor den urbane natur  \nTilmeld dig her \nEventet er arrangeret af BLOXHUB og HABITATS
URL:https://bloxhub.org/event/hvordan-samarbejder-vi-om-at-skabe-fremtidens-bynatur/
LOCATION:BLOXHUB\, Bryghuspladsen 8\, 3rd floor\, København K\, 1473
CATEGORIES:Debate,Free event,Open
ATTACH;FMTTYPE=image/png:https://bloxhub.org/wp-content/uploads/2025/10/R_Hjortshoj-Gellerup-WEB-1-edit-e1760017096782.png
END:VEVENT
BEGIN:VEVENT
DTSTART;TZID=Europe/Copenhagen:20260428T143000
DTEND;TZID=Europe/Copenhagen:20260428T163000
DTSTAMP:20260424T141231
CREATED:20260423T070921Z
LAST-MODIFIED:20260423T071624Z
UID:43765-1777386600-1777393800@bloxhub.org
SUMMARY:Regenerative Resources - What's Next?
DESCRIPTION:The conversation around regenerative design is growing – and so is the need to move from inspiration to direction. \nAfter five well-attended sessions\, the Regenerative Resources for a Living Future network is entering its next phase. \nNow\, we’re opening it up. \nThis session is an invitation to anyone working with – or curious about – regenerative thinking in the built environment to help shape what comes next. \nNot as a passive audience\, but as part of defining: \n\nWhat conversations actually matter\nWhere the field needs to move\nAnd how this network can create real value for those involved\n\nWhy join \n\nBe part of setting the agenda for regenerative practice in BLOX HUB\nConnect with peers across disciplines working with similar questions\nHelp shape a network that is relevant\, focused\, and worth showing up for\nLearn from others – and bring your own perspective into the room\n\nWhether you’ve joined previous sessions or are new to the topic\, this is a chance to step in at a moment where direction is still open. \nThis meeting is member-led as part of the Regenerative Resources for a Living Future network\, led by Signe Helth and Anna Taws
URL:https://bloxhub.org/event/regenerative-resources-whats-next/
LOCATION:BLOXHUB\, Bryghuspladsen 8\, 3rd floor\, København K\, 1473
CATEGORIES:Open,Workshop
ATTACH;FMTTYPE=image/jpeg:https://bloxhub.org/wp-content/uploads/2026/04/getty-images-ODRVXAFOVC4-unsplash-scaled-e1776928136169.jpg
END:VEVENT
END:VCALENDAR