BEGIN:VCALENDAR
VERSION:2.0
PRODID:-//BLOXHUB - ECPv6.15.18//NONSGML v1.0//EN
CALSCALE:GREGORIAN
METHOD:PUBLISH
X-WR-CALNAME:BLOXHUB
X-ORIGINAL-URL:https://bloxhub.org
X-WR-CALDESC:Events for BLOXHUB
REFRESH-INTERVAL;VALUE=DURATION:PT1H
X-Robots-Tag:noindex
X-PUBLISHED-TTL:PT1H
BEGIN:VTIMEZONE
TZID:Europe/Copenhagen
BEGIN:DAYLIGHT
TZOFFSETFROM:+0100
TZOFFSETTO:+0200
TZNAME:CEST
DTSTART:20220327T010000
END:DAYLIGHT
BEGIN:STANDARD
TZOFFSETFROM:+0200
TZOFFSETTO:+0100
TZNAME:CET
DTSTART:20221030T010000
END:STANDARD
BEGIN:DAYLIGHT
TZOFFSETFROM:+0100
TZOFFSETTO:+0200
TZNAME:CEST
DTSTART:20230326T010000
END:DAYLIGHT
BEGIN:STANDARD
TZOFFSETFROM:+0200
TZOFFSETTO:+0100
TZNAME:CET
DTSTART:20231029T010000
END:STANDARD
BEGIN:DAYLIGHT
TZOFFSETFROM:+0100
TZOFFSETTO:+0200
TZNAME:CEST
DTSTART:20240331T010000
END:DAYLIGHT
BEGIN:STANDARD
TZOFFSETFROM:+0200
TZOFFSETTO:+0100
TZNAME:CET
DTSTART:20241027T010000
END:STANDARD
END:VTIMEZONE
BEGIN:VEVENT
DTSTART;TZID=Europe/Copenhagen:20230208T083000
DTEND;TZID=Europe/Copenhagen:20230208T093000
DTSTAMP:20260422T121430
CREATED:20230115T201127Z
LAST-MODIFIED:20230115T201127Z
UID:29023-1675845000-1675848600@bloxhub.org
SUMMARY:BLOXHUB Breakfast
DESCRIPTION:A monthly social breakfast in BLOXHUB Members Lounge – for members and residents only.
URL:https://bloxhub.org/event/bloxhub-breakfast-12/
LOCATION:BLOXHUB Members Lounge\, Bryghuspladsen 8\, 3rd floor\, Copenhagen\, Copenhagen\, 1473\, Denmark
CATEGORIES:Members Only,Residents Only
ATTACH;FMTTYPE=image/png:https://bloxhub.org/wp-content/uploads/2022/02/Breakfast.png
END:VEVENT
END:VCALENDAR