BEGIN:VCALENDAR
VERSION:2.0
PRODID:-//BLOXHUB - ECPv6.15.18//NONSGML v1.0//EN
CALSCALE:GREGORIAN
METHOD:PUBLISH
X-ORIGINAL-URL:https://bloxhub.org
X-WR-CALDESC:Events for BLOXHUB
REFRESH-INTERVAL;VALUE=DURATION:PT1H
X-Robots-Tag:noindex
X-PUBLISHED-TTL:PT1H
BEGIN:VTIMEZONE
TZID:Europe/Copenhagen
BEGIN:DAYLIGHT
TZOFFSETFROM:+0100
TZOFFSETTO:+0200
TZNAME:CEST
DTSTART:20220327T010000
END:DAYLIGHT
BEGIN:STANDARD
TZOFFSETFROM:+0200
TZOFFSETTO:+0100
TZNAME:CET
DTSTART:20221030T010000
END:STANDARD
BEGIN:DAYLIGHT
TZOFFSETFROM:+0100
TZOFFSETTO:+0200
TZNAME:CEST
DTSTART:20230326T010000
END:DAYLIGHT
BEGIN:STANDARD
TZOFFSETFROM:+0200
TZOFFSETTO:+0100
TZNAME:CET
DTSTART:20231029T010000
END:STANDARD
BEGIN:DAYLIGHT
TZOFFSETFROM:+0100
TZOFFSETTO:+0200
TZNAME:CEST
DTSTART:20240331T010000
END:DAYLIGHT
BEGIN:STANDARD
TZOFFSETFROM:+0200
TZOFFSETTO:+0100
TZNAME:CET
DTSTART:20241027T010000
END:STANDARD
END:VTIMEZONE
BEGIN:VEVENT
DTSTART;TZID=Europe/Copenhagen:20230412T083000
DTEND;TZID=Europe/Copenhagen:20230412T093000
DTSTAMP:20260422T084022
CREATED:20230115T201312Z
LAST-MODIFIED:20230115T201312Z
UID:29035-1681288200-1681291800@bloxhub.org
SUMMARY:BLOXHUB Breakfast
DESCRIPTION:A monthly social breakfast in BLOXHUB Members Lounge – for members and residents only.
URL:https://bloxhub.org/event/bloxhub-breakfast-14/
LOCATION:BLOXHUB Members Lounge\, Bryghuspladsen 8\, 3rd floor\, Copenhagen\, Copenhagen\, 1473\, Denmark
CATEGORIES:Members Only,Residents Only
ATTACH;FMTTYPE=image/png:https://bloxhub.org/wp-content/uploads/2022/02/Breakfast.png
END:VEVENT
BEGIN:VEVENT
DTSTART;TZID=Europe/Copenhagen:20230425T123000
DTEND;TZID=Europe/Copenhagen:20230425T140000
DTSTAMP:20260422T084022
CREATED:20230412T100022Z
LAST-MODIFIED:20230412T105023Z
UID:30286-1682425800-1682431200@bloxhub.org
SUMMARY:BLOXHUB’S ANNUAL GENERAL MEETING 2023
DESCRIPTION:Please join us for BLOXHUB’s Annual General Meeting.\nAll members are invited and have the right to vote. It is possible to participate and vote both physically and online. \nWhen: 25 April 2023\, 12.30 PM.\nWhere: BLOXHUB Arena\, Bryghuspladsen 8\, 3rd floor\, 1473 Copenhagen K \nAgenda \n\nElection of Moderator.\nThe Board’s report on the Association’s activities in 2022.\nPresentation of the audited Annual Report for approval.\nProposals submitted by the Board or the Association’s members.\nInformation regarding the appointment of board members and election of members.\nElection of auditor.\nAny other business.\n\nThe General Meeting will be conducted in English. \nThe Annual Report for 2022 will be made available for the members shortly before the General Meeting at https://bloxhub.org/about/ \nPlease sign up here:
URL:https://bloxhub.org/event/bloxhubs-annual-general-meeting-2023/
LOCATION:BLOXHUB Arena\, Bryghuspladsen 8\, Entrance C\, 3rd floor\, Copenhagen\, 1473
CATEGORIES:Members Only,Residents Only
ATTACH;FMTTYPE=image/jpeg:https://bloxhub.org/wp-content/uploads/2023/04/General-Assembly_BLOXHUB_event-header11.jpg
END:VEVENT
BEGIN:VEVENT
DTSTART;TZID=Europe/Copenhagen:20230425T140000
DTEND;TZID=Europe/Copenhagen:20230425T173000
DTSTAMP:20260422T084022
CREATED:20230330T134436Z
LAST-MODIFIED:20230425T082458Z
UID:30190-1682431200-1682443800@bloxhub.org
SUMMARY:The Future of Urban Transformation
DESCRIPTION:Join us in shaping a more desirable future for our cities. Based on input from the BLOXHUB ecosystem\, we’ve identified three key domains that will guide our efforts: Cities are Systems\, cities are Nature\, and Cities are Communities. Let’s embark on this exciting journey together. \nWhen: 25 April 2023\, 14 – 17\nWhere: BLOXHUB Arena\, Bryghuspladsen 8\, 3rd floor\, 1473 Copenhagen K \nPROGRAM \n14.00 Welcome \nTorben Klitgaard\, CEO of BLOXHUB \n14.15 Keynote: The Future of Urban Transformation \nAlfonso Vegara\, Founder & Honorary President\, Fundacion Metropoli\, Madrid \nAlfonso Vegara is a highly accomplished urban planner\, architect\, economist\, and sociologist. He strives to promote the future opportunities of cities within a complex and interconnected world\, most recently in his book “Supercities. The Intelligence of Territory”. \n14:35 Introducing the new BLOXHUB Domains  \n14:40 Cities are Systems \nPanel: Camilla Van Deurs (City Architect in Copenhagen)\, Ditte Lysgaard Vind (Founder\, The Circular Way)\, Enlai Hooi (Head of Innovation\, SHL)\, Robert Martin (Head of Mobility\, JAJA Architects) \n15:10 Short break  \n15:20 Cities are Nature \nPanel: Rikke Juul Gram (Partner\, Schønherr)\, Mike Lippert (Strategy Director\, SLA)\, Mie Wittenburg (Relations Developer\, idverde)\, Pernille Francke (Founder\, Byens Plantetorv)\, Rasmus Vincentz (CEO\, Habitats) \n15:50 Cities are Communities \nPanel: Christian Vatter (Architectural psychologist\, Rlevance)\, Lars Lundbye (Founder\, Almenr)\, Kasper Guldager (Co-founder\, Home.Earth)\, Frederik Busck (Co-founder\, CPH Village) \n16:20 What is the value of a bird’s song?\nSong performance created by artist and speculative designer Madeleine Kate McGowan (NXT) and performed and sung by French British mezzo soprano Lucie Cure. \n16:30 Outro Torben Klitgaard\, CEO of BLOXHUB \n16:35 Networking  \nPlease sign up here
URL:https://bloxhub.org/event/launch-of-bloxhub-beyond-intro-to-our-new-strategy/
LOCATION:BLOXHUB Arena\, Bryghuspladsen 8\, Entrance C\, 3rd floor\, Copenhagen\, 1473
CATEGORIES:Members Only,Residents Only
ATTACH;FMTTYPE=image/jpeg:https://bloxhub.org/wp-content/uploads/2023/03/Future-of-urban-transformation_BLOXHUB_event-header83.jpg
END:VEVENT
END:VCALENDAR