BEGIN:VCALENDAR
VERSION:2.0
PRODID:-//BLOXHUB - ECPv6.15.18//NONSGML v1.0//EN
CALSCALE:GREGORIAN
METHOD:PUBLISH
X-WR-CALNAME:BLOXHUB
X-ORIGINAL-URL:https://bloxhub.org
X-WR-CALDESC:Events for BLOXHUB
REFRESH-INTERVAL;VALUE=DURATION:PT1H
X-Robots-Tag:noindex
X-PUBLISHED-TTL:PT1H
BEGIN:VTIMEZONE
TZID:Europe/Copenhagen
BEGIN:DAYLIGHT
TZOFFSETFROM:+0100
TZOFFSETTO:+0200
TZNAME:CEST
DTSTART:20220327T010000
END:DAYLIGHT
BEGIN:STANDARD
TZOFFSETFROM:+0200
TZOFFSETTO:+0100
TZNAME:CET
DTSTART:20221030T010000
END:STANDARD
BEGIN:DAYLIGHT
TZOFFSETFROM:+0100
TZOFFSETTO:+0200
TZNAME:CEST
DTSTART:20230326T010000
END:DAYLIGHT
BEGIN:STANDARD
TZOFFSETFROM:+0200
TZOFFSETTO:+0100
TZNAME:CET
DTSTART:20231029T010000
END:STANDARD
BEGIN:DAYLIGHT
TZOFFSETFROM:+0100
TZOFFSETTO:+0200
TZNAME:CEST
DTSTART:20240331T010000
END:DAYLIGHT
BEGIN:STANDARD
TZOFFSETFROM:+0200
TZOFFSETTO:+0100
TZNAME:CET
DTSTART:20241027T010000
END:STANDARD
END:VTIMEZONE
BEGIN:VEVENT
DTSTART;TZID=Europe/Copenhagen:20230614T083000
DTEND;TZID=Europe/Copenhagen:20230614T093000
DTSTAMP:20260422T041041
CREATED:20230115T201354Z
LAST-MODIFIED:20230412T073637Z
UID:29047-1686731400-1686735000@bloxhub.org
SUMMARY:BLOXHUB Breakfast
DESCRIPTION:A monthly social breakfast in BLOXHUB Los Angeles – for members and residents only.
URL:https://bloxhub.org/event/bloxhub-breakfast-16/
LOCATION:BLOXHUB LA\, Fæstningens Materialgård\, Frederiksholms Kanal 30\, Copenhagen\, 1220\, Danmark
CATEGORIES:Members Only,Residents Only
ATTACH;FMTTYPE=image/png:https://bloxhub.org/wp-content/uploads/2022/02/Breakfast.png
END:VEVENT
END:VCALENDAR