BEGIN:VCALENDAR
VERSION:2.0
PRODID:-//BLOXHUB - ECPv6.15.18//NONSGML v1.0//EN
CALSCALE:GREGORIAN
METHOD:PUBLISH
X-ORIGINAL-URL:https://bloxhub.org
X-WR-CALDESC:Events for BLOXHUB
REFRESH-INTERVAL;VALUE=DURATION:PT1H
X-Robots-Tag:noindex
X-PUBLISHED-TTL:PT1H
BEGIN:VTIMEZONE
TZID:Europe/Copenhagen
BEGIN:DAYLIGHT
TZOFFSETFROM:+0100
TZOFFSETTO:+0200
TZNAME:CEST
DTSTART:20220327T010000
END:DAYLIGHT
BEGIN:STANDARD
TZOFFSETFROM:+0200
TZOFFSETTO:+0100
TZNAME:CET
DTSTART:20221030T010000
END:STANDARD
BEGIN:DAYLIGHT
TZOFFSETFROM:+0100
TZOFFSETTO:+0200
TZNAME:CEST
DTSTART:20230326T010000
END:DAYLIGHT
BEGIN:STANDARD
TZOFFSETFROM:+0200
TZOFFSETTO:+0100
TZNAME:CET
DTSTART:20231029T010000
END:STANDARD
BEGIN:DAYLIGHT
TZOFFSETFROM:+0100
TZOFFSETTO:+0200
TZNAME:CEST
DTSTART:20240331T010000
END:DAYLIGHT
BEGIN:STANDARD
TZOFFSETFROM:+0200
TZOFFSETTO:+0100
TZNAME:CET
DTSTART:20241027T010000
END:STANDARD
END:VTIMEZONE
BEGIN:VEVENT
DTSTART;TZID=Europe/Copenhagen:20231215T160000
DTEND;TZID=Europe/Copenhagen:20231215T230000
DTSTAMP:20260421T161751
CREATED:20231128T144509Z
LAST-MODIFIED:20231128T144509Z
UID:32948-1702656000-1702681200@bloxhub.org
SUMMARY:BLOXHUB Christmas Party 2023
DESCRIPTION:Join the annual BLOXHUB Christmas Party on December 1st\, where you’ll enjoy delicious food\, participate in our famous music quiz\, and dance the night away with your fellow BLOXHUB residents. \nDon’t forget the cutthroat Circular Present Game\, which requires each attendee to bring a circular present – no buying anything new\, please. \nPlease note that there is a limit of 150 attendees\, so sign-up will be on a first-come-first-serve basis if necessary. \nThe price is 500 DKK (inclusive of VAT) per person. The invoice will be sent to your company\, and it’s also possible to pay by credit card at the reception. \nPlease be aware that signing up is binding starting December 1st\, 2023\, and your company will be invoiced even if you cannot attend. \nThe Christmas Party is exclusively for BLOXHUB residents. \nThe deadline for signing up is December 1st. To sign up\, please use the form below.
URL:https://bloxhub.org/event/bloxhub-christmas-party-2023/
LOCATION:BLOXHUB Arena\, Bryghuspladsen 8\, Entrance C\, 3rd floor\, Copenhagen\, 1473
CATEGORIES:Residents Only
ATTACH;FMTTYPE=image/jpeg:https://bloxhub.org/wp-content/uploads/2023/11/X-Mas-Party-BLOXHUB-scaled.jpg
END:VEVENT
END:VCALENDAR