BEGIN:VCALENDAR
VERSION:2.0
PRODID:-//BLOXHUB - ECPv6.15.20//NONSGML v1.0//EN
CALSCALE:GREGORIAN
METHOD:PUBLISH
X-WR-CALNAME:BLOXHUB
X-ORIGINAL-URL:https://bloxhub.org
X-WR-CALDESC:Events for BLOXHUB
REFRESH-INTERVAL;VALUE=DURATION:PT1H
X-Robots-Tag:noindex
X-PUBLISHED-TTL:PT1H
BEGIN:VTIMEZONE
TZID:Europe/Copenhagen
BEGIN:DAYLIGHT
TZOFFSETFROM:+0100
TZOFFSETTO:+0200
TZNAME:CEST
DTSTART:20190331T010000
END:DAYLIGHT
BEGIN:STANDARD
TZOFFSETFROM:+0200
TZOFFSETTO:+0100
TZNAME:CET
DTSTART:20191027T010000
END:STANDARD
BEGIN:DAYLIGHT
TZOFFSETFROM:+0100
TZOFFSETTO:+0200
TZNAME:CEST
DTSTART:20200329T010000
END:DAYLIGHT
BEGIN:STANDARD
TZOFFSETFROM:+0200
TZOFFSETTO:+0100
TZNAME:CET
DTSTART:20201025T010000
END:STANDARD
BEGIN:DAYLIGHT
TZOFFSETFROM:+0100
TZOFFSETTO:+0200
TZNAME:CEST
DTSTART:20210328T010000
END:DAYLIGHT
BEGIN:STANDARD
TZOFFSETFROM:+0200
TZOFFSETTO:+0100
TZNAME:CET
DTSTART:20211031T010000
END:STANDARD
END:VTIMEZONE
BEGIN:VEVENT
DTSTART;TZID=Europe/Copenhagen:20200923T080000
DTEND;TZID=Europe/Copenhagen:20201111T170000
DTSTAMP:20260424T093608
CREATED:20200921T131704Z
LAST-MODIFIED:20201109T160345Z
UID:11480-1600848000-1605114000@bloxhub.org
SUMMARY:City Life in Times and After Corona
DESCRIPTION:How will our cities change post-pandemic? What can we do as citizens\, urban planners\, architects\, designers and decision-makers to ensure the right restart for our cities – and protect ourselves against future pandemics? \nThrough a new Nordic partnership between DOGA – Design and Architecture Norway\, Danish Design Centre\, BLOXHUB\, Gehl Architects\, Copenhagen Institute of Futures Studies and Urban Agenda\, we dive into the dilemmas of pandemic-proof cities and help generate the best solutions for restarting the good life in our cities. \nVenue:  \nBLOXHUB + Live Stream \nCalendar: \n#3:          23/9 11.00-12.00 am: BLOXHUB Debates: Democratic Digitalization? More info and registration \n#4:          23/9 15.00 – 16.15 pm: Science Talks: The importance of indoor and outdoor climate in relation to COVID-19 w. Associate Professor Joseph Allen\, Harvard\, and Professor John Macomber\, Harvard: More info and registration \n#5:           28/10: 15.00 – 16.15 am: BLOXHUB Debates: The impact of Covid-19 on health and housing inequalities \n#6:         29/10 15.00 – 16.00 pm: Science Talks: Public Space in European Social Housing w. Associate Professor Anne Tietjen\, University of Copenhagen \n#7:         23/11: 15.00 – 16.15 pm: BLOXHUB Debates: Future scenarios for post-COVID-19 Cities zooming in on work\, mobility\, culture and shopping. \n 
URL:https://bloxhub.org/event/city-life-in-times-and-after-corona/
LOCATION:BLOXHUB Arena\, Bryghuspladsen 8\, Entrance C\, 3rd floor\, Copenhagen\, 1473
CATEGORIES:Debate,Open
ATTACH;FMTTYPE=image/png:https://bloxhub.org/wp-content/uploads/2020/09/Skærmbillede-2020-09-21-kl.-14.41.26.png
END:VEVENT
BEGIN:VEVENT
DTSTART;TZID=Europe/Copenhagen:20201005T090000
DTEND;TZID=Europe/Copenhagen:20201006T150000
DTSTAMP:20260424T093608
CREATED:20200713T114411Z
LAST-MODIFIED:20200819T190407Z
UID:9329-1601888400-1601996400@bloxhub.org
SUMMARY:Den levende SDG by – fra værdigrundlag til operationelt innovationsrum
DESCRIPTION:Deep Dive Workshop:  \nSom mange andre steder er SDG’erne i dag blevet værdiggrundlaget for en mere bæredygtig udvikling af vores samfund. \nDet særlige ved SDG’erne er\, at de rummer et stort potentiale for ikke kun i at italesætte en række bæredygtige værdier men også som katalysator for skabelsen af et innovationsrum for fremtidens bæredygtige løsninger. Men hvordan sikres denne bevægelse fra SDG’erne som værdigrundlag til et operationelt innovationsrum? \nDenne workshops formål er at afdække muligheder og udvikle konkrete koncepter for\, hvordan den danske byggesektor aktivt kan benytte SDG’er som et værdibaseret innovationsrum for udviklingen af fremtidens danske byområder. \nEksklusivt for BLOXHUB medlemmer eller pr. invitation. \nWorkshoppen vil finde sted over to dage – datoerne er foreløbigt tentative.  \n  \nHvis workshoppen har din virksomheds interesse\, så kontakt: \nLotte Christina Breengaard\, Program Director \nE-mail: lcb@bloxhub.org\nTlf. +45 22 68 46 43
URL:https://bloxhub.org/event/den-levende-sdg-by-fra-vaerdigrundlag-til-operationelt-innovationsrum/
LOCATION:BLOXHUB\, Bryghuspladsen 8\, 3rd floor\, København K\, 1473
CATEGORIES:Members Only
ATTACH;FMTTYPE=image/png:https://bloxhub.org/wp-content/uploads/2020/02/Udklip-6-1080x575.png
END:VEVENT
BEGIN:VEVENT
DTSTART;TZID=Europe/Copenhagen:20201015T163000
DTEND;TZID=Europe/Copenhagen:20201015T180000
DTSTAMP:20260424T093608
CREATED:20201015T113724Z
LAST-MODIFIED:20201015T113724Z
UID:12266-1602779400-1602784800@bloxhub.org
SUMMARY:Urbantech Meetup / PECHAKUCHA TUESDAY!
DESCRIPTION:Join us for the next Urbantech Meetup in BLOXHUB. \nFor this Urbantech Meetup #3\, we are pleased to welcome Alex Ignatius Costa\, Product Planning Lead at Leo Pharma\, and Torben Krab\, Program Manager at BLOXHUB (Urban Partnerships). They will give a short but intense presentation that will inspire\, spark new ideas\, and give you food for thought. \nStick around afterwards for some networking and cold drinks. \nAgenda:\n16:30 – 16:45 Welcome & Introduction.\n16:45 – 17:00 Pecha Kucha presentation by Alex Ignatius Costa\n17:00 – 17:05 Q&A\n17:05 – 17:20 Pecha Kucha presentation by Torben Krab\n17:20 – 17:25 Q&A\n17:25 – 18:00 Networking and cold drinks
URL:https://bloxhub.org/event/urbantech-meetup-pechakucha-tuesday/
LOCATION:BLOXHUB LA\, Fæstningens Materialgård\, Frederiksholms Kanal 30\, Copenhagen\, 1220\, Danmark
CATEGORIES:Open
ATTACH;FMTTYPE=image/png:https://bloxhub.org/wp-content/uploads/2020/10/Skaermbillede-2020-10-15-kl.-13.32.36.png
END:VEVENT
BEGIN:VEVENT
DTSTART;TZID=Europe/Copenhagen:20201020T090000
DTEND;TZID=Europe/Copenhagen:20201021T150000
DTSTAMP:20260424T093608
CREATED:20200713T112441Z
LAST-MODIFIED:20200903T145748Z
UID:9302-1603184400-1603292400@bloxhub.org
SUMMARY:Coastal Zone Protection – New Financing Mechanisms
DESCRIPTION:Deep Dive Workshop: \nDanske kommuner står over for et stigende behov for at klimasikre den danske kystzone – særligt omkring bebyggede områder. Disse projekter er dog ofte afhængige af økonomisk finansiering via offentlige puljer eller EU-midler\, som langt fra altid er til rådighed. \nUdfordringen er derfor at skabe en økonomisk model\, der tiltrækker den nødvendige interesse fra investorer til at sikre\, at det økonomiske bæredygtighedshjul drejer rundt. \n  \nDenne workshop vil udforske\, hvordan vi skaber nye finansieringsmodeller\, som øger de økonomiske incitamenter til at investere i kystzonebeskyttelse: \n\nHvilke økonomiske værdier eksisterer i kystzonebeskyttelse?\nHvilket økosystem af aktører (værdikæde) eksisterer omkring investeringer i kystzonebeskyttelse?\nHvilke krav til nye risikoafdækningsmodeller skal der skabes for at kunne analysere på de økonomiske værdier?\nHvilke tekniske løsninger kan bidrage til at øge de økonomiske værdier i kystzoneudvikling?\nHvordan styrkes den økonomisk profil i projekteringen af kystzoneprojekter\n\n  \nEksklusivt for BLOXHUB medlemmer eller pr. invitation. \n  \nHvis du som BLOXHUB medlem har interesse i workshoppen så kontakt: \nLotte Christina Breengaard\, Program Director \nE-mail: lcb@bloxhub.org\nTlf. +45 22 68 46 43
URL:https://bloxhub.org/event/coastal-zone-protection-new-financing-mechanisme/
LOCATION:BLOXHUB\, Bryghuspladsen 8\, 3rd floor\, København K\, 1473
CATEGORIES:Members Only
ATTACH;FMTTYPE=image/jpeg:https://bloxhub.org/wp-content/uploads/2020/02/1-12.jpg
END:VEVENT
BEGIN:VEVENT
DTSTART;VALUE=DATE:20201021
DTEND;VALUE=DATE:20201024
DTSTAMP:20260424T093608
CREATED:20200707T194718Z
LAST-MODIFIED:20201013T140327Z
UID:8039-1603238400-1603497599@bloxhub.org
SUMMARY:BLOXHUB SUMMER SCHOOL: TRANSFORMATION OG RENOVERING session 2
DESCRIPTION:Deltag i  Det Kongelige Akademi – Arkitektur\, Design\, Konservering og BLOXHUB’s Summer School Session 2 om transformation og renovering – arkitektur\, håndværk\, bæredygtighed og byggeteknik. \nKurset giver indsigt i transformationsarkitekturens teori og historie\, færdigheder i anvendelsen af transformationsarkitekturens metoder og værktøjer\, håndværksmæssige teknikker\, viden om materialer og kompetencer i projektfremstilling og tværfagligt samarbejde. \nKurset er udviklet i et samarbejde mellem Byggeriets Uddannelser\,  Det Kongelige Akademi – Arkitektur\, Design\, Konservering og EUC Nord. Projektet er støttet af Realdania og Grundejernes investeringsfond og indgår i en BLOXHUB-satsning for at styrke tværfagligt samarbejde i byggeriet. \nMålet er at udvikle en fælles viden\, konkret kunnen og metodisk fremgangsmåde på tværs af byggeriets faggrupper for at øge kvaliteten i og omkring transformation og renovering af den eksisterende bygningsmasse. \nPå kurset arbejdes der med aktuelle problemstillinger fx energirenovering af Vikingeskibsmuseet\, transformation af Brønshøj vandtårn eller addition af taglejligheder på Nørrebro. Samtidig er kurset bygget op omkring en række konkrete cases\, hvor hver case tager udgangspunkt i en konkret bygningsdel. Det kunne eksempelvis være energiforbedring af vinduer\, efterisolering af mur\, pudsning af facade\, reparation af fuger\, reetablering af (udvendig) stuk\, kvaderpuds eller udlusning af bindingsværk. \nDet får du ud af kurset: \n\nindsigt i transformationsarkitekturens teori og historie\nfærdigheder i anvendelsen af transformationsarkitekturens metoder\nværktøjer og håndværksmæssige teknikker\nviden om materialer\nkompetencer i projektfremstilling og tværfagligt samarbejde.\n\nMålgruppe \nDa projektets hovedformål er at arbejde tværfagligt\, sigtes der på at rekruttere fra alle faggrupper\, der arbejder med transformation og renovering dvs. håndværkere\, konstruktører\, ingeniører\, arkitekter og rådgivere fra myndigheder. \nTid\, sted og tilmelding:\nKurset er opdelt i tre sessioner\, hvoraf den første og sidste holdes i København og den midterste i Aalborg/Hjørring. Du skal således påregne tid og udgifter til transport og overnatning. \n1. session: 24.-25. september 2020\nDet Kongelige Akademi – Arkitektur\, Design\, Konservering\, Philip de Langes Allé 10\, 1435 Kbh. K\n2. session: 21.-23. oktober 2020\nAalborg (byvandring) og EUC Nord\, M P Koefoeds Vej 10\, 9800 Hjørring. 2. session starter i Aalborg med en én-dags byvandring. Der er derefter arrangeret transport til Hjørring. Mødested Aalborg Station kl. 10:00.\n3. session: 12. november 2020\nDet Kongelige Akademi – Arkitektur\, Design\, Konservering\, Philip de Langes Allé 10\, 1435 Kbh. K\n\nMeget mere info og tilmelding: https://kglakademi.dk/transformation-og-renovering \n\n\n\n\nHvis du er interesseret i at deltage i kurset eller har spørgsmål\, er du velkommen til at kontakte Philip Sønderberg\, Chef for efter- og videreuddannelse\,  Det Kongelige Akademi – Arkitektur\, Design\, Konservering på pson@kadk.dk eller tlf. 41 70 19 07.
URL:https://bloxhub.org/event/bloxhub-summer-school-transformation-og-renovering-session-2/
CATEGORIES:Open
ATTACH;FMTTYPE=image/png:https://bloxhub.org/wp-content/uploads/2020/07/Skærmbillede-2020-07-07-kl.-21.29.40.png
END:VEVENT
BEGIN:VEVENT
DTSTART;TZID=Europe/Copenhagen:20201028T150000
DTEND;TZID=Europe/Copenhagen:20201028T161500
DTSTAMP:20260424T093608
CREATED:20201021T105828Z
LAST-MODIFIED:20201027T190259Z
UID:12274-1603897200-1603901700@bloxhub.org
SUMMARY:BLOXHUB Debates: The impact of Covid-19 on health and housing inequalities
DESCRIPTION:COVID-19 highlights inequality in society – especially in relation to health and housing. So how can we design for more equality and social coherence in our post-pandemic cities and housing? \nJoin us when we zoom in on the impact of COVID-19 on health and housing inequalities together with our panelists: \n Bo Jessen\, Senior Consultant\, Office of Urban Strategy and Growth\, Mayor’s Management\, City of Odense.\nCamilla Moneta\, Head of Architecture at Norwegian Association for Architects\nMikkel Warming\, Development Manager\, the Housing Association 3B\nAksel Goth\, Resident at Kamelia Hus\, a co-housing community for seniors\nSiv Helene Stangeland\, Founding partner\, architect PhD\, Helen & Hard \nGet your ticket for physical attendance or join us through our live-streaming by signing up here: \n \n  \nIn collaboration with Design and Architecture Norway\, Gehl Architects\, Urban Agenda\, Institute for Futures Studies & BLOXHUB\, the Danish Design Centre will facilitate this debate in the event series City Life in Times of and After Corona. \nSee an overview of the full event series: City life in times and after Corona
URL:https://bloxhub.org/event/bloxhub-debates-the-impact-of-covid-19-on-health-and-housing-inequalities/
CATEGORIES:Debate,Open
ATTACH;FMTTYPE=image/png:https://bloxhub.org/wp-content/uploads/2020/10/The-impact-of-corona.png
END:VEVENT
BEGIN:VEVENT
DTSTART;TZID=Europe/Copenhagen:20201029T150000
DTEND;TZID=Europe/Copenhagen:20201029T163000
DTSTAMP:20260424T093608
CREATED:20200717T092048Z
LAST-MODIFIED:20201027T191445Z
UID:10127-1603983600-1603989000@bloxhub.org
SUMMARY:Science Talks: Doing research together with architecture exhibitions
DESCRIPTION:In every city\, there are topics which matter greatly to many people\, e.g. public space\, democracy\, and citizen engagement. There are topics which many people have an opinion about\, e.g. social housing. \nSo how do we create new knowledge about these important topics?  And how do we make this knowledge matter on the ground? \nWhat does it mean to do research with architecture exhibitions and in which ways does that ensure democratic involvement and engagement? \nWhat is it like to work collaboratively and cross-disciplinarily and across four European countries in 2020? \nJoin us for our next Science Talks. Here\, Anne Tietjen\, Associate Professor in Landscape Architecture and Urban Design\, University of Copenhagen\, will share valuable insights from a European research project\, PUSH\, and address some of the nuances of citizen engagement and public space. \nOur Science Talks will be streamed live but we also have limited seats for this Science Talks. \nPlease sign up:
URL:https://bloxhub.org/event/science-talks-october-pandemic-proof-cities/
LOCATION:ONLINE
CATEGORIES:Open,Science Forum
ATTACH;FMTTYPE=image/png:https://bloxhub.org/wp-content/uploads/2020/07/doing-research.png
END:VEVENT
END:VCALENDAR