BEGIN:VCALENDAR
VERSION:2.0
PRODID:-//BLOXHUB - ECPv6.15.20//NONSGML v1.0//EN
CALSCALE:GREGORIAN
METHOD:PUBLISH
X-ORIGINAL-URL:https://bloxhub.org
X-WR-CALDESC:Events for BLOXHUB
REFRESH-INTERVAL;VALUE=DURATION:PT1H
X-Robots-Tag:noindex
X-PUBLISHED-TTL:PT1H
BEGIN:VTIMEZONE
TZID:Europe/Copenhagen
BEGIN:DAYLIGHT
TZOFFSETFROM:+0100
TZOFFSETTO:+0200
TZNAME:CEST
DTSTART:20200329T010000
END:DAYLIGHT
BEGIN:STANDARD
TZOFFSETFROM:+0200
TZOFFSETTO:+0100
TZNAME:CET
DTSTART:20201025T010000
END:STANDARD
BEGIN:DAYLIGHT
TZOFFSETFROM:+0100
TZOFFSETTO:+0200
TZNAME:CEST
DTSTART:20210328T010000
END:DAYLIGHT
BEGIN:STANDARD
TZOFFSETFROM:+0200
TZOFFSETTO:+0100
TZNAME:CET
DTSTART:20211031T010000
END:STANDARD
BEGIN:DAYLIGHT
TZOFFSETFROM:+0100
TZOFFSETTO:+0200
TZNAME:CEST
DTSTART:20220327T010000
END:DAYLIGHT
BEGIN:STANDARD
TZOFFSETFROM:+0200
TZOFFSETTO:+0100
TZNAME:CET
DTSTART:20221030T010000
END:STANDARD
END:VTIMEZONE
BEGIN:VEVENT
DTSTART;TZID=Europe/Copenhagen:20210211T150000
DTEND;TZID=Europe/Copenhagen:20210211T163000
DTSTAMP:20260424T034804
CREATED:20200717T091002Z
LAST-MODIFIED:20210129T130631Z
UID:10091-1613055600-1613061000@bloxhub.org
SUMMARY:Science Talks - The sound of architecture by means of virtual acoustics
DESCRIPTION:Join us online Febrary 11\, from 3:00-4:30PM CET \nFinnur Pind’s research can be seen as three punch combination: Improving acoustic simulation accuracy\, improving computational efficiency of simulations and providing easily accessible design tools based on these simulations. Join us for our next Science Talks where Finnur Pind\, ph.d.\, presents his research on acoustics. He will also share his recommendations and methods on how to improve acoustics through accessible design tools. \nFinnur Pind: CEO at Treble Technologies and postdoctoral researcher at the University of Iceland. \nSign up for registration in the form below:
URL:https://bloxhub.org/event/science-talks-february-the-sound-of-architecture-by-means-of-virtual-acoustics/
LOCATION:BLOXHUB\, Bryghuspladsen 8\, 3rd floor\, København K\, 1473
CATEGORIES:Open,Science Forum
ATTACH;FMTTYPE=image/jpeg:https://bloxhub.org/wp-content/uploads/2020/07/Indeklima_Science.jpg
END:VEVENT
BEGIN:VEVENT
DTSTART;TZID=Europe/Copenhagen:20210225T090000
DTEND;TZID=Europe/Copenhagen:20210225T110000
DTSTAMP:20260424T034804
CREATED:20210205T093749Z
LAST-MODIFIED:20210205T095652Z
UID:15109-1614243600-1614250800@bloxhub.org
SUMMARY:Global Day - Go Nordic
DESCRIPTION:The Nordic countries are clear favorite markets of BLOXHUB members. And why not? The Nordics represent a large number of likeminded potential partners and accessible business opportunities.   \nBut how to approach these markets? Luckily\, we have lot of interesting networks and partners in the region\, that we are happy to introduce at this Global Day: You can among other meet H22\,  responsible for a massive district development project in Helsingborg\, learn how circular construction is approached in Norway\, and how the Scandinavian networks can be unlocked and lead to partnerships. It will be our pleasure to welcome any member with interest in the Nordics! \nPlease sign up HERE
URL:https://bloxhub.org/event/global-day-go-nordic/
ATTACH;FMTTYPE=image/png:https://bloxhub.org/wp-content/uploads/2021/02/Global_Day_Logo.png
END:VEVENT
BEGIN:VEVENT
DTSTART;TZID=Europe/Copenhagen:20210225T150000
DTEND;TZID=Europe/Copenhagen:20210225T170000
DTSTAMP:20260424T034804
CREATED:20210205T095428Z
LAST-MODIFIED:20210224T155859Z
UID:15120-1614265200-1614272400@bloxhub.org
SUMMARY:TECH MATCH Launch - 3. runde
DESCRIPTION:Tilmeld dig TECH MATCH Launch d. 25. februar og bliv klogere på\, hvordan du kan få hjælp til at løse en forretningsmæssig udfordring med 500.000 DKK og ny teknologi. \nSammen med Realdania og FundingBox inviterer vi til lanceringen af Tech Match den 25. februar kl. 15-17. Hør mere om\, hvordan og hvor enkelt SMV’ere\, der arbejder med bæredygtige løsninger i byggeriet\, kan ansøge om at få hjælp til at løse en konkret forretningsmæssig udfordring med teknologi fra en high-end EU tech startup og op til 500.000 DKK i funding. \nLæs mere om Tech Match programmet og tilmeld dig online eventen nu HER
URL:https://bloxhub.org/event/tech-match-launch-3-runde/
ATTACH;FMTTYPE=image/png:https://bloxhub.org/wp-content/uploads/2021/02/Tech-Match-Launch_NO3.png
END:VEVENT
END:VCALENDAR