BEGIN:VCALENDAR
VERSION:2.0
PRODID:-//BLOXHUB - ECPv6.15.20//NONSGML v1.0//EN
CALSCALE:GREGORIAN
METHOD:PUBLISH
X-ORIGINAL-URL:https://bloxhub.org
X-WR-CALDESC:Events for BLOXHUB
REFRESH-INTERVAL;VALUE=DURATION:PT1H
X-Robots-Tag:noindex
X-PUBLISHED-TTL:PT1H
BEGIN:VTIMEZONE
TZID:Europe/Copenhagen
BEGIN:DAYLIGHT
TZOFFSETFROM:+0100
TZOFFSETTO:+0200
TZNAME:CEST
DTSTART:20200329T010000
END:DAYLIGHT
BEGIN:STANDARD
TZOFFSETFROM:+0200
TZOFFSETTO:+0100
TZNAME:CET
DTSTART:20201025T010000
END:STANDARD
BEGIN:DAYLIGHT
TZOFFSETFROM:+0100
TZOFFSETTO:+0200
TZNAME:CEST
DTSTART:20210328T010000
END:DAYLIGHT
BEGIN:STANDARD
TZOFFSETFROM:+0200
TZOFFSETTO:+0100
TZNAME:CET
DTSTART:20211031T010000
END:STANDARD
BEGIN:DAYLIGHT
TZOFFSETFROM:+0100
TZOFFSETTO:+0200
TZNAME:CEST
DTSTART:20220327T010000
END:DAYLIGHT
BEGIN:STANDARD
TZOFFSETFROM:+0200
TZOFFSETTO:+0100
TZNAME:CET
DTSTART:20221030T010000
END:STANDARD
END:VTIMEZONE
BEGIN:VEVENT
DTSTART;TZID=Europe/Copenhagen:20210315T150000
DTEND;TZID=Europe/Copenhagen:20210315T170000
DTSTAMP:20260424T021437
CREATED:20210227T120619Z
LAST-MODIFIED:20210311T155705Z
UID:15996-1615820400-1615827600@bloxhub.org
SUMMARY:The Boring Revolution: Kollektive investeringer i byens fælles goder - hvor er mulighederne\, og hvordan gør vi byen fælles igen?
DESCRIPTION:Viden\, debat og lancering af Urban Commons – start-up med fokus på facilitering og finansiering af byens fællesskaber. \nDe gængse markedsmekanismer udfordrer byernes udvikling. Der er brug for andre måder at tænke finansiering og ejerskab på\, hvis byerne fortsat skal rumme fællesskabet og de mange\, og dermed i sidste ende være attraktiv socialt\, miljømæssigt og – ikke at forglemme – økonomisk. \nMed afsæt i mantraet ”Kollektive løsninger kræver kollektiv finansiering” følger vi i dette arrangement op på arbejdet gjort i 2020 med ”den stille revolution” og stiller spørgsmålet: Hvor er der særligt behov og mulighed for alternative og mere kollektive måder at investere i og eje byen? \nProgram \n\nDen røde tråd: Tankerne i den stille revolution og hvor vi er nu; Torben Klitgaard\nBrobygning mellem kapital og bæredygtigt byggeri – hvad har vi lært i Sustain Solutions?; Christian Niepoort\, Sustain Solution\nKollektiv finansiering af byens goder – hvor er vi\, og hvad mangler? Søren Hilbert\, Lundgrens\nLancering af “Urban Commons” – start-up med fokus på urban impact investment\, Mikkel Thomassen\, Smith Innovation og Urban Commons\nDiskussion: Hvor skal vi starte med at investere kollektivt – vejtræ\, park eller kystsikring?\nReception: Vi løfter det virtuelle glas for den nystartede virksomhed og alle der vil være med til at gentænke byens ejerskab.\n\nArrangementet foregår online og link sendes til tilmeldte deltagere forud for afholdelse. \nTilmeld dig via tilmeldingsformularen herunder
URL:https://bloxhub.org/event/the-boring-revolution-kollektive-investeringer-i-byens-faelles-goder-hvor-er-mulighederne-og-hvordan-gor-vi-byen-faelles-igen/
LOCATION:ONLINE
CATEGORIES:Debate,Open
ATTACH;FMTTYPE=image/jpeg:https://bloxhub.org/wp-content/uploads/2021/02/Boring_revolution_BLOXHUB-scaled.jpg
END:VEVENT
BEGIN:VEVENT
DTSTART;TZID=Europe/Copenhagen:20210317T160000
DTEND;TZID=Europe/Copenhagen:20210317T171500
DTSTAMP:20260424T021437
CREATED:20201214T132001Z
LAST-MODIFIED:20210317T120636Z
UID:13616-1615996800-1616001300@bloxhub.org
SUMMARY:BLOXHUB Debates: The value of sound - How do we get better acoustics in architecture? 
DESCRIPTION:Our indoor climate has a significant impact on our health and cognitive functions. Study after study shows that our wellbeing and performance improves dramatically with higher rates of ventilation\, optimal humidity\, lightning\, noise control and well-designed spaces. \nSo\, what does it take to turn that knowledge into action? \nJoin our next debate in our series on Healthy Buildings\, where we take a look into sound and acoustics in public buildings and office environments and pose the following questions: \n\nDo our buildings sound healthy?\nHow do sustainable sounding buildings sound?\nCan acoustics be aesthetically designed?\nWhy are we still building schools and hospitals with no thought of acoustics?\nWhere in the building phase is it going wrong?\n\nThe panelists consist of a wide range of representatives from the value chain. They will share their take on what we lack and what we have to conceive in order to create better acoustics. \nModerator: Morten Roar Berg\, Ecophon \nPANEL \n\nAnne Mette Boye. Stadsarkitekt / Chief City Architect\, Arkitekt MAA\, Ph.d. Aarhus Kommune\nMarie Koldkjær Højlund\, Sound artist and composer\, Assistant Professor in Sound Studies at Aarhus University (PhD Audio Design) \nPierre Marie\, Acoustics specialist at VELFAC\, former acoustic consultant for TRUST projects at Sweco\nJesper Bo Andersen\, Chief Consultant in Acoustics and Noise\, Rambøll\nGitte Andersen is Global Head of Workplace Management & Design at SIGNAL Group\, Head of SIGNAL UK \n\nCases \n\nAndrew Parkin\, Partner\, Global Head of Acoustics\, Cundall \nMaria Snerftrup\, Primary school teacher \n\nSign up via form below: \n \nThe debate series “Healthy buildings – high performance – happy hearts and minds” is created in collaboration between Proptech\, BUILD\, Velux\, LYS\, Sound Cluster DK\, Climaid\, Realdania and BLOXHUB.
URL:https://bloxhub.org/event/bloxhub-debates-healthy-buildings/
LOCATION:ONLINE
CATEGORIES:Open
ATTACH;FMTTYPE=image/png:https://bloxhub.org/wp-content/uploads/2020/12/Indeklima_BXH-SOUND-17.03.2021_DFH.png
END:VEVENT
BEGIN:VEVENT
DTSTART;TZID=Europe/Copenhagen:20210323T150000
DTEND;TZID=Europe/Copenhagen:20210323T163000
DTSTAMP:20260424T021437
CREATED:20210116T142918Z
LAST-MODIFIED:20210316T091935Z
UID:14638-1616511600-1616517000@bloxhub.org
SUMMARY:Co-creating a circular campus - part of circular city week\, NY
DESCRIPTION:Barnard College\, the winner of the recent Build Back Circular Call from BLOXHUB & Danish Cleantech Hub\, NY\, aim to rethink campus living and create the first Circular Campus in the US. \nNB: Please note the time difference upon registration: 15-16:30 DK /10-11:30 NY \nThis online discussion is a part of a collaboration between BLOXHUB\, the Nordic Hub for sustainable urbanization\, and Barnard. With an overall aim to make a practical contribution to the implementation of circular principles in campus development\, we will ask: how can Barnards commitment to becoming a Circular Campus inform design and operating decisions that can reshape patterns and support the change of behavior? \nThis interactive 1\,5-hour session aims to inform\, inspire and involve urban planners\, university students/staff/faculty\, sustainability professionals\, architects\, and anyone looking to move from circular plan to implementation. Together with our panel invitees and participants we will explore possible perspectives\, identifying opportunities and challenges\, and taking into account the principles of the circular economy by addressing the following questions: \nWhy is circularity key to developing the university campus of the future? And how to develop initiatives and strategies with maximum impact? \nYour hosts will be:\n\nLotte Breengaard\, Program Director of Urban Partnerships\, BLOXHUB\n Sandra Goldmark\, Associate Professor of Professional Practice and Director of Campus Sustainability and Climate Action\, Barnard College\n\nAgenda:\n\nWelcome and introduction to the innovation processes & intro to Circular City Week\, Mille Munksgaard\, Project Manager\, Danish Cleantech Hub\nThe Barnard College campus vision and plan\, Sandra Goldmark\, Associate Professor of Professional Practice and Director of Campus Sustainability and Climate Action\, Barnard College\nIntro to BLOXHUB – The Nordic Hub for sustainable urbanization\, By Lotte Breengaard\, Program Director of Urban Partnerships\, BLOXHUB\nPanel discussion on the principles of creating a circular campus. The panel will consist of scientists/academics from Barnard College and members from the BLOXHUB ecosystem\, working with circularity.\nLet´s co-create  Join a cross-disciplinary small breakout group of people/participants and discuss your perspectives\, advice or best practice relevant to Barnard on their journey becoming the first fully circular campus in US. Give your input to one of the following focus areas:\n– Design and Construction\n– Green Spaces\n– Reuse and Sustainable Purchasing\n– Food and Dining\n– Waste\n\nLet´s share  Share breakout groups very best idea/advice\nSummarize and Thanks to all\n\n\n\nSign up and receive online link: https://www.circularcityweek.com/events/co-creating-a-circular-campus \nThis collaboration is part of the program Access Cities which is financed by The Danish Industry Foundation. \n 
URL:https://bloxhub.org/event/co-creating-a-circular-campus-part-of-circular-city-week-ny/
LOCATION:ONLINE
CATEGORIES:Open
ATTACH;FMTTYPE=image/png:https://bloxhub.org/wp-content/uploads/2021/01/Skaermbillede-2021-01-16-kl.-15.14.09-1.png
END:VEVENT
BEGIN:VEVENT
DTSTART;TZID=Europe/Copenhagen:20210324T130000
DTEND;TZID=Europe/Copenhagen:20210324T140000
DTSTAMP:20260424T021437
CREATED:20200717T091118Z
LAST-MODIFIED:20210311T155807Z
UID:10109-1616590800-1616594400@bloxhub.org
SUMMARY:Science Talks: IAQ\, ventilation and COVID: the latest insights?
DESCRIPTION:Speaker \nDr. ir. Atze Boerstra \nFeelgoodbuilding specialist\, bba & Managing Director & Vice President REHVA \nFinal program coming soon but feel free to sign up already now \n  \n \n___ \nThis event is part of an event series of 10 on the topic: Healthy buildings – high performance – happy hearts and minds Our indoor climate has a significant impact on our health and cognitive functions. Study after study shows that our wellbeing and performance improves dramatically with higher rates of ventilation\, optimal humidity\, lightning\, noise control and well-designed spaces. So\, what does it take to turn that knowledge into action? It’s time to look beyond the four walls — placing the decisions we make around buildings into the larger conversation around development and health and prioritizing the most important asset of any building: its people. Partners are: PROPTECH Denmark\, BUILD\, LYS Technologies\, Sound Cluster Denmark\, VELUX and BLOXHUB.
URL:https://bloxhub.org/event/science-talks-march/
LOCATION:ONLINE
CATEGORIES:Open,Science Forum
ATTACH;FMTTYPE=image/jpeg:https://bloxhub.org/wp-content/uploads/2020/07/Healthy-Buildings_MASTER.jpg
END:VEVENT
BEGIN:VEVENT
DTSTART;TZID=Europe/Copenhagen:20210324T150000
DTEND;TZID=Europe/Copenhagen:20210324T161500
DTSTAMP:20260424T021437
CREATED:20201214T132114Z
LAST-MODIFIED:20210316T093433Z
UID:13625-1616598000-1616602500@bloxhub.org
SUMMARY:BLOXHUB Debates: The air we breathe
DESCRIPTION:We know healthy buildings depend on good air quality. But what is good air quality and just how advanced are we on knowledge\, technology and in the business of running buildings on an everyday level? \nJoin us for our BLOXHUb Debates where we focus on the latest research findings\, the state of the art of tech and hear what is turning the big wheels in the engine room of buildings in terms of health\, wellbeing\, happiness and performance. \nModerator: Lone Feifer\, Director Sustainable Buildings\, VELUX Group \nPanelists: \n\nLucile Sarran\, industrial Ph.D.\, Saint-Gobain\, BLOXhub Smart City Research Network\nDonya Khan\, industrial Ph.D.\, NCC\, BLOXhub Smart City Research Network\nLara Blasberg\, Industrial postdoc\, Velux\, BLOXhub Smart City Research Network\nJakob Stoumann\, Proptech\nSøren Andersen\, Climaid\nMorten Christiansen\, COOR\n\nThe debate is part of an event series of 10 on the topic: “Healthy buildings – high performance – happy hearts and minds” created in partnership with PropTech Denmark\, BUILD – Department of the Built Environment\, LYS Technologies\, Danish Sound Cluster\, VELUX\, CLIMAID\, Realdania & BLOXHUB \nSign up via form below \n﻿
URL:https://bloxhub.org/event/the-air-we-breathe/
LOCATION:ONLINE
CATEGORIES:Open
ATTACH;FMTTYPE=image/jpeg:https://bloxhub.org/wp-content/uploads/2020/07/Slide6.jpg
END:VEVENT
END:VCALENDAR