BEGIN:VCALENDAR
VERSION:2.0
PRODID:-//BLOXHUB - ECPv6.15.18//NONSGML v1.0//EN
CALSCALE:GREGORIAN
METHOD:PUBLISH
X-ORIGINAL-URL:https://bloxhub.org
X-WR-CALDESC:Events for BLOXHUB
REFRESH-INTERVAL;VALUE=DURATION:PT1H
X-Robots-Tag:noindex
X-PUBLISHED-TTL:PT1H
BEGIN:VTIMEZONE
TZID:Europe/Copenhagen
BEGIN:DAYLIGHT
TZOFFSETFROM:+0100
TZOFFSETTO:+0200
TZNAME:CEST
DTSTART:20210328T010000
END:DAYLIGHT
BEGIN:STANDARD
TZOFFSETFROM:+0200
TZOFFSETTO:+0100
TZNAME:CET
DTSTART:20211031T010000
END:STANDARD
BEGIN:DAYLIGHT
TZOFFSETFROM:+0100
TZOFFSETTO:+0200
TZNAME:CEST
DTSTART:20220327T010000
END:DAYLIGHT
BEGIN:STANDARD
TZOFFSETFROM:+0200
TZOFFSETTO:+0100
TZNAME:CET
DTSTART:20221030T010000
END:STANDARD
BEGIN:DAYLIGHT
TZOFFSETFROM:+0100
TZOFFSETTO:+0200
TZNAME:CEST
DTSTART:20230326T010000
END:DAYLIGHT
BEGIN:STANDARD
TZOFFSETFROM:+0200
TZOFFSETTO:+0100
TZNAME:CET
DTSTART:20231029T010000
END:STANDARD
END:VTIMEZONE
BEGIN:VEVENT
DTSTART;TZID=Europe/Copenhagen:20220503T150000
DTEND;TZID=Europe/Copenhagen:20220503T170000
DTSTAMP:20260423T033940
CREATED:20220405T122536Z
LAST-MODIFIED:20220405T122536Z
UID:24572-1651590000-1651597200@bloxhub.org
SUMMARY:BLOXHUB’s Annual General Meeting
DESCRIPTION:Please join us for BLOXHUB’s Annual General Meeting and Social Jazz Bar on May 3\, 2022. \nAnnual General Meeting at 3 pm:\nAll BLOXHUB members are invited and have the right to vote. It is possible to participate and vote both physically and virtually. \nProgram: \n\nElection of Moderator\nBLOXHUB’s activities in 2021\nPresentation of Annual Report\nProposals submitted by the Board or members\nProposals for amendments to the Articles­\nElection of Board Members\nElection of Auditor\n\nSocial Jazz Bar at approx. 4 pm:\nAfter the Annual General Meeting\, you can join our bar and socialize with other members\, while the band Testmann Jazz will entertain us. Testmann Jazz consist of five highly experienced jazz musicians\, who master the best from ”The Great American Songbook” as well as Latin American rhythms. Be ready for some really swinging music! \nPlease sign up no later than April 28\, 2022 here:
URL:https://bloxhub.org/event/bloxhubs-annual-general-meeting/
LOCATION:BLOXHUB or ONLINE\, Bryghuspladsen 8\, 3rd floor\, Copenhagen\, 1473\, Denmark
ATTACH;FMTTYPE=image/jpeg:https://bloxhub.org/wp-content/uploads/2022/04/Unavngivet-2-scaled.jpg
END:VEVENT
BEGIN:VEVENT
DTSTART;TZID=Europe/Copenhagen:20220503T180000
DTEND;TZID=Europe/Copenhagen:20220503T230000
DTSTAMP:20260423T033940
CREATED:20220104T104609Z
LAST-MODIFIED:20220420T144258Z
UID:22887-1651600800-1651618800@bloxhub.org
SUMMARY:Circular City Week New York
DESCRIPTION:We are proud to announce that we will be a part of Circular City Week in New York 2 to 8 May 2022. \nDuring Circular City Week\, we invite you to the workshop “Circular Economy in the Building Industry – from Pilot to Mainstream” in an international context on May 3 from 12:00 – 17:00 EST. \nDuring the last decade\, the building industry has established a solid knowledge base within circular economy – both when it comes to design\, materials\, and documentation. However\, these achievements have largely been accomplished through pilot projects\, which in most cases have been based on financial subsidies. So how does the building industry organize itself in order to ensure a circular transition from pilot to mainstream projects and which sustainable business models needs to be developed? We invite you to a half day workshop at Circular City Week to take a deep dive into this discussion and work with the following two dilemmas: \n\nThe market is responding to circular economy through an increasing demand for circular economy profiled projects. However\, ensuring a reliable supply of circular materials to meet the demand is a challenge. How is this barrier addressed in order to ensure that it does not discourage developers’ movement from a linear to a circular business model? \nInnovation is key for the future circular market. Circular innovation has to a large extend been driven by start-ups and smaller agile companies. However\, there is a risk that the larger companies are the only ones able to respond to an increasing circular demand. There is also a risk that larger companies will do this based on business models\, which loses out on the innovation capacity that exits in the smaller companies. How can we create a circular market where the SME’s innovation capacity are integrated into a market led by larger companies?\n\nThe purpose of the workshop is to establish a roadmap\, which identifies opportunities\, barriers\, legislative needs\, and business models at different stages. \nIf you want to know more about the BLOXHUB workshop at Circular City Week in New York\, please reach out to Program Director\, Lotte C. Breengaard.You can also read more here.
URL:https://bloxhub.org/event/circular-city-week-new-york/
LOCATION:New York\, New York\, NY\, United States
ATTACH;FMTTYPE=image/png:https://bloxhub.org/wp-content/uploads/2022/01/Screenshot-2022-01-04-at-10.05.08.png
END:VEVENT
BEGIN:VEVENT
DTSTART;TZID=Europe/Copenhagen:20220511T083000
DTEND;TZID=Europe/Copenhagen:20220511T093000
DTSTAMP:20260423T033940
CREATED:20220223T122956Z
LAST-MODIFIED:20220223T122956Z
UID:23793-1652257800-1652261400@bloxhub.org
SUMMARY:BLOXHUB Breakfast
DESCRIPTION:A monthly social breakfast in BLOXHUB Members Lounge – For members and residents only. \nHow to sign up?\nResidents: Please sign up via spaceOS\nMembers: Please send an email to event@bloxhub.org
URL:https://bloxhub.org/event/bloxhub-breakfast-11_may/
LOCATION:BLOXHUB Members Lounge\, Bryghuspladsen 8\, 3rd floor\, Copenhagen\, Copenhagen\, 1473\, Denmark
ATTACH;FMTTYPE=image/png:https://bloxhub.org/wp-content/uploads/2022/02/Breakfast.png
END:VEVENT
BEGIN:VEVENT
DTSTART;TZID=Europe/Copenhagen:20220511T090000
DTEND;TZID=Europe/Copenhagen:20220511T160000
DTSTAMP:20260423T033940
CREATED:20220425T090259Z
LAST-MODIFIED:20220425T090733Z
UID:24884-1652259600-1652284800@bloxhub.org
SUMMARY:Integration of a Value-based Approach to Urban Mobility
DESCRIPTION:As part of Nordic Edge Expo 2022\, EIT Urban Mobility\, Nordic Edge\, and BLOXHUB would like to invite you to a full-day workshop on the integration of a value-based approach to urban Mobility. \nTransforming urban mobility has the potential to transform people’s lives. Not only because urban mobility is something many people use to manage and shape their daily lives. Far more is at stake. \nOur current over-reliance on cars to get around cities has many negative effects on urban populations. These include noise and air pollution\, the risk of accidents and the privatisation of public space\, to name but a few. \nMentioned circumstances require changing systems of urban mobility to allow people and goods to move affordable\, fast\, comfortably\, safely and cleanly\, but at the same time enable cities to reclaim public space from cars to make cities better places for people to live\, work and play. \nUsing the urban development case of Stavanger West\, the workshop will focus on how the intersection between blue and green mobility in Stavanger West can be a catalyzer for healthy living\, social equity\, and biodiversity based on the values of inclusiveness and social equity. The workshop will be facilitated by BLOXHUB’s Urban Partnership initiative who are leaders in developing both inspiring and playful workshops within sustainable urban development. \nPlease reach out to Program Manager at BLOXHUB Torben Krab if you would like to hear more or join: +45 51624031 / tkr@bloxhub.org \nRead more about the Nordic Edge Expo 2022 program HERE
URL:https://bloxhub.org/event/integration-of-a-value-based-approach-to-urban-mobility/
LOCATION:Nordic Edge 2022\, Stavanger\, Norway
CATEGORIES:Workshop
ATTACH;FMTTYPE=image/png:https://bloxhub.org/wp-content/uploads/2022/04/Workshop_IntegrationOfaValueBased_Twitter.png
END:VEVENT
BEGIN:VEVENT
DTSTART;TZID=Europe/Copenhagen:20220512T150000
DTEND;TZID=Europe/Copenhagen:20220512T160000
DTSTAMP:20260423T033940
CREATED:20220303T135402Z
LAST-MODIFIED:20220509T070141Z
UID:23877-1652367600-1652371200@bloxhub.org
SUMMARY:Science Talks: Sustainable Transformation and Innovation Leadership
DESCRIPTION:Science Talks: Sustainable Transformation and Innovation Leadership \nCurrent practice in the building industry is not sustainable. Architectural solutions\, products\, and services contributing to sustainable development are already there\, in a smaller scale. However\, the bulk of the built environment is part of immense current challenges – the building industry is a major consumer of energy and natural resources and a prolific producer of waste. To create new sustainable practices\, we need to understand why new architectural solutions\, products\, and services struggle to become market dominant. \nIn this talk\, Mikkel Thomassen and Pelle Munch-Petersen will share their research and findings on how to navigate in the building industry and lead sustainable innovation. \n______ \nWith Science Talks\, BLOXHUB invites you to participate and engage with researchers. Each Science Talks presents a current research topic that contributes to the many discussions amongst decision makers\, practitioners\, and researchers. \nIn other words\, Science Talks are IN-DEPTH KNOWLEDGE ON TRENDING TOPICS – ON DEMAND. \nSign up here: \n \n\n  \n  \n\n\n\n\n\n\n\n 
URL:https://bloxhub.org/event/science-talks4-sustainable-transformation-and-innovation-leadership-in-the-built-environment/
LOCATION:BLOXHUB or ONLINE\, Bryghuspladsen 8\, 3rd floor\, Copenhagen\, 1473\, Denmark
ATTACH;FMTTYPE=image/jpeg:https://bloxhub.org/wp-content/uploads/2022/03/backdropST-scaled.jpg
END:VEVENT
BEGIN:VEVENT
DTSTART;TZID=Europe/Copenhagen:20220519T160000
DTEND;TZID=Europe/Copenhagen:20220519T180000
DTSTAMP:20260423T033940
CREATED:20220223T125107Z
LAST-MODIFIED:20220223T125107Z
UID:23832-1652976000-1652983200@bloxhub.org
SUMMARY:BLOXHUB Bar
DESCRIPTION:A monthly bar for members and residents. \nHow to sign up?\nResidents: Please sign up via spaceOS\nMembers: Please send an email to event@bloxhub.org
URL:https://bloxhub.org/event/bloxhub-bar-may-19/
LOCATION:BLOXHUB LA\, Fæstningens Materialgård\, Frederiksholms Kanal 30\, Copenhagen\, 1220\, Danmark
ATTACH;FMTTYPE=image/png:https://bloxhub.org/wp-content/uploads/2021/09/BAR.png
END:VEVENT
END:VCALENDAR