BEGIN:VCALENDAR
VERSION:2.0
PRODID:-//BLOXHUB - ECPv6.15.18//NONSGML v1.0//EN
CALSCALE:GREGORIAN
METHOD:PUBLISH
X-WR-CALNAME:BLOXHUB
X-ORIGINAL-URL:https://bloxhub.org
X-WR-CALDESC:Events for BLOXHUB
REFRESH-INTERVAL;VALUE=DURATION:PT1H
X-Robots-Tag:noindex
X-PUBLISHED-TTL:PT1H
BEGIN:VTIMEZONE
TZID:Europe/Copenhagen
BEGIN:DAYLIGHT
TZOFFSETFROM:+0100
TZOFFSETTO:+0200
TZNAME:CEST
DTSTART:20210328T010000
END:DAYLIGHT
BEGIN:STANDARD
TZOFFSETFROM:+0200
TZOFFSETTO:+0100
TZNAME:CET
DTSTART:20211031T010000
END:STANDARD
BEGIN:DAYLIGHT
TZOFFSETFROM:+0100
TZOFFSETTO:+0200
TZNAME:CEST
DTSTART:20220327T010000
END:DAYLIGHT
BEGIN:STANDARD
TZOFFSETFROM:+0200
TZOFFSETTO:+0100
TZNAME:CET
DTSTART:20221030T010000
END:STANDARD
BEGIN:DAYLIGHT
TZOFFSETFROM:+0100
TZOFFSETTO:+0200
TZNAME:CEST
DTSTART:20230326T010000
END:DAYLIGHT
BEGIN:STANDARD
TZOFFSETFROM:+0200
TZOFFSETTO:+0100
TZNAME:CET
DTSTART:20231029T010000
END:STANDARD
END:VTIMEZONE
BEGIN:VEVENT
DTSTART;VALUE=DATE:20220701
DTEND;VALUE=DATE:20220702
DTSTAMP:20260422T235133
CREATED:20220607T153605Z
LAST-MODIFIED:20220607T200614Z
UID:25658-1656633600-1656719999@bloxhub.org
SUMMARY:Grand DéPart @BLOXHUB
DESCRIPTION:On July 1\, the world’s largest cycling race comes to the world’s best cycling city – Copenhagen. Tour de France 2022 starts with a 13 km individual time trial\, and they make their way past BLOX. On this special occasion\, we invite members and collaboration partners to cheer on the tour participants\, pay a tribute to sustainable mobility solutions\, to network and enjoy cooling refreshments under what hopefully will be a cloudless sky with radiant sunshine.\n_____________ \nMobility as a Catalyst for Healthy Cities /EVENT NO.I\nWhile we wait for the Tour de France’s Grand Départ time trial race to pass by BLOX\, we invite you to take a bird´s-eye view of how climate-friendly mobility can be a catalyst for healthier and better cities. The event will be an opportunity for our mobility members to join a high-level network of proactive city leaders within sustainable mobility in a session featuring informative\, useful\, and direct knowledge sharing. \nAnd in the competitive spirit of Tour De France\, we celebrate excellence among city mobility frontrunners with the coveted jerseys:\nGreen jersey: Is awarded for accelerating sustainable mobility\nDotted jersey: Is awarded for overcoming the most daring mobility challenges\nYellow jersey: Is awarded for the mobility projects with the greatest impact. \nPROGRAM\n12.30 Arrival\n13.00 Welcome to BLOXHUB and keynotes presentations: How can sustainable mobility form the backbone of a thriving city?\n13:30 The Solutions: Pitches for European best practice: Which sustainable urban mobility initiatives could inspire cities across the continent?\n14.45 The Ecosystem: Examples from world-leading mobility innovators from members of the BLOXHUB ecosystem.\n15.15 The Partnerships: An opportunity to elaborate\, interact and network in thematic groups.\n15.45 The Awards\n16.00 The Grand Départ: Watch the Grand Départ from one of the big screens at the BLOXHUB members lounge\, from our rooftop terrace or from our meeting rooms overlooking the time trial course\, or mingle in the crowd on the street.\n19.00 The French Dînner\n19.30 The Grand Départy: You are cordially invited to the BLOXHUB summer party together with some of the world’s leading organizations in mobility and sustainable urban development. \nNB: This event is for invites only. \nIf you would like to learn more please contact Head of Global Networks\, Jakob Normann-Hansen\, +45 6119 2695 / jnh@bloxhub.org\n_____________ \nTour de France – Grand DéParty / EVENT NO.II\nAlpe d’Huez\, Champs-Élysées – and this year BLOX! When the Tour de France Grand Départ time trial race will take on the streets of Copenhagen and rush through the BLOX building\, we’ll invite our members to experience this legendary cycling race firsthand with one of the best views in town. While you take in the high-paced action\, we’ll serve French fare and drinks to accompany soaking up the atmosphere and celebrate this special occasion. \nPROGRAM\n16.00 The Grand Départ: Watch the Grand Départ from one of the big screens at the BLOXHUB members lounge\, from our rooftop terrace or from our meeting rooms overlooking the time trial course\, or mingle in the crowd on the street.\n19.00 The French Dîner: Indulge in stand-up friendly food and drinks that will allow you to still keep an eye on the action.\n19.30-22.00 The Grand Départy: Together with your fellow BLOXHUB members\, enjoy the evening sun on the terrace\, groove to the beat of the DJ or simply take in the atmosphere as the people of Copenhagen make the most celebrated cycling race in the world a memory to remember. \nNB. This event is for BLOXHUB members only. Due to limited availability for safety reasons\, member organizations may attend with up to 5 employees and will need to sign up below. Please note that admittance is based on a first-come\, first-serve basis\, and will be confirmed by email. \nPlease register via the form below:
URL:https://bloxhub.org/event/grand-depart-bloxhub/
LOCATION:BLOXHUB\, Bryghuspladsen 8\, 3rd floor\, København K\, 1473
CATEGORIES:Members Only
ATTACH;FMTTYPE=image/png:https://bloxhub.org/wp-content/uploads/2022/06/Webheader_Tour-De-France_BLOXHUB.png
END:VEVENT
END:VCALENDAR