BEGIN:VCALENDAR
VERSION:2.0
PRODID:-//BLOXHUB - ECPv6.15.18//NONSGML v1.0//EN
CALSCALE:GREGORIAN
METHOD:PUBLISH
X-ORIGINAL-URL:https://bloxhub.org
X-WR-CALDESC:Events for BLOXHUB
REFRESH-INTERVAL;VALUE=DURATION:PT1H
X-Robots-Tag:noindex
X-PUBLISHED-TTL:PT1H
BEGIN:VTIMEZONE
TZID:Europe/Copenhagen
BEGIN:DAYLIGHT
TZOFFSETFROM:+0100
TZOFFSETTO:+0200
TZNAME:CEST
DTSTART:20210328T010000
END:DAYLIGHT
BEGIN:STANDARD
TZOFFSETFROM:+0200
TZOFFSETTO:+0100
TZNAME:CET
DTSTART:20211031T010000
END:STANDARD
BEGIN:DAYLIGHT
TZOFFSETFROM:+0100
TZOFFSETTO:+0200
TZNAME:CEST
DTSTART:20220327T010000
END:DAYLIGHT
BEGIN:STANDARD
TZOFFSETFROM:+0200
TZOFFSETTO:+0100
TZNAME:CET
DTSTART:20221030T010000
END:STANDARD
BEGIN:DAYLIGHT
TZOFFSETFROM:+0100
TZOFFSETTO:+0200
TZNAME:CEST
DTSTART:20230326T010000
END:DAYLIGHT
BEGIN:STANDARD
TZOFFSETFROM:+0200
TZOFFSETTO:+0100
TZNAME:CET
DTSTART:20231029T010000
END:STANDARD
END:VTIMEZONE
BEGIN:VEVENT
DTSTART;TZID=Europe/Copenhagen:20220915T153000
DTEND;TZID=Europe/Copenhagen:20220915T163000
DTSTAMP:20260422T201755
CREATED:20220901T112431Z
LAST-MODIFIED:20220901T112934Z
UID:27030-1663255800-1663259400@bloxhub.org
SUMMARY:Debate: REGENERATE Culture
DESCRIPTION:Copenhagen Institute for Futures Studies and BLOXHUB invite you to an exploration of a regenerative world with a series of debates. After the first event on August 30\, we’re excited to go deeper into the regenerative approach. In this next debate\, we will focus on culture. \nTo regenerate means not only to do less harm\, but to become a positive force that restores\, renews\, regrows\, and revitalises and that we give back more than we take – just like the many ecological systems we can find and experience in nature. Through these events\, we will explore how we can create a regenerative world that works within the planetary boundaries and ecological systems to create a future where humankind\, nature\, and our cities can all thrive and flourish. \nAt the second event in our series\, we look towards culture and explore how it can play a crucial role in creating a regenerative transformation of our cities. \nWe believe it is time to REGENERATE NOW. \nSign up here:
URL:https://bloxhub.org/event/debate-regenerate-culture/
LOCATION:BLOXHUB or ONLINE\, Bryghuspladsen 8\, 3rd floor\, Copenhagen\, 1473\, Denmark
ATTACH;FMTTYPE=image/jpeg:https://bloxhub.org/wp-content/uploads/2022/09/2.jpg
END:VEVENT
BEGIN:VEVENT
DTSTART;TZID=Europe/Copenhagen:20220923T090000
DTEND;TZID=Europe/Copenhagen:20220923T160000
DTSTAMP:20260422T201755
CREATED:20220815T081417Z
LAST-MODIFIED:20220815T081417Z
UID:26735-1663923600-1663948800@bloxhub.org
SUMMARY:Multifunctional\, Safe & Resilient Playgrounds in Urban Areas - How to?
DESCRIPTION:How do we think beyond limited space making dense urban areas vibrant\, desirable\, sustainable\, and resilient with a full range of amenities? Together with Bezirksamt Friedrichshain-Kreuzberg von Berlin and WE BUILD DENMARK we would like to invite you to a 1-day workshop where we will take a deep dive into the overall challenge of how playgrounds can be designed to be inclusive\, climate-resilient\, clean\, safe\, open\, accommodating different groups of users\, without limiting the original function of providing a protected space for children. The quest calls for creativity and the ability to design for multifunctional purposes. \nAt the workshop we will look at the challenge from four different perspectives: \n\nInclusive & barrier-free: How can playgrounds be designed inclusively and barrier-free with the involvement of different user groups – children included?\nClimate-resilient & sustainable: How can playgrounds be designed to be climate-resilient to mitigate the effects of climate change\, preserve biodiversity and allow for usability despite climatic changes?\nClean & open: How can playgrounds be designed using technical\, design and organizational elements to promote an individual sense of cleanliness and safety so that the users feel comfortable?\nFlexible & versatile: Which technical\, design\, and organizational measures can be implemented for playgrounds\, facilitating use at different times and periods without limiting the original purpose of playgrounds to be a safe space for children?\n\nThe workshop is organized by BLOXHUB and will be a facilitated process with a mix of inspirational talks\, interdisciplinary group discussions\, and co-creation sessions. Based on a specific yet representative case provided by Bezirksamt Friedrichshain-Kreuzberg von Berlin the aim of the workshop is to generate ideas and prototype solutions which can be implemented and scaled to other areas. Workshop participants consist of members from the BLOXHUB ecosystem and selected stakeholders from Berlin to ensure a holistic and interdisciplinary approach to the subject. Each group will work with one of the four perspectives and cross-pollination between the groups is included to make sure that the workshop output includes all the elements needed to solve the complex challenge. \nWould you like to join?\nPlease contact Program Director at BLOXHUB Lotte C. Breengaard +45 2268 4643 / lcb@bloxhub.org
URL:https://bloxhub.org/event/multifunctional-safe-resilient-playgrounds-in-urban-areas-how-to/
LOCATION:BLOXHUB LA\, Fæstningens Materialgård\, Frederiksholms Kanal 30\, Copenhagen\, 1220\, Danmark
CATEGORIES:Members Only,Workshop
ATTACH;FMTTYPE=image/png:https://bloxhub.org/wp-content/uploads/2022/08/Header_events_mulitifunctional-playgrounds.png
END:VEVENT
BEGIN:VEVENT
DTSTART;TZID=Europe/Copenhagen:20220928T090000
DTEND;TZID=Europe/Copenhagen:20220928T163000
DTSTAMP:20260422T201755
CREATED:20220509T121257Z
LAST-MODIFIED:20220816T144334Z
UID:25111-1664355600-1664382600@bloxhub.org
SUMMARY:Building Skins as a New Sustainable Approach Towards Climate Change
DESCRIPTION:Climate change presents our urban environment and buildings with a wide range of challenges\, and we need to adapt the way we plan and build with these challenges in mind to be able to secure the future and livability of our cities and buildings. \nGreen building skins can be one part of a broader range of actions to counter climate change. They not only provide solutions within the context of climate change – such as reduction of heat island effect\, extended water retention\, and rainwater collection – they also o er significant added value in improving microclimate and increasing biodiversity in urban areas. \nWerner Sobek and BLOXHUB\, Urban Partnerships would like to invite you to a 1-day workshop where we zoom in on how building skins can be used to handle climate change and bring about a significant reduction of the ecological impact of our buildings. \nAt the workshop we will discuss challenges and opportunities and identify ideas\, concepts\, and solutions related to how building skins of the future should perform to support a successful sustainable transition\, that takes into account more extreme environmental conditions. \nThe workshop is organized by BLOXHUB and will be a facilitated process with a mix of inspirational talks\, interdisciplinary group discussions\, and co-creation sessions. \n___ \nPlease contact Program Director at BLOXHUB Lotte Breengaard for further information regarding content and registration; lcb@bloxhub.org / +45 22 68 46 43
URL:https://bloxhub.org/event/building-skins-as-a-new-sustainable-approach-towards-climate-change/
LOCATION:BLOXHUB\, Bryghuspladsen 8\, 3rd floor\, København K\, 1473
CATEGORIES:Members Only,Workshop
ATTACH;FMTTYPE=image/jpeg:https://bloxhub.org/wp-content/uploads/2022/05/Webheader_Building-skins.jpg
END:VEVENT
BEGIN:VEVENT
DTSTART;TZID=Europe/Copenhagen:20220928T090000
DTEND;TZID=Europe/Copenhagen:20220929T170000
DTSTAMP:20260422T201755
CREATED:20220519T144520Z
LAST-MODIFIED:20220519T144520Z
UID:25441-1664355600-1664470800@bloxhub.org
SUMMARY:WDBE Summit & Awards 2022
DESCRIPTION:BLOXHUB is partner on the event World of Digital Built Environment (WDBE) Summit & Awards 2022. \nThe event will take place on September 28-29 in Helsinki\, Finland and Tallinn\, Estonia. \nWDBE has become a platform for the growing global AEC community\, highlighting the brightest minds and most cutting-edge digital solutions improving our urban future. \n\nCo-organised by Finland\, Estonia and Denmark\, and with new host countries joining every year\, the community continues to concretize the unlimited possibilities of digitalization as an enabler of a more socially\, culturally\, ecologically and economically sustainable urban future. As the world faces tremendous obstacles and uncertainty\, we have to act together for a positive transformation. \nSpeakers include: \n\nDamon Hernandez\, Founder\, AEC Hackathon (US)\nDr Ben Guy\, CEO\, Urban Simulations (AU)\nJacqueline Rohrmann\, Researcher\, That BIM Girl (US)\nReid Senescu\, VP of Product Development\, Doxel (US)\nTero Vanhanen\, Phenomenon Creator\, Fira (FI)\nand more to be announced.\n\n\nRead more about the event and see program on the website. \n\nThe early bird ticket sale is on until June 30\, and you can also submit your presentation to the call for proposals to become a speaker and proposals for awards by May 31.
URL:https://bloxhub.org/event/wdbe-summit-awards-2022/
LOCATION:Helsinki and Tallinn
CATEGORIES:Open
ATTACH;FMTTYPE=image/png:https://bloxhub.org/wp-content/uploads/2022/05/WDBE2022.png
END:VEVENT
END:VCALENDAR