BEGIN:VCALENDAR
VERSION:2.0
PRODID:-//BLOXHUB - ECPv6.15.18//NONSGML v1.0//EN
CALSCALE:GREGORIAN
METHOD:PUBLISH
X-ORIGINAL-URL:https://bloxhub.org
X-WR-CALDESC:Events for BLOXHUB
REFRESH-INTERVAL;VALUE=DURATION:PT1H
X-Robots-Tag:noindex
X-PUBLISHED-TTL:PT1H
BEGIN:VTIMEZONE
TZID:Europe/Copenhagen
BEGIN:DAYLIGHT
TZOFFSETFROM:+0100
TZOFFSETTO:+0200
TZNAME:CEST
DTSTART:20210328T010000
END:DAYLIGHT
BEGIN:STANDARD
TZOFFSETFROM:+0200
TZOFFSETTO:+0100
TZNAME:CET
DTSTART:20211031T010000
END:STANDARD
BEGIN:DAYLIGHT
TZOFFSETFROM:+0100
TZOFFSETTO:+0200
TZNAME:CEST
DTSTART:20220327T010000
END:DAYLIGHT
BEGIN:STANDARD
TZOFFSETFROM:+0200
TZOFFSETTO:+0100
TZNAME:CET
DTSTART:20221030T010000
END:STANDARD
BEGIN:DAYLIGHT
TZOFFSETFROM:+0100
TZOFFSETTO:+0200
TZNAME:CEST
DTSTART:20230326T010000
END:DAYLIGHT
BEGIN:STANDARD
TZOFFSETFROM:+0200
TZOFFSETTO:+0100
TZNAME:CET
DTSTART:20231029T010000
END:STANDARD
END:VTIMEZONE
BEGIN:VEVENT
DTSTART;TZID=Europe/Copenhagen:20221003T153000
DTEND;TZID=Europe/Copenhagen:20221003T163000
DTSTAMP:20260422T183530
CREATED:20220901T125739Z
LAST-MODIFIED:20221003T114153Z
UID:27045-1664811000-1664814600@bloxhub.org
SUMMARY:Debate: REGENERATE Architecture
DESCRIPTION:REGENERATE ARCHITECTURE – HOW CAN ARCHITECTURE BECOME A FORCE TOWARDS A REGENERATIVE CITY? \nCopenhagen Institute for Futures Studies and BLOXHUB invite you to the second event in the series Regenerate Now\, and our continued exploration of a regenerative world and the reimagination of our cities. \nTo regenerate means not only to do less harm\, but to become a positive force that restore\, renew\, regrow\, and revitalise and that give back more than we take\, just like the many ecological systems we can find and experience in nature. Through these events\, we will explore how we can create a regenerative world that works within the planetary boundaries and ecological systems to create a future where humankind\, nature and our cities can all thrive and flourish. \nIn this third event\, we explore the role regenerative architecture can play in creating a regenerative transformation of our cities where humanity and nature can co-exist. \nPanel:\nNikolaj Sveistrup\, Associate Partner\, Copenhagen Institue for Future Studies\nPeter Mørk\, International Business Strategist \nWe believe it is time to REGENERATE NOW. \nRead more about Regenerate Now here: https://bloxhub.org/events/debates/ \nSign up here:
URL:https://bloxhub.org/event/debate-regenerate-architecture/
LOCATION:BLOXHUB or ONLINE\, Bryghuspladsen 8\, 3rd floor\, Copenhagen\, 1473\, Denmark
ATTACH;FMTTYPE=image/jpeg:https://bloxhub.org/wp-content/uploads/2022/09/REGENERATE-kampagne-3-scaled.jpg
END:VEVENT
BEGIN:VEVENT
DTSTART;TZID=Europe/Copenhagen:20221006T150000
DTEND;TZID=Europe/Copenhagen:20221006T160000
DTSTAMP:20260422T183530
CREATED:20220919T100731Z
LAST-MODIFIED:20220919T122913Z
UID:27192-1665068400-1665072000@bloxhub.org
SUMMARY:Science Talks: Implementing regenerative development
DESCRIPTION:JOIN US for the next Science Talks: Implementing regenerative development \nHave you ever wondered what regenerative development is? What a regenerative city might look like? How it might operate? What the advantages are of adopting a regenerative approach to urban systems? What levers might be used to transform cities and what the likely challenges to implementation would be? This talk will explore and answer these questions. \nAt this Science Talk on October 6th\, we’ll be joined by Professor Jo Williams who is the founder and Director of the Circular Cities Hub. Jo is an expert in regenerative\, low carbon\, resource looping\, and adaptive urban systems. She has been engaged by nation states\, consultants\, and cities to advise on the implementation of ecologically regenerative urban systems. \n______ \nWith Science Talks\, BLOXHUB invites you to participate and engage with researchers. Each Science Talk presents a current research topic that contributes to the many discussions amongst decision-makers\, practitioners\, and researchers. \nIn other words\, Science Talks are IN-DEPTH KNOWLEDGE ON TRENDING TOPICS – ON DEMAND. \nSign up here: \n \n  \n  \n 
URL:https://bloxhub.org/event/science-talks-implementing-regenerative-development/
LOCATION:BLOXHUB or ONLINE\, Bryghuspladsen 8\, 3rd floor\, Copenhagen\, 1473\, Denmark
ATTACH;FMTTYPE=image/png:https://bloxhub.org/wp-content/uploads/2022/09/Backdrop-til-15-SEP.png
END:VEVENT
BEGIN:VEVENT
DTSTART;TZID=Europe/Copenhagen:20221010T090000
DTEND;TZID=Europe/Copenhagen:20221010T163000
DTSTAMP:20260422T183530
CREATED:20220908T121015Z
LAST-MODIFIED:20220927T154716Z
UID:27117-1665392400-1665419400@bloxhub.org
SUMMARY:Safe Urban Spaces for All\, Many\, Few
DESCRIPTION:Although Denmark is one of the safest countries in the World\, the Safety Survey from 2021 (Tryghedsmålingen) shows that there is reason to pay attention – the number of people feeling unsafe after dark in their immediate environment has almost doubled since 2015; from 11% to 20% in 2021. And that has consequences – for the quality of life\, for freedom of movement\, for how we use and design urban spaces. \nTogether with JUUL FROST ARCHITECTS\, we invite you to a 1-day workshop focusing on how we can increase the experience of safety in cities. At the workshop\, we will examine and challenge ideas and solutions that can be elements in an answer to how the city and urban spaces are rethought creating opportunities for social and functional diversity and security among the many users. \nThe workshop is organized by BLOXHUB as a facilitated process and the participants consist of a wide circle of stakeholders to ensure that the ideas are developed at the intersection between the greatest possible interdisciplinary and different interests. In addition to group exercises/discussions\, the day offers inspirational presentations by Ole B. Jensen from the Department of Architecture and Media Technology at Aalborg University\, Mikkel Bille from the University of Copenhagen\, Helle Juul from JUUL FROST ARCHITECTS\, and Sofie Kirt Strandbygaard from DTU Orbit. \nWould you like to know more about the workshop and how to register please contact Program Director at BLOXHUB Lotte C. Breengaard; +45 2268 4643 / lcb@bloxhub.org \n____\nNB The workshop is in Danish \n 
URL:https://bloxhub.org/event/safe-urban-spaces-for-all-many-few/
LOCATION:BLOXHUB LA\, Fæstningens Materialgård\, Frederiksholms Kanal 30\, Copenhagen\, 1220\, Danmark
CATEGORIES:Workshop
ATTACH;FMTTYPE=image/png:https://bloxhub.org/wp-content/uploads/2022/09/Header_Trygge-Byrum_Juul-Frost.png
END:VEVENT
BEGIN:VEVENT
DTSTART;VALUE=DATE:20221012
DTEND;VALUE=DATE:20221014
DTSTAMP:20260422T183531
CREATED:20220707T122259Z
LAST-MODIFIED:20220707T122259Z
UID:25911-1665532800-1665705599@bloxhub.org
SUMMARY:The International Mobility Summit
DESCRIPTION:BLOXHUB is now an official partner at The International Mobility Summit in Copenhagen\, October 12-13\, hosted by Electronomous. The summit will once again bring together the global mobility\, automotive\, transport and smart city ecosystem\, future thinkers\, practitioners\, investors\, and policy makers to shape and plan mobility for our future cities. \nThe summit creates an inspiring and engaging environment for the global community to connect\, share\, and collaborate on the next generation of mobility challenges and opportunities\, showcasing cutting-edge technology and bridge the gap between policy makers and industry. \nBLOXHUB will host a Town Hall Stage\, where we’ll showcase some of our mobility members\, as well as a workshop on healthy cities\, based on a concrete mobility challenge from the City of Ljubljana. \nRead more\, see program\, and find tickets here. \nBLOXHUB members get 15% discount\, using the code BLOX15. \n\nWHAT TO EXPECT: \n2 days | 120+ speakers | 15 Tracks | 1500+ Attendees \nNetworking\nMeet the global mobility\, transport\, and smart city ecosystem\, thought leaders\, disruptors\, innovators\, investors\, energy providers\, and policy makers to shape and plan mobility for our future cities. \nLearning\nLearn from mobility leaders and visionaries from the most innovative companies. We’ll dive into the hottest topics in mobility through keynote presentations\, panel discussions\, workshops\, fireside chats and breakout sessions. \nLead Generation\nMeet new business partners\, hot startups\, investors\, to help grow your business\, they will all gather under one roof and we have the perfect networking events\, areas\, and AI-driven networking event app for you all to connect. \nExpo\nMeet our industry-leading exhibitors\, discover cutting edge technology and solutions making waves in the connected and autonomous space globally.
URL:https://bloxhub.org/event/the-international-mobility-summit/
LOCATION:Bella Center\, Center Blvd. 5\, Copenhagen\, 2300\, Denmark
CATEGORIES:Open,Workshop
ATTACH;FMTTYPE=image/jpeg:https://bloxhub.org/wp-content/uploads/2022/07/TIMS22_Main-event-banner_with-logos_1200-x-600.jpg
END:VEVENT
BEGIN:VEVENT
DTSTART;TZID=Europe/Copenhagen:20221012T173000
DTEND;TZID=Europe/Copenhagen:20221012T210000
DTSTAMP:20260422T183531
CREATED:20220919T101554Z
LAST-MODIFIED:20220919T122908Z
UID:27204-1665595800-1665608400@bloxhub.org
SUMMARY:Mobility Movers & Shakers Wine Reception
DESCRIPTION:Join our festive BLOXHUB wine reception to celebrate that The International Mobility Summit is in town. \nMeet your fellow mobility movers and shakers at an informal gathering that will feature meet-ups between you and key BLOXHUB mobility members that has made a difference. Also\, get a short intro to BLOXHUB and how we work with mobility through international partnerships. \nMingle curiously\, talk actions and hopefully partner up! \nIf you are at the Bella Center for The International Mobility Summit\, you’re welcome to hop on the free shuttle to BLOXHUB leaving at 5.15pm just outside the main entrance. \nNo need to sign up – we hope to see you soon in BLOXHUB
URL:https://bloxhub.org/event/mobility-movers-shakers-wine-reception/
LOCATION:BLOXHUB Members Lounge\, Bryghuspladsen 8\, 3rd floor\, Copenhagen\, Copenhagen\, 1473\, Denmark
ATTACH;FMTTYPE=image/jpeg:https://bloxhub.org/wp-content/uploads/2022/09/70-scaled.jpg
END:VEVENT
BEGIN:VEVENT
DTSTART;TZID=Europe/Copenhagen:20221013T090000
DTEND;TZID=Europe/Copenhagen:20221013T160000
DTSTAMP:20260422T183531
CREATED:20220927T153323Z
LAST-MODIFIED:20220927T154801Z
UID:27391-1665651600-1665676800@bloxhub.org
SUMMARY:Risk Barriers in Sustainable Construction
DESCRIPTION:Risks and the perception of risks associated with the use of new and unproven materials in construction projects is a significant barrier. It is therefore necessary that we understand the current risk barriers prevailing in the industry to find out how they can be handled and reduced. \nBLOXHUB and Værdibyg invite you to an all-day workshop where we will analyze the risks that slow down the sustainable transition within the built environment. Together we will try to break down the risk barriers into manageable sub-barriers and identify potential solutions. \nThe workshop is organized by BLOXHUB and Værdibyg as a facilitated process with a mixture of group exercises and discussions as well as inspirational presentations. \nAt the workshop\, we will seek to answers the following questions: \n\nWhich risks are obstacles to the use of sustainable materials?\nWith which measures can these risks be handled/minimized/mitigated?\nWhat potentials and opportunities exist for the present and in the future?\n\nWould you like to know more about the workshop and how to register please contact Lotte C. Breengaard\, lcb@bloxhub.org. \n____\nNB The workshop is in Danish
URL:https://bloxhub.org/event/risk-barriers-in-sustainable-construction/
LOCATION:Den Sorte Diamant\, Søren Kierkegaards Pl. 1\, København\, 1221\, Denmark
CATEGORIES:Workshop
ATTACH;FMTTYPE=image/png:https://bloxhub.org/wp-content/uploads/2022/09/Header_Risk-barriers_Vaerdibyg.png
END:VEVENT
BEGIN:VEVENT
DTSTART;TZID=Europe/Copenhagen:20221024T110000
DTEND;TZID=Europe/Copenhagen:20221024T180000
DTSTAMP:20260422T183531
CREATED:20220926T085604Z
LAST-MODIFIED:20220926T085728Z
UID:27325-1666609200-1666634400@bloxhub.org
SUMMARY:How can we redesign our project models and integrate circular solutions in building projects?
DESCRIPTION:The Embassy of Denmark in Sweden\, BLOXHUB\, and WE BUILD DENMARK invite you to a whole-day workshop with leading actors and specialists within circular economy in Sweden and Denmark. In collaboration with Stockholm stad\, we aim to challenge the traditional competition and project models and discuss how circular solutions can be incorporated in a way that is both economically viable and attractive to building users. \nLOCATION: Ambassador’s residence at the Embassy of Denmark in Sweden\,\nGustav Adolfs Torg 14\, 111 52 Stockholm \nPlease contact Program Manager Torben Krab for further information: +45 51624031 / tkr@bloxhub.org
URL:https://bloxhub.org/event/how-can-we-redesign-our-project-models-and-integrate-circular-solutions-in-building-projects/
LOCATION:Gustav Adolfs Torg 14\, 111 52 Stockholm\, Sweden
CATEGORIES:Members Only,Workshop
ATTACH;FMTTYPE=image/jpeg:https://bloxhub.org/wp-content/uploads/2022/09/Header_Stockholm-workshop_02.jpg
END:VEVENT
END:VCALENDAR