BEGIN:VCALENDAR
VERSION:2.0
PRODID:-//BLOXHUB - ECPv6.15.18//NONSGML v1.0//EN
CALSCALE:GREGORIAN
METHOD:PUBLISH
X-ORIGINAL-URL:https://bloxhub.org
X-WR-CALDESC:Events for BLOXHUB
REFRESH-INTERVAL;VALUE=DURATION:PT1H
X-Robots-Tag:noindex
X-PUBLISHED-TTL:PT1H
BEGIN:VTIMEZONE
TZID:Europe/Copenhagen
BEGIN:DAYLIGHT
TZOFFSETFROM:+0100
TZOFFSETTO:+0200
TZNAME:CEST
DTSTART:20210328T010000
END:DAYLIGHT
BEGIN:STANDARD
TZOFFSETFROM:+0200
TZOFFSETTO:+0100
TZNAME:CET
DTSTART:20211031T010000
END:STANDARD
BEGIN:DAYLIGHT
TZOFFSETFROM:+0100
TZOFFSETTO:+0200
TZNAME:CEST
DTSTART:20220327T010000
END:DAYLIGHT
BEGIN:STANDARD
TZOFFSETFROM:+0200
TZOFFSETTO:+0100
TZNAME:CET
DTSTART:20221030T010000
END:STANDARD
BEGIN:DAYLIGHT
TZOFFSETFROM:+0100
TZOFFSETTO:+0200
TZNAME:CEST
DTSTART:20230326T010000
END:DAYLIGHT
BEGIN:STANDARD
TZOFFSETFROM:+0200
TZOFFSETTO:+0100
TZNAME:CET
DTSTART:20231029T010000
END:STANDARD
END:VTIMEZONE
BEGIN:VEVENT
DTSTART;TZID=Europe/Copenhagen:20221101T090000
DTEND;TZID=Europe/Copenhagen:20221101T110000
DTSTAMP:20260422T165149
CREATED:20221023T203926Z
LAST-MODIFIED:20221023T203926Z
UID:27703-1667293200-1667300400@bloxhub.org
SUMMARY:Online Roundtable on Multifunctional Spaces for Children
DESCRIPTION: There are more and more of us in the cities and limited space is very often a challenge. The group of citizens that share the city’s space is diverse\, there are so many wishes and dreams\, and yet so much space is designed for one purpose only. Creating space for children in dense cities is often a tricky task and we need innovative solutions to make our cities child friendly. How can Danish and Chinese companies support each other in this regard?  \nAt this Roundtable\, we will discuss and share knowledge and ideas on: How can we design space for children that can be used by other groups of users in Denmark and China? Overall\, we will discuss how building several functionalities into one space can solve the urban space challenge\, and playgrounds are just an example.  \nPROGRAM \nWelcome and intro\, Lotte Breengaard\, Program Director\, BLOXHUB\nIntroduction of Innovation Centre Denmark\, Martin Hoxer\, Executive Director\, ICDK Shanghai\n”Tour de table”\, Presentation of all\nIntroduction to multifunctional use of urban space\nIntroduction to urban space challenge for children in China and the willingness to share seen from Chinese perspective\nRoundtable discussion:  \n\nCan we solve urban space challenges by building several functionalities into one space? \nHow can we design space for children that can be used by other groups of users? \n\nHow can Danish and Chinese companies support each other with this approach?\nSum up\, Lotte Breengaard and Martin Hoxer  \nPlease contact Program Director Lotte Christina Breengaard if you would like to join:\nm   +45 2268 4643\ne    lcb@bloxhub.org
URL:https://bloxhub.org/event/online-roundtable-on-multifunctional-spaces-for-children/
CATEGORIES:BLOXHUB Roundtable,Members Only
ATTACH;FMTTYPE=image/jpeg:https://bloxhub.org/wp-content/uploads/2022/10/Multi_ICDK_web-scaled.jpg
END:VEVENT
BEGIN:VEVENT
DTSTART;TZID=Europe/Copenhagen:20221102T090000
DTEND;TZID=Europe/Copenhagen:20221103T170000
DTSTAMP:20260422T165149
CREATED:20220920T203310Z
LAST-MODIFIED:20221017T094700Z
UID:27228-1667379600-1667494800@bloxhub.org
SUMMARY:BLOXHUB @ BUILDING GREEN 2022
DESCRIPTION:You are invited to visit us in the BLOXHUB area at Building Green. \nOur program will include mini booths by members\, speed meet activities\, panel debates\, roundtables\, and more: \n🔷 2. NOVEMBER – NATIONAL DAY \n🔹 09:00 BLOXHUB Breakfast\nA social morning refreshment.\n \n🔹 10:30 BLOXHUB Roundtable: “Circular Economy – from pilot project to mainstream”\nA more flexible risk profile in the construction industry’s business model is essential in making Circular Economy a mainstream concept\, moving it away from being stuck in the pilot project stage. How can this transition be ensured and what parties need to be included in these revamped business models? \n🔹 12:30 BLOXHUB SPEEDMEET\nAt SPEEDMEET\, BLOXHUB members will be introduced to other BLOXHUB members to learn more about the BLOXHUB ecosystem. We help match members across industries and create mutually beneficial collaborations. \n🔹 14:30 BLOXHUB Roundtable: ”Bin to Bim – the city as a circular digital catalogue”\nCircular constructions on a citywide scale: How do we create a digitized catalogue of every building across the city\, with component-level detail? A part of making this circular construction dream into reality is utilizing and combining tools like satellite data\, data on materials used and most of all coordinated initiatives. \n🔹 16:00 BLOXHUB Bar\nA social afternoon refreshment. \n  \n🔶 3. NOVEMBER – INTERNATIONAL DAY  \n🔸 09:00 BLOXHUB Breakfast\nA social morning refreshment.\n \n🔸 10.30 BLOXHUB Delegations & Events\nBLOXHUB and the Municipality of Copenhagen welcomes international decision-makers visiting BLOXHUB to push the internationalization of Danish companies. Learn more about how we can help you? \n🔸 11.00 BLOXHUB Strategic Partners\nWe work together with a wide range of strategic partners globally wherever synergies can be harvested. The partnerships include strategic alliances with other hubs and network organizations that share our vision. Learn more about how we can help you? \n🔸 11.30 BLOXHUB Global Partners\nOur global partners are a key network of high-level profiles located all over the world and with one thing in common: the motivation to support our members and thereby help to create better\, sustainable cities. Learn more about how we can help you? \n🔸 12:30 BLOXHUB SPEEDMEET\nAt SPEEDMEET\, BLOXHUB members will be introduced to other BLOXHUB members to learn more about the BLOXHUB ecosystem. We help match members across industries and create mutually beneficial collaborations. \n🔸 14:50 BLOXHUB Green Discussion\nDo we need to reconsider our relationship with nature to further sustainability in our built environment? Can we even afford to build in the future? In this panel debate\, we explore the state of our construction industry’s relationship with nature and deep dive into possible solutions to create coherence and co-existence between the built and the organic environment. Panelists: Magnus Bjerre Clausen from Kammeradvokaten\, Lovisa Volmarsson from Copenhagen Institute for Futures Studies\, Hans-Bo Hyldig from FB Group and Mette Skjold from SLA. Moderator: Torben Klitgaard from BLOXHUB. \n🔸 16:00 BLOXHUB Bar\nA social afternoon refreshment.\n \nFind more information about the Building Green Conference and find FREE tickets here: https://buildinggreen.eu/cph/ \nWe hope to see you! \n 
URL:https://bloxhub.org/event/visit-bloxhub-at-building-green-conference/
LOCATION:Forum\, Julius Thomsens plads 1\, Copenhagen\, 1925\, Denmark
ATTACH;FMTTYPE=image/png:https://bloxhub.org/wp-content/uploads/2022/09/Skaermbillede-2022-09-20-kl.-22.31.45.png
END:VEVENT
BEGIN:VEVENT
DTSTART;TZID=Europe/Copenhagen:20221103T150000
DTEND;TZID=Europe/Copenhagen:20221103T160000
DTSTAMP:20260422T165149
CREATED:20220926T075050Z
LAST-MODIFIED:20221020T125934Z
UID:27295-1667487600-1667491200@bloxhub.org
SUMMARY:Science Talks with Saskia van der Muijsenberg
DESCRIPTION:JOIN US for the next Science Talks with Saskia van der Muijsenberg \nAt this Science Talk on November 3rd\, we’ll be joined by Saskia van der Muijsenberg who is one of the founders of biomimicryNL and the first Certified Biomimicry Professional in the Netherlands with more than 20 years of experience in biomimicry\, strategic innovation\, change management and marketing & communication. She has worked for various Fortune 500 companies and catalyze innovation by letting others discover design strategies from nature\, develop them further and then translate them into real business opportunities. \nModerator: Pernille Berg\, Science Director at BLOXHUB \n______ \nWith Science Talks\, BLOXHUB invites you to participate and engage with researchers. Each Science Talk presents a current research topic that contributes to the many discussions amongst decision-makers\, practitioners\, and researchers. \nIn other words\, Science Talks are IN-DEPTH KNOWLEDGE ON TRENDING TOPICS – ON DEMAND. \nSign up here:\n \n  \n  \n 
URL:https://bloxhub.org/event/science-talks-with-saskia-van-der-muijsenberg/
LOCATION:BLOXHUB or ONLINE\, Bryghuspladsen 8\, 3rd floor\, Copenhagen\, 1473\, Denmark
ATTACH;FMTTYPE=image/png:https://bloxhub.org/wp-content/uploads/2022/09/Backdrop-til-15-SEP.png
END:VEVENT
BEGIN:VEVENT
DTSTART;TZID=Europe/Copenhagen:20221106T130000
DTEND;TZID=Europe/Copenhagen:20221106T180000
DTSTAMP:20260422T165149
CREATED:20221019T131616Z
LAST-MODIFIED:20221019T131928Z
UID:27664-1667739600-1667757600@bloxhub.org
SUMMARY:Seminar: How architecture can contribute to building back better?
DESCRIPTION:Join us for the Seminar: How architecture can contribute to building back better? \nAs the war continues to devastate the Ukrainian society the challenge of rebuilding the country grows. The Ukrainian population faces immediate threats for the coming winter and while the long-term consequences of the war are still impossible to foresee\, it is apparent that the rebuild of Ukraine will call for an international collaborative effort. \nAs architects and stakeholders in the built environment we have a significant role to play in ensuring a rebuild that is both strategic\, socially responsible\, and sustainable. In this seminar we hope to begin an international collective commitment with the ambition of building Ukraine back better. \nSee invitation and program HERE \nPlease sign up here:\nz
URL:https://bloxhub.org/event/seminar-how-architecture-can-contribute-to-building-back-better/
ATTACH;FMTTYPE=image/png:https://bloxhub.org/wp-content/uploads/2022/10/ReUk_invite_16.91.png
END:VEVENT
BEGIN:VEVENT
DTSTART;TZID=Europe/Copenhagen:20221109T083000
DTEND;TZID=Europe/Copenhagen:20221109T093000
DTSTAMP:20260422T165149
CREATED:20220708T140006Z
LAST-MODIFIED:20221031T075324Z
UID:26130-1667982600-1667986200@bloxhub.org
SUMMARY:BLOXHUB Breakfast
DESCRIPTION:A monthly social breakfast in BLOXHUB Members Lounge – For members and residents only. \nHow to sign up?\nResidents: Please sign up via spaceOS\nMembers: Please send an email to event@bloxhub.org
URL:https://bloxhub.org/event/bloxhub-breakfast-10/
LOCATION:BLOXHUB Members Lounge\, Bryghuspladsen 8\, 3rd floor\, Copenhagen\, Copenhagen\, 1473\, Denmark
CATEGORIES:Members Only,Residents Only
ATTACH;FMTTYPE=image/png:https://bloxhub.org/wp-content/uploads/2022/02/Breakfast.png
END:VEVENT
BEGIN:VEVENT
DTSTART;TZID=Europe/Copenhagen:20221114T080000
DTEND;TZID=Europe/Copenhagen:20221114T170000
DTSTAMP:20260422T165149
CREATED:20220926T091446Z
LAST-MODIFIED:20220926T091854Z
UID:27340-1668412800-1668445200@bloxhub.org
SUMMARY:BLOXHUB @ Smart City Expo World Congress
DESCRIPTION:The Smart City Expo World Congress (SCEWC) in Barcelona gathers companies\, decision-makers\, and innovators in what is one of the pivotal global events for smart and livable cities. The Nordic Pavilion at the SCEWC is recognized as an attractive platform for expo participants. In recent years\, a Smart City Business Forum has been organized by Cleantech Scandinavia together with the Netherlands Enterprise Agency on the day leading up to the Expo. In 2022\, the focus of the Business Forum will be on the EU’s 100 Climate-Neutral and Smart Cities\, in collaboration with Spanish partner organizations. \nAs part of the Business Forum on 14 November\, the Danish expo partnership – BLOXHUB\, We Build Denmark\, Digital Lead\, State of Green – will conduct a half-day innovation workshop\, which will be based on a specific case from Madrid or Barcelona\, and it will explore how the EU mission can be a catalyzer for new types of business models based on healthy\, green living in the case city. The workshop is an opportunity to engage with new European colleagues and generate ideas and partnerships\, which bring you closer to understanding the business opportunities within the pan-European partnership building between mission cities. \nThe workshop will be facilitated based on the methodology of Design Thinking by the experienced BLOXHUB innovation workshop program\, Urban Partnerships. Participants will represent cities\, researchers\, and companies with different perspectives on smart city development. During the workshop\, various platforms for further collaboration will be formulated for further action. \nWould you like to join? Please contact Program Manager at BLOXHUB Torben Krab: +45 51624031 / tkr@bloxhub.org \nRead more about the expo HERE
URL:https://bloxhub.org/event/bloxhub-smart-city-expo-world-congress/
LOCATION:Barcelona\, Spain
CATEGORIES:Workshop
ATTACH;FMTTYPE=image/gif:https://bloxhub.org/wp-content/uploads/2022/09/336x280.gif
END:VEVENT
BEGIN:VEVENT
DTSTART;TZID=Europe/Copenhagen:20221128T083000
DTEND;TZID=Europe/Copenhagen:20221128T123000
DTSTAMP:20260422T165149
CREATED:20221116T120710Z
LAST-MODIFIED:20221123T100903Z
UID:27848-1669624200-1669638600@bloxhub.org
SUMMARY:Dignity in the Built Environment
DESCRIPTION:There are bold ambitions underway in Europe to address climate change in the built environment. The focus is on reducing the impacts of materials\, shifting to renewable energy sources\, increasing energy efficiency\, and strengthening resilience.  \nThe implications of the Ukraine-Russia conflict have highlighted the importance of these efforts in the region. All of these processes can be done in a way that continues to deepen inequality and undermines human rights\, or in a way that pursues a pathway that advances a “just transition” by expanding social opportunities.  \nThis session will deepen understanding of the what & how of social risks and opportunities in the built environment with the internationally-recognized Human Rights Framework as a starting point. \n\nPROGRAM: \n08.30 Arrivals and coffee \n9.00 Setting the Scene: Introducing session topics \n\nWelcome by Torben Klitgaard (BLOXHUB) \nPresentations by Morten Kjærum (RWI)\, John Morrison (IHRB)\,\nAndreia Fidalgo (IHRB Nordic)\, Alice Haugh (Laudes Foundation)\, and Jostein Kobbeltvedt (Rafto Foundation) \nDiscussion with Q&A\n\n10.00 Let’s get concrete: What does this mean in practice\, and what examples \nshowcase dignity in the built environment? \n\nPanel Conversation with Jostein Kobbeltvedt (Rafto Foundation)\, Asal Mohtashami (AIM-byliv)\, Danila Lampis (Spacelab Arkitekter)\, and Michael Ulfstjerne (Emergency Architecture)\n\n10.30 Break & Networking \n10.50 Nordic innovations in social inclusion in the built environment \n\nPanel Conversation with Emil Lassen (Home.Earth)\, Moa Sundberg (Helsingborg Municipality)\, Torben Klitgaard (BLOXHUB)\, and Ulrika Signal (Tengbom)\n\n11.20 ”Just transition” in the built environment \n\nPanel Conversation with Curt Liliegreen (The Knowledge Centre for Housing Economics\, Realdania)\, Troels Bulow-Olsen (AP Ejendomme)\, Christine Rasmunsen (Rambøll Management Consulting)\, Claus Højte (LLO)\, and Ivone Martins (EEA)\n\n\n11.50 Group Work \n\nWhat would you like to see more of / less of from the public sector\, from the private sector\, from the civil society\, and from academia to support the ”just transition” in the built environment?\n\n12.10 Closing & Networking \nSIGN UP HERE:
URL:https://bloxhub.org/event/dignity-in-the-built-environment/
LOCATION:BLOXHUB Arena\, Bryghuspladsen 8\, Entrance C\, 3rd floor\, Copenhagen\, 1473
ATTACH;FMTTYPE=image/jpeg:https://bloxhub.org/wp-content/uploads/2022/11/56-1-scaled.jpg
END:VEVENT
BEGIN:VEVENT
DTSTART;TZID=Europe/Copenhagen:20221129T090000
DTEND;TZID=Europe/Copenhagen:20221129T110000
DTSTAMP:20260422T165149
CREATED:20221023T203503Z
LAST-MODIFIED:20221023T203503Z
UID:27694-1669712400-1669719600@bloxhub.org
SUMMARY:Online Roundtable on Developing City Districts for Children
DESCRIPTION:According to UNICEF\, “Every child has the right to grow up in a place where they are respected\, valued and feel safe\, where they have access to basic services and can play\, learn\, grow in a clean and healthy environment where their voice is heard and matters”. Communities are crucial for our development\, well-being\, and health – not least the children’s. And activity and play are crucial for children’s physical and cognitive development and interaction with others. So\, can we develop city districts\, from a child’s perspective\, and supports communities for all ages\, and how can Danish and Chinese companies support each other in this regard?  \nAt this Roundtable\, we will discuss and share knowledge and ideas on:  \n\nHow to develop city districts to be experienced as friendly from a child’s perspective? \nWhether\, by establishing a city district that meets the children’s wishes and needs\, we can strengthen the community among all inhabitants? \nWhat additional benefits there can be from this approach? \n\nPROGRAM \nWelcome and intro\, Lotte Breengaard\, Program Director\, BLOXHUB\nIntroduction of Innovation Centre Denmark\, Martin Hoxer\, Executive Director\, ICDK Shanghai\n”Tour de table”\, Presentation of all\nIntroduction to the theme of child friendly cities\nPerspectives on the idea “urban development from a child´s perspective in China”\nDiscussion:\n \n\nHow to develop a city district to be experienced as friendly from child perspective \nWhether\, by establishing a city district that meets the children’s wishes and needs\, we can strengthen the community among all inhabitants \nWhat additional benefits there can be from this approach \n\nHow can Danish and Chinese companies support each other with this approach?\nSum up\, Lotte Breengaard and Martin Hoxer  \nPlease contact Program Director Lotte Christina Breengaard if you would like to join:\nm   +45 2268 4643\ne    lcb@bloxhub.org
URL:https://bloxhub.org/event/online-roundtable-on-developing-city-districts-for-children/
CATEGORIES:BLOXHUB Roundtable,Members Only
ATTACH;FMTTYPE=image/jpeg:https://bloxhub.org/wp-content/uploads/2022/10/City-Districts_ICDK_web-scaled.jpg
END:VEVENT
BEGIN:VEVENT
DTSTART;TZID=Europe/Copenhagen:20221129T140000
DTEND;TZID=Europe/Copenhagen:20221129T170000
DTSTAMP:20260422T165149
CREATED:20221116T121632Z
LAST-MODIFIED:20221128T124644Z
UID:27839-1669730400-1669741200@bloxhub.org
SUMMARY:REGENERATE Future
DESCRIPTION:Copenhagen Institute for Futures Studies and BLOXHUB invite you to the final event in the series Regenerate Now\, and our continued exploration of a regenerative world and the reimagination of our cities.  \nTo regenerate means not only to do less harm\, but to become a positive force that restore\, renew\, regrow\, and revitalise and that give back more than we take\, just like the many ecological systems we can find and experience in nature. Through the previous events we have discussed how to regenerate our cities\, culture and architecture and explored how we can create a regenerative world that works within the planetary boundaries and ecological systems.   \nIn this event\, we look towards the future and explore how we can move towards a regenerative transformation of our planet and what action we can take today to create a world where humankind\, nature and our cities can all thrive and flourish both now and for future generations.    \nGet enlightened by experts through a talk and a panel discussion: \nStefano Ponte\, professor of International Political Economy at Copenhagen Business School. Stefano is primarily interested in transnational economic and environmental governance\, with focus on overlaps and tensions between private authority and public regulation and conducts research on global value chains and sustainability.  \nGeanne Van Arkel\, chair of the supervisory board of Thematic Technology Transfer on circular technology and a fellow of the Governance & Sustainability Center at The Conference Board. Geanne works in the field of regenerative strategic business development based on holistic system thinking and biomimicry design thinking.  \nArthur Huang\, Co-founder\, and CEO of Miniwiz. Arthur is a structural engineer\, architect and pioneer of loop economy building material solutions\, specialized in post-consumer trash recycling applications to help shift mass consumption to a close-loop model.   \nFinn Williams\, City Architect of Malmö. Finn works focus on turning Malmö into a role model for inclusive urban development in the future with long-term and sustainable architecture and urban planning and democratic design.  \nWhere: Livestream / DAC Salen\, Bryghusgade 8\, Copenhagen (HYBRID) \nSee invitation and program HERE \nSign up here:
URL:https://bloxhub.org/event/grand-lecture-science-talk-regenerate-future-pt-2/
LOCATION:Danish Architecture Center – DAC\, Bryghuspladsen 10\, 1473\, 1473\, Danmark
ATTACH;FMTTYPE=image/jpeg:https://bloxhub.org/wp-content/uploads/2022/11/REGENERATE-Future-backdrop96-scaled.jpg
END:VEVENT
BEGIN:VEVENT
DTSTART;TZID=Europe/Copenhagen:20221130T150000
DTEND;TZID=Europe/Copenhagen:20221130T180000
DTSTAMP:20260422T165149
CREATED:20221123T103406Z
LAST-MODIFIED:20221123T103442Z
UID:27947-1669820400-1669831200@bloxhub.org
SUMMARY:BLOXHUB X-MAS BAR
DESCRIPTION:For BLOXHUB Residents only. \nEmbracing a classic BLOXHUB tradition – we invite you to help us decorate our Members Lounge and circular x-mas tree. \nSo\, join in with your fellow BLOXHUB´ERS in creating a true x-mas spirit in combination with the opportunity to watch the soccer match between Denmark and Australia.
URL:https://bloxhub.org/event/27947/
LOCATION:BLOXHUB Members Lounge\, Bryghuspladsen 8\, 3rd floor\, Copenhagen\, Copenhagen\, 1473\, Denmark
ATTACH;FMTTYPE=image/jpeg:https://bloxhub.org/wp-content/uploads/2022/11/91-scaled.jpg
END:VEVENT
END:VCALENDAR