BEGIN:VCALENDAR
VERSION:2.0
PRODID:-//BLOXHUB - ECPv6.15.18//NONSGML v1.0//EN
CALSCALE:GREGORIAN
METHOD:PUBLISH
X-ORIGINAL-URL:https://bloxhub.org
X-WR-CALDESC:Events for BLOXHUB
REFRESH-INTERVAL;VALUE=DURATION:PT1H
X-Robots-Tag:noindex
X-PUBLISHED-TTL:PT1H
BEGIN:VTIMEZONE
TZID:Europe/Copenhagen
BEGIN:DAYLIGHT
TZOFFSETFROM:+0100
TZOFFSETTO:+0200
TZNAME:CEST
DTSTART:20220327T010000
END:DAYLIGHT
BEGIN:STANDARD
TZOFFSETFROM:+0200
TZOFFSETTO:+0100
TZNAME:CET
DTSTART:20221030T010000
END:STANDARD
BEGIN:DAYLIGHT
TZOFFSETFROM:+0100
TZOFFSETTO:+0200
TZNAME:CEST
DTSTART:20230326T010000
END:DAYLIGHT
BEGIN:STANDARD
TZOFFSETFROM:+0200
TZOFFSETTO:+0100
TZNAME:CET
DTSTART:20231029T010000
END:STANDARD
BEGIN:DAYLIGHT
TZOFFSETFROM:+0100
TZOFFSETTO:+0200
TZNAME:CEST
DTSTART:20240331T010000
END:DAYLIGHT
BEGIN:STANDARD
TZOFFSETFROM:+0200
TZOFFSETTO:+0100
TZNAME:CET
DTSTART:20241027T010000
END:STANDARD
END:VTIMEZONE
BEGIN:VEVENT
DTSTART;TZID=Europe/Copenhagen:20230125T090000
DTEND;TZID=Europe/Copenhagen:20230125T140000
DTSTAMP:20260422T130333
CREATED:20230103T135438Z
LAST-MODIFIED:20230105T151448Z
UID:28558-1674637200-1674655200@bloxhub.org
SUMMARY:Sustainable Renovation & Facility Management in Sweden & Denmark
DESCRIPTION:Together with WE BUILD DENMARK\, The Danish Embassy in Stockholm\, and PropTech Denmark\, BLOXHUB would like to invite you to a workshop on sustainable renovation and facility management. \nWe will welcome a Swedish delegation of decision-makers from Helsingborgs-Hem\, Riksbyggen\, Örebro Bostäder\, Stena Fastigheter\, and Familjebostäder Stockholm\, who are here on a two-day trip to discuss energy renovation and  sustainable facility management of affordable housing buildings and take a deep dive into the challenge of: \nHow can we sustainably renovate and manage affordable housing facilities and deliver on housing quality\, climate goals\, energy requirements\, and economic budgets? \nCutting-edge technology solutions with a documented high impact on reducing CO2 emission are often expensive with a long RoI perspective. Consequently\, these solutions often fall due to budget restraints. An important challenge in securing the most effective energy renovation of buildings is therefore to develop new financing mechanisms and contract models\, which can increase the incentives for investing in the most CO2-reducing technologies. \nThe workshop will be a facilitated process with a mix of inspirational talks\, interdisciplinary group discussions\, and co-creation sessions. \nWould you like to join? Please reach out to Program Manager at BLOXHUB Torben Krab for further information about the workshop and how to register: +45 51624031 / tkr@bloxhub.org \n 
URL:https://bloxhub.org/event/sustainable-renovation-facility-management-in-sweden-denmark/
LOCATION:Eigtveds Pakhus\, Asiatisk Plads (room 4)\, Copenhagen\, 1448\, Denmark
CATEGORIES:Workshop
ATTACH;FMTTYPE=image/png:https://bloxhub.org/wp-content/uploads/2023/01/BLOXHUB-workshop_Sustain-renovation_facility-Manag.png
END:VEVENT
BEGIN:VEVENT
DTSTART;TZID=Europe/Copenhagen:20230126T150000
DTEND;TZID=Europe/Copenhagen:20230126T170000
DTSTAMP:20260422T130333
CREATED:20230110T113045Z
LAST-MODIFIED:20230110T113045Z
UID:28771-1674745200-1674752400@bloxhub.org
SUMMARY:LAUNCH of Urban Hub Europe
DESCRIPTION:Dear BLOXHUB member\, partner & network! \nWe are thrilled to invite you to the launch of a new cross-European initiative by BLOXHUB and close European partners: Urban Hub Europe – a united force of innovative European organisations creating better and sustainable cities across borders. \nTogether the partners represents a vast network across Europe and aim to accelerate collaboration and impact on our urban future on a highly operational level. \nJoin us to hear more about how to benefit from the network and get in contact with partners\, network and business opportunities across Europe. \nMeet Urban Hub Europe partners from:\nKIRAHub (Finland)\, Smart City Cluster (Spain)\, Munich Urban Colab (Germany)\, Estonian digital construction cluster (Estonia)\, BLOXHUB & ConTech Lab (Denmark) \nSign up here:
URL:https://bloxhub.org/event/launch-of-urban-hub-europe/
LOCATION:BLOXHUB Arena\, Bryghuspladsen 8\, Entrance C\, 3rd floor\, Copenhagen\, 1473
ATTACH;FMTTYPE=image/jpeg:https://bloxhub.org/wp-content/uploads/2023/01/100-scaled.jpg
END:VEVENT
BEGIN:VEVENT
DTSTART;TZID=Europe/Copenhagen:20230126T160000
DTEND;TZID=Europe/Copenhagen:20230126T180000
DTSTAMP:20260422T130333
CREATED:20230115T200322Z
LAST-MODIFIED:20230118T072842Z
UID:28975-1674748800-1674756000@bloxhub.org
SUMMARY:BLOXHUB Bubble Bar
DESCRIPTION:JOIN your colleagues for BLOXHUB Bubble Bar to celebrate New Year together.\nMeet other members from the community and share bubbles & business 🙂 \nNo need to sign up. See you in Members Lounge.
URL:https://bloxhub.org/event/bloxhub-bubble-bar/
LOCATION:BLOXHUB Members Lounge\, Bryghuspladsen 8\, 3rd floor\, Copenhagen\, Copenhagen\, 1473\, Denmark
ATTACH;FMTTYPE=image/png:https://bloxhub.org/wp-content/uploads/2021/09/BAR.png
END:VEVENT
END:VCALENDAR